BEGIN:VCALENDAR
VERSION:2.0
PRODID:-//Race Time - ECPv6.15.13//NONSGML v1.0//EN
CALSCALE:GREGORIAN
METHOD:PUBLISH
X-ORIGINAL-URL:https://www.racetime.info
X-WR-CALDESC:Events for Race Time
REFRESH-INTERVAL;VALUE=DURATION:PT1H
X-Robots-Tag:noindex
X-PUBLISHED-TTL:PT1H
BEGIN:VTIMEZONE
TZID:America/Chicago
BEGIN:DAYLIGHT
TZOFFSETFROM:-0600
TZOFFSETTO:-0500
TZNAME:CDT
DTSTART:20140309T080000
END:DAYLIGHT
BEGIN:STANDARD
TZOFFSETFROM:-0500
TZOFFSETTO:-0600
TZNAME:CST
DTSTART:20141102T070000
END:STANDARD
BEGIN:DAYLIGHT
TZOFFSETFROM:-0600
TZOFFSETTO:-0500
TZNAME:CDT
DTSTART:20150308T080000
END:DAYLIGHT
BEGIN:STANDARD
TZOFFSETFROM:-0500
TZOFFSETTO:-0600
TZNAME:CST
DTSTART:20151101T070000
END:STANDARD
BEGIN:DAYLIGHT
TZOFFSETFROM:-0600
TZOFFSETTO:-0500
TZNAME:CDT
DTSTART:20160313T080000
END:DAYLIGHT
BEGIN:STANDARD
TZOFFSETFROM:-0500
TZOFFSETTO:-0600
TZNAME:CST
DTSTART:20161106T070000
END:STANDARD
BEGIN:DAYLIGHT
TZOFFSETFROM:-0600
TZOFFSETTO:-0500
TZNAME:CDT
DTSTART:20170312T080000
END:DAYLIGHT
BEGIN:STANDARD
TZOFFSETFROM:-0500
TZOFFSETTO:-0600
TZNAME:CST
DTSTART:20171105T070000
END:STANDARD
BEGIN:DAYLIGHT
TZOFFSETFROM:-0600
TZOFFSETTO:-0500
TZNAME:CDT
DTSTART:20180311T080000
END:DAYLIGHT
BEGIN:STANDARD
TZOFFSETFROM:-0500
TZOFFSETTO:-0600
TZNAME:CST
DTSTART:20181104T070000
END:STANDARD
BEGIN:DAYLIGHT
TZOFFSETFROM:-0600
TZOFFSETTO:-0500
TZNAME:CDT
DTSTART:20190310T080000
END:DAYLIGHT
BEGIN:STANDARD
TZOFFSETFROM:-0500
TZOFFSETTO:-0600
TZNAME:CST
DTSTART:20191103T070000
END:STANDARD
BEGIN:DAYLIGHT
TZOFFSETFROM:-0600
TZOFFSETTO:-0500
TZNAME:CDT
DTSTART:20200308T080000
END:DAYLIGHT
BEGIN:STANDARD
TZOFFSETFROM:-0500
TZOFFSETTO:-0600
TZNAME:CST
DTSTART:20201101T070000
END:STANDARD
BEGIN:DAYLIGHT
TZOFFSETFROM:-0600
TZOFFSETTO:-0500
TZNAME:CDT
DTSTART:20210314T080000
END:DAYLIGHT
BEGIN:STANDARD
TZOFFSETFROM:-0500
TZOFFSETTO:-0600
TZNAME:CST
DTSTART:20211107T070000
END:STANDARD
BEGIN:DAYLIGHT
TZOFFSETFROM:-0600
TZOFFSETTO:-0500
TZNAME:CDT
DTSTART:20220313T080000
END:DAYLIGHT
BEGIN:STANDARD
TZOFFSETFROM:-0500
TZOFFSETTO:-0600
TZNAME:CST
DTSTART:20221106T070000
END:STANDARD
BEGIN:DAYLIGHT
TZOFFSETFROM:-0600
TZOFFSETTO:-0500
TZNAME:CDT
DTSTART:20230312T080000
END:DAYLIGHT
BEGIN:STANDARD
TZOFFSETFROM:-0500
TZOFFSETTO:-0600
TZNAME:CST
DTSTART:20231105T070000
END:STANDARD
BEGIN:DAYLIGHT
TZOFFSETFROM:-0600
TZOFFSETTO:-0500
TZNAME:CDT
DTSTART:20240310T080000
END:DAYLIGHT
BEGIN:STANDARD
TZOFFSETFROM:-0500
TZOFFSETTO:-0600
TZNAME:CST
DTSTART:20241103T070000
END:STANDARD
BEGIN:DAYLIGHT
TZOFFSETFROM:-0600
TZOFFSETTO:-0500
TZNAME:CDT
DTSTART:20250309T080000
END:DAYLIGHT
BEGIN:STANDARD
TZOFFSETFROM:-0500
TZOFFSETTO:-0600
TZNAME:CST
DTSTART:20251102T070000
END:STANDARD
END:VTIMEZONE
BEGIN:VEVENT
DTSTART;TZID=America/Chicago:20240824T090000
DTEND;TZID=America/Chicago:20240824T103000
DTSTAMP:20260423T225544
CREATED:20170726T115546Z
LAST-MODIFIED:20240824T182131Z
UID:10000738-1724490000-1724495400@www.racetime.info
SUMMARY:St. Stephen's 5K Run/Walk
DESCRIPTION:St. Stephen 5K Age Group Results\n\nSt. Stephen 5K Overall Results
URL:https://www.racetime.info/event/copy-of-st-stephens-5k-run-walk-to-help-those-in-need/
LOCATION:St. Stephen’s Deacon & Martyr Catholic Church\, 17500 South 84th Avenue\, Tinley Park\, IL\, 60487\, United States
CATEGORIES:2024-08 Results (August)
ORGANIZER;CN="Eamon Allbee":MAILTO:ststephen25year5k@gmail.com
GEO:41.572114;-87.8232614
X-APPLE-STRUCTURED-LOCATION;VALUE=URI;X-ADDRESS=St. Stephen’s Deacon & Martyr Catholic Church 17500 South 84th Avenue Tinley Park IL 60487 United States;X-APPLE-RADIUS=500;X-TITLE=17500 South 84th Avenue:geo:-87.8232614,41.572114
END:VEVENT
BEGIN:VEVENT
DTSTART;TZID=America/Chicago:20170916T090000
DTEND;TZID=America/Chicago:20170916T110000
DTSTAMP:20260423T225544
CREATED:20170726T115546Z
LAST-MODIFIED:20170917T175432Z
UID:10000736-1505552400-1505559600@www.racetime.info
SUMMARY:St. Stephen's 5K Run/Walk To Help Those In Need
DESCRIPTION:St. Stephen’s Run To Help Those In Need 5K Age Group Results\n\nSt. Stephen’s Run To Help Those In Need 5K Overall Results
URL:https://www.racetime.info/event/st-stephens-5k-runwalk-to-help-those-in-need/
LOCATION:St. Stephen’s Deacon & Martyr Catholic Church\, 17500 South 84th Avenue\, Tinley Park\, IL\, 60487\, United States
CATEGORIES:2017-09 Results (September)
ORGANIZER;CN="Eamon Allbee":MAILTO:ststephen25year5k@gmail.com
GEO:41.572114;-87.8232614
X-APPLE-STRUCTURED-LOCATION;VALUE=URI;X-ADDRESS=St. Stephen’s Deacon & Martyr Catholic Church 17500 South 84th Avenue Tinley Park IL 60487 United States;X-APPLE-RADIUS=500;X-TITLE=17500 South 84th Avenue:geo:-87.8232614,41.572114
END:VEVENT
BEGIN:VEVENT
DTSTART;TZID=America/Chicago:20160917T090000
DTEND;TZID=America/Chicago:20160917T110000
DTSTAMP:20260423T225544
CREATED:20160729T181904Z
LAST-MODIFIED:20160917T184443Z
UID:10000746-1474102800-1474110000@www.racetime.info
SUMMARY:St. Stephen's 5K  "To Help Those In Need"
DESCRIPTION:St. Stephen’s Run For Those In Need Age Group Results\n\nSt. Stephen’s Run For Those In Need Overall Results
URL:https://www.racetime.info/event/st-stephens-5k-to-help-those-in-need/
LOCATION:St. Stephen’s Deacon & Martyr Catholic Church\, 17500 South 84th Avenue\, Tinley Park\, IL\, 60487\, United States
CATEGORIES:2016-09 Results (September)
ORGANIZER;CN="Eamon Allbee":MAILTO:ststephen25year5k@gmail.com
GEO:41.572114;-87.8232614
X-APPLE-STRUCTURED-LOCATION;VALUE=URI;X-ADDRESS=St. Stephen’s Deacon & Martyr Catholic Church 17500 South 84th Avenue Tinley Park IL 60487 United States;X-APPLE-RADIUS=500;X-TITLE=17500 South 84th Avenue:geo:-87.8232614,41.572114
END:VEVENT
BEGIN:VEVENT
DTSTART;TZID=America/Chicago:20150912T080000
DTEND;TZID=America/Chicago:20150912T110000
DTSTAMP:20260423T225544
CREATED:20150901T175603Z
LAST-MODIFIED:20150912T202827Z
UID:10000399-1442044800-1442055600@www.racetime.info
SUMMARY:St. Stephen's 5K Run/Walk for the Cross
DESCRIPTION:Run For The Cross 5K Age Group Results\n\nRun For The Cross 5K Overall Results
URL:https://www.racetime.info/event/st-stephens-5k-runwalk-for-the-cross/
LOCATION:St. Stephen’s Deacon & Martyr Catholic Church\, 17500 South 84th Avenue\, Tinley Park\, IL\, 60487\, United States
CATEGORIES:2015-09 Results (September)
ORGANIZER;CN="Eamon Allbee":MAILTO:ststephen25year5k@gmail.com
GEO:41.572114;-87.8232614
X-APPLE-STRUCTURED-LOCATION;VALUE=URI;X-ADDRESS=St. Stephen’s Deacon & Martyr Catholic Church 17500 South 84th Avenue Tinley Park IL 60487 United States;X-APPLE-RADIUS=500;X-TITLE=17500 South 84th Avenue:geo:-87.8232614,41.572114
END:VEVENT
END:VCALENDAR