BEGIN:VCALENDAR
VERSION:2.0
PRODID:-//Race Time - ECPv6.15.13//NONSGML v1.0//EN
CALSCALE:GREGORIAN
METHOD:PUBLISH
X-WR-CALNAME:Race Time
X-ORIGINAL-URL:https://www.racetime.info
X-WR-CALDESC:Events for Race Time
REFRESH-INTERVAL;VALUE=DURATION:PT1H
X-Robots-Tag:noindex
X-PUBLISHED-TTL:PT1H
BEGIN:VTIMEZONE
TZID:America/Chicago
BEGIN:DAYLIGHT
TZOFFSETFROM:-0600
TZOFFSETTO:-0500
TZNAME:CDT
DTSTART:20140309T080000
END:DAYLIGHT
BEGIN:STANDARD
TZOFFSETFROM:-0500
TZOFFSETTO:-0600
TZNAME:CST
DTSTART:20141102T070000
END:STANDARD
BEGIN:DAYLIGHT
TZOFFSETFROM:-0600
TZOFFSETTO:-0500
TZNAME:CDT
DTSTART:20150308T080000
END:DAYLIGHT
BEGIN:STANDARD
TZOFFSETFROM:-0500
TZOFFSETTO:-0600
TZNAME:CST
DTSTART:20151101T070000
END:STANDARD
BEGIN:DAYLIGHT
TZOFFSETFROM:-0600
TZOFFSETTO:-0500
TZNAME:CDT
DTSTART:20160313T080000
END:DAYLIGHT
BEGIN:STANDARD
TZOFFSETFROM:-0500
TZOFFSETTO:-0600
TZNAME:CST
DTSTART:20161106T070000
END:STANDARD
BEGIN:DAYLIGHT
TZOFFSETFROM:-0600
TZOFFSETTO:-0500
TZNAME:CDT
DTSTART:20170312T080000
END:DAYLIGHT
BEGIN:STANDARD
TZOFFSETFROM:-0500
TZOFFSETTO:-0600
TZNAME:CST
DTSTART:20171105T070000
END:STANDARD
BEGIN:DAYLIGHT
TZOFFSETFROM:-0600
TZOFFSETTO:-0500
TZNAME:CDT
DTSTART:20180311T080000
END:DAYLIGHT
BEGIN:STANDARD
TZOFFSETFROM:-0500
TZOFFSETTO:-0600
TZNAME:CST
DTSTART:20181104T070000
END:STANDARD
BEGIN:DAYLIGHT
TZOFFSETFROM:-0600
TZOFFSETTO:-0500
TZNAME:CDT
DTSTART:20190310T080000
END:DAYLIGHT
BEGIN:STANDARD
TZOFFSETFROM:-0500
TZOFFSETTO:-0600
TZNAME:CST
DTSTART:20191103T070000
END:STANDARD
BEGIN:DAYLIGHT
TZOFFSETFROM:-0600
TZOFFSETTO:-0500
TZNAME:CDT
DTSTART:20200308T080000
END:DAYLIGHT
BEGIN:STANDARD
TZOFFSETFROM:-0500
TZOFFSETTO:-0600
TZNAME:CST
DTSTART:20201101T070000
END:STANDARD
BEGIN:DAYLIGHT
TZOFFSETFROM:-0600
TZOFFSETTO:-0500
TZNAME:CDT
DTSTART:20210314T080000
END:DAYLIGHT
BEGIN:STANDARD
TZOFFSETFROM:-0500
TZOFFSETTO:-0600
TZNAME:CST
DTSTART:20211107T070000
END:STANDARD
END:VTIMEZONE
BEGIN:VEVENT
DTSTART;TZID=America/Chicago:20201025T080000
DTEND;TZID=America/Chicago:20201025T103000
DTSTAMP:20260424T001230
CREATED:20180706T174207Z
LAST-MODIFIED:20201223T124346Z
UID:10000986-1603612800-1603621800@www.racetime.info
SUMMARY:St. Gerald Great Pumpkin 5K Run/Walk : VIRTUAL
DESCRIPTION:Giant Pumpkin Virtual 5K Overall Results
URL:https://www.racetime.info/event/st-gerald-great-pumpkin-5k-run-walk-little-pumpkin-obstacle-2/
LOCATION:St. Gerald Parish and School\, 9310 South 55th Court\, Oak Lawn\, IL\, 60453\, United States
CATEGORIES:2020-10 Results (October)
ORGANIZER;CN="Debbie Janicke":MAILTO:development@stgerald.com
GEO:41.7221325;-87.7599577
X-APPLE-STRUCTURED-LOCATION;VALUE=URI;X-ADDRESS=St. Gerald Parish and School 9310 South 55th Court Oak Lawn IL 60453 United States;X-APPLE-RADIUS=500;X-TITLE=9310 South 55th Court:geo:-87.7599577,41.7221325
END:VEVENT
BEGIN:VEVENT
DTSTART;TZID=America/Chicago:20191026T080000
DTEND;TZID=America/Chicago:20191026T103000
DTSTAMP:20260424T001230
CREATED:20180706T174207Z
LAST-MODIFIED:20191026T183234Z
UID:10000985-1572076800-1572085800@www.racetime.info
SUMMARY:St. Gerald Great Pumpkin 5K Run/Walk & Little Pumpkin Obstacle
DESCRIPTION:St. Gerald Great Pumpkin 5K Age Group Results\n\nSt. Gerald Great Pumpkin 5K Overall Results
URL:https://www.racetime.info/event/st-gerald-great-pumpkin-5k-run-walk-little-pumpkin-obstacle/
LOCATION:St. Gerald Parish and School\, 9310 South 55th Court\, Oak Lawn\, IL\, 60453\, United States
CATEGORIES:2019-10 Results (October)
ORGANIZER;CN="Debbie Janicke":MAILTO:development@stgerald.com
GEO:41.7221325;-87.7599577
X-APPLE-STRUCTURED-LOCATION;VALUE=URI;X-ADDRESS=St. Gerald Parish and School 9310 South 55th Court Oak Lawn IL 60453 United States;X-APPLE-RADIUS=500;X-TITLE=9310 South 55th Court:geo:-87.7599577,41.7221325
END:VEVENT
BEGIN:VEVENT
DTSTART;TZID=America/Chicago:20181027T080000
DTEND;TZID=America/Chicago:20181027T103000
DTSTAMP:20260424T001230
CREATED:20180706T174207Z
LAST-MODIFIED:20181027T183502Z
UID:10000984-1540627200-1540636200@www.racetime.info
SUMMARY:St. Gerald Great Pumpkin 5K Run/Walk & Little Pumpkin Obstacle
DESCRIPTION:St. Gerald Great Pumpkin 5K Age Group Results\n\nSt. Gerald Great Pumpkin 5K Overall Results
URL:https://www.racetime.info/event/giant-pumpkin-5k-run-walk-little-pumpkin-obstacle/
LOCATION:St. Gerald Parish and School\, 9310 South 55th Court\, Oak Lawn\, IL\, 60453\, United States
CATEGORIES:2018-10 Results (October)
ORGANIZER;CN="Debbie Janicke":MAILTO:development@stgerald.com
GEO:41.7221325;-87.7599577
X-APPLE-STRUCTURED-LOCATION;VALUE=URI;X-ADDRESS=St. Gerald Parish and School 9310 South 55th Court Oak Lawn IL 60453 United States;X-APPLE-RADIUS=500;X-TITLE=9310 South 55th Court:geo:-87.7599577,41.7221325
END:VEVENT
BEGIN:VEVENT
DTSTART;TZID=America/Chicago:20151031T080000
DTEND;TZID=America/Chicago:20151031T110000
DTSTAMP:20260424T001230
CREATED:20150909T005939Z
LAST-MODIFIED:20151031T181135Z
UID:10000407-1446278400-1446289200@www.racetime.info
SUMMARY:St. Gerald Great Pumpkin 5K Run/Walk
DESCRIPTION:Great Pumpkin 5K Age Group Results\n\nGreat Pumpkin 5K Overall Results
URL:https://www.racetime.info/event/st-gerald-giant-pumpkin-5k-runwalk/
LOCATION:St. Gerald Parish and School\, 9310 South 55th Court\, Oak Lawn\, IL\, 60453\, United States
CATEGORIES:2015-10 Results (October)
ORGANIZER;CN="Debbie Janicke":MAILTO:development@stgerald.com
GEO:41.7221325;-87.7599577
X-APPLE-STRUCTURED-LOCATION;VALUE=URI;X-ADDRESS=St. Gerald Parish and School 9310 South 55th Court Oak Lawn IL 60453 United States;X-APPLE-RADIUS=500;X-TITLE=9310 South 55th Court:geo:-87.7599577,41.7221325
END:VEVENT
END:VCALENDAR