BEGIN:VCALENDAR
VERSION:2.0
PRODID:-//Race Time - ECPv6.15.13//NONSGML v1.0//EN
CALSCALE:GREGORIAN
METHOD:PUBLISH
X-WR-CALNAME:Race Time
X-ORIGINAL-URL:https://www.racetime.info
X-WR-CALDESC:Events for Race Time
REFRESH-INTERVAL;VALUE=DURATION:PT1H
X-Robots-Tag:noindex
X-PUBLISHED-TTL:PT1H
BEGIN:VTIMEZONE
TZID:America/Chicago
BEGIN:DAYLIGHT
TZOFFSETFROM:-0600
TZOFFSETTO:-0500
TZNAME:CDT
DTSTART:20230312T080000
END:DAYLIGHT
BEGIN:STANDARD
TZOFFSETFROM:-0500
TZOFFSETTO:-0600
TZNAME:CST
DTSTART:20231105T070000
END:STANDARD
BEGIN:DAYLIGHT
TZOFFSETFROM:-0600
TZOFFSETTO:-0500
TZNAME:CDT
DTSTART:20240310T080000
END:DAYLIGHT
BEGIN:STANDARD
TZOFFSETFROM:-0500
TZOFFSETTO:-0600
TZNAME:CST
DTSTART:20241103T070000
END:STANDARD
BEGIN:DAYLIGHT
TZOFFSETFROM:-0600
TZOFFSETTO:-0500
TZNAME:CDT
DTSTART:20250309T080000
END:DAYLIGHT
BEGIN:STANDARD
TZOFFSETFROM:-0500
TZOFFSETTO:-0600
TZNAME:CST
DTSTART:20251102T070000
END:STANDARD
BEGIN:DAYLIGHT
TZOFFSETFROM:-0600
TZOFFSETTO:-0500
TZNAME:CDT
DTSTART:20260308T080000
END:DAYLIGHT
BEGIN:STANDARD
TZOFFSETFROM:-0500
TZOFFSETTO:-0600
TZNAME:CST
DTSTART:20261101T070000
END:STANDARD
END:VTIMEZONE
BEGIN:VEVENT
DTSTART;TZID=America/Chicago:20250517T090000
DTEND;TZID=America/Chicago:20250517T103000
DTSTAMP:20260423T235338
CREATED:20250401T130251Z
LAST-MODIFIED:20250517T160900Z
UID:10002318-1747472400-1747477800@www.racetime.info
SUMMARY:Ducky Dash 5K Walk/Run
DESCRIPTION:Ducky Dash Overall Results\n\nDucky Dash Age Group Results
URL:https://www.racetime.info/event/ducky-dash-5k-walk-run/
LOCATION:Herrick Lake\, Butterfield Road Entrance\, Wheaton\, IL\, 60187\, United States
CATEGORIES:2025-05 Results (May)
ORGANIZER;CN="Debbie Rinella":MAILTO:drinella@nfnetwork.org
END:VEVENT
BEGIN:VEVENT
DTSTART;TZID=America/Chicago:20240518T090000
DTEND;TZID=America/Chicago:20240518T103000
DTSTAMP:20260423T235338
CREATED:20240223T200403Z
LAST-MODIFIED:20240518T164915Z
UID:10002213-1716022800-1716028200@www.racetime.info
SUMMARY:Ducky Dash 5K Walk/Run & Relay
DESCRIPTION:Ducky Dash 5K Overall Results
URL:https://www.racetime.info/event/ducky-dash-5k-walk-run-relay/
LOCATION:Herrick Lake\, Butterfield Road Entrance\, Wheaton\, IL\, 60187\, United States
CATEGORIES:2024-05 Results (May)
ORGANIZER;CN="Debbie Rinella":MAILTO:drinella@nfnetwork.org
END:VEVENT
END:VCALENDAR