BEGIN:VCALENDAR
VERSION:2.0
PRODID:-//Race Time - ECPv6.15.13//NONSGML v1.0//EN
CALSCALE:GREGORIAN
METHOD:PUBLISH
X-ORIGINAL-URL:https://www.racetime.info
X-WR-CALDESC:Events for Race Time
REFRESH-INTERVAL;VALUE=DURATION:PT1H
X-Robots-Tag:noindex
X-PUBLISHED-TTL:PT1H
BEGIN:VTIMEZONE
TZID:America/Chicago
BEGIN:DAYLIGHT
TZOFFSETFROM:-0600
TZOFFSETTO:-0500
TZNAME:CDT
DTSTART:20170312T080000
END:DAYLIGHT
BEGIN:STANDARD
TZOFFSETFROM:-0500
TZOFFSETTO:-0600
TZNAME:CST
DTSTART:20171105T070000
END:STANDARD
BEGIN:DAYLIGHT
TZOFFSETFROM:-0600
TZOFFSETTO:-0500
TZNAME:CDT
DTSTART:20180311T080000
END:DAYLIGHT
BEGIN:STANDARD
TZOFFSETFROM:-0500
TZOFFSETTO:-0600
TZNAME:CST
DTSTART:20181104T070000
END:STANDARD
BEGIN:DAYLIGHT
TZOFFSETFROM:-0600
TZOFFSETTO:-0500
TZNAME:CDT
DTSTART:20190310T080000
END:DAYLIGHT
BEGIN:STANDARD
TZOFFSETFROM:-0500
TZOFFSETTO:-0600
TZNAME:CST
DTSTART:20191103T070000
END:STANDARD
END:VTIMEZONE
BEGIN:VEVENT
DTSTART;TZID=America/Chicago:20180804T080000
DTEND;TZID=America/Chicago:20180804T170000
DTSTAMP:20260424T035300
CREATED:20180215T134345Z
LAST-MODIFIED:20180804T174533Z
UID:10000915-1533369600-1533402000@www.racetime.info
SUMMARY:Run The Farm 5K
DESCRIPTION:Run The Farm 5K Overall Results
URL:https://www.racetime.info/event/run-the-farm-5k/
LOCATION:Serosun Farms\, 45W485 North Serosun Farms Lane\, Hampshire\, IL\, 60140\, United States
CATEGORIES:2018-08 Results (August)
ORGANIZER;CN="Debra DeWald":MAILTO:info@serosunfarms.com
GEO:42.0740059;-88.4967152
X-APPLE-STRUCTURED-LOCATION;VALUE=URI;X-ADDRESS=Serosun Farms 45W485 North Serosun Farms Lane Hampshire IL 60140 United States;X-APPLE-RADIUS=500;X-TITLE=45W485 North Serosun Farms Lane:geo:-88.4967152,42.0740059
END:VEVENT
END:VCALENDAR