BEGIN:VCALENDAR
VERSION:2.0
PRODID:-//Race Time - ECPv6.15.13//NONSGML v1.0//EN
CALSCALE:GREGORIAN
METHOD:PUBLISH
X-WR-CALNAME:Race Time
X-ORIGINAL-URL:https://www.racetime.info
X-WR-CALDESC:Events for Race Time
REFRESH-INTERVAL;VALUE=DURATION:PT1H
X-Robots-Tag:noindex
X-PUBLISHED-TTL:PT1H
BEGIN:VTIMEZONE
TZID:America/Chicago
BEGIN:DAYLIGHT
TZOFFSETFROM:-0600
TZOFFSETTO:-0500
TZNAME:CDT
DTSTART:20160313T080000
END:DAYLIGHT
BEGIN:STANDARD
TZOFFSETFROM:-0500
TZOFFSETTO:-0600
TZNAME:CST
DTSTART:20161106T070000
END:STANDARD
BEGIN:DAYLIGHT
TZOFFSETFROM:-0600
TZOFFSETTO:-0500
TZNAME:CDT
DTSTART:20170312T080000
END:DAYLIGHT
BEGIN:STANDARD
TZOFFSETFROM:-0500
TZOFFSETTO:-0600
TZNAME:CST
DTSTART:20171105T070000
END:STANDARD
BEGIN:DAYLIGHT
TZOFFSETFROM:-0600
TZOFFSETTO:-0500
TZNAME:CDT
DTSTART:20180311T080000
END:DAYLIGHT
BEGIN:STANDARD
TZOFFSETFROM:-0500
TZOFFSETTO:-0600
TZNAME:CST
DTSTART:20181104T070000
END:STANDARD
END:VTIMEZONE
BEGIN:VEVENT
DTSTART;TZID=America/Chicago:20171014T083000
DTEND;TZID=America/Chicago:20171014T110000
DTSTAMP:20260424T024745
CREATED:20170822T201414Z
LAST-MODIFIED:20171014T191205Z
UID:10001592-1507969800-1507978800@www.racetime.info
SUMMARY:ECHO Family 5K Run/Walk & Kids Dash
DESCRIPTION:ECHO 5K Age Group Results\n\nECHO 5K Overall Results
URL:https://www.racetime.info/event/echo-family-5k-runwalk-kids-dash/
LOCATION:E.C.H.O. Special Education\, 350 W. 154th Street\, S. Holland\, IL\, 60473\, United States
CATEGORIES:2017-10 Results (October)
ORGANIZER;CN="Diane Barnes-Maguire":MAILTO:diane.barnes-maguire@echoja.org
GEO:41.6154108;-87.6240676
X-APPLE-STRUCTURED-LOCATION;VALUE=URI;X-ADDRESS=E.C.H.O. Special Education 350 W. 154th Street S. Holland IL 60473 United States;X-APPLE-RADIUS=500;X-TITLE=350 W. 154th Street:geo:-87.6240676,41.6154108
END:VEVENT
END:VCALENDAR