BEGIN:VCALENDAR
VERSION:2.0
PRODID:-//Race Time - ECPv6.15.13//NONSGML v1.0//EN
CALSCALE:GREGORIAN
METHOD:PUBLISH
X-WR-CALNAME:Race Time
X-ORIGINAL-URL:https://www.racetime.info
X-WR-CALDESC:Events for Race Time
REFRESH-INTERVAL;VALUE=DURATION:PT1H
X-Robots-Tag:noindex
X-PUBLISHED-TTL:PT1H
BEGIN:VTIMEZONE
TZID:America/Chicago
BEGIN:DAYLIGHT
TZOFFSETFROM:-0600
TZOFFSETTO:-0500
TZNAME:CDT
DTSTART:20240310T080000
END:DAYLIGHT
BEGIN:STANDARD
TZOFFSETFROM:-0500
TZOFFSETTO:-0600
TZNAME:CST
DTSTART:20241103T070000
END:STANDARD
BEGIN:DAYLIGHT
TZOFFSETFROM:-0600
TZOFFSETTO:-0500
TZNAME:CDT
DTSTART:20250309T080000
END:DAYLIGHT
BEGIN:STANDARD
TZOFFSETFROM:-0500
TZOFFSETTO:-0600
TZNAME:CST
DTSTART:20251102T070000
END:STANDARD
BEGIN:DAYLIGHT
TZOFFSETFROM:-0600
TZOFFSETTO:-0500
TZNAME:CDT
DTSTART:20260308T080000
END:DAYLIGHT
BEGIN:STANDARD
TZOFFSETFROM:-0500
TZOFFSETTO:-0600
TZNAME:CST
DTSTART:20261101T070000
END:STANDARD
END:VTIMEZONE
BEGIN:VEVENT
DTSTART;TZID=America/Chicago:20251023T183000
DTEND;TZID=America/Chicago:20251023T200000
DTSTAMP:20260423T210808
CREATED:20250722T101938Z
LAST-MODIFIED:20251024T031340Z
UID:10002381-1761244200-1761249600@www.racetime.info
SUMMARY:Spooktacular Glow Run 5K
DESCRIPTION:Spooktacular Glow Run 5K Age Group Results\n\nSpooktacular Glow Run 5K Overall Results
URL:https://www.racetime.info/event/spooktacular-glow-run-5k/
LOCATION:Mistwood Golf Club\, 1700 West Renwick Road\, Romeoville\, IL\, 60446\, United States
CATEGORIES:2025-10 Results (October)
ORGANIZER;CN="Donald Wilkin":MAILTO:dwilkin@mistwoodgc.com
GEO:41.5955328;-88.1433196
X-APPLE-STRUCTURED-LOCATION;VALUE=URI;X-ADDRESS=Mistwood Golf Club 1700 West Renwick Road Romeoville IL 60446 United States;X-APPLE-RADIUS=500;X-TITLE=1700 West Renwick Road:geo:-88.1433196,41.5955328
END:VEVENT
END:VCALENDAR