BEGIN:VCALENDAR
VERSION:2.0
PRODID:-//Race Time - ECPv6.15.13//NONSGML v1.0//EN
CALSCALE:GREGORIAN
METHOD:PUBLISH
X-WR-CALNAME:Race Time
X-ORIGINAL-URL:https://www.racetime.info
X-WR-CALDESC:Events for Race Time
REFRESH-INTERVAL;VALUE=DURATION:PT1H
X-Robots-Tag:noindex
X-PUBLISHED-TTL:PT1H
BEGIN:VTIMEZONE
TZID:America/Chicago
BEGIN:DAYLIGHT
TZOFFSETFROM:-0600
TZOFFSETTO:-0500
TZNAME:CDT
DTSTART:20140309T080000
END:DAYLIGHT
BEGIN:STANDARD
TZOFFSETFROM:-0500
TZOFFSETTO:-0600
TZNAME:CST
DTSTART:20141102T070000
END:STANDARD
BEGIN:DAYLIGHT
TZOFFSETFROM:-0600
TZOFFSETTO:-0500
TZNAME:CDT
DTSTART:20150308T080000
END:DAYLIGHT
BEGIN:STANDARD
TZOFFSETFROM:-0500
TZOFFSETTO:-0600
TZNAME:CST
DTSTART:20151101T070000
END:STANDARD
BEGIN:DAYLIGHT
TZOFFSETFROM:-0600
TZOFFSETTO:-0500
TZNAME:CDT
DTSTART:20160313T080000
END:DAYLIGHT
BEGIN:STANDARD
TZOFFSETFROM:-0500
TZOFFSETTO:-0600
TZNAME:CST
DTSTART:20161106T070000
END:STANDARD
BEGIN:DAYLIGHT
TZOFFSETFROM:-0600
TZOFFSETTO:-0500
TZNAME:CDT
DTSTART:20170312T080000
END:DAYLIGHT
BEGIN:STANDARD
TZOFFSETFROM:-0500
TZOFFSETTO:-0600
TZNAME:CST
DTSTART:20171105T070000
END:STANDARD
BEGIN:DAYLIGHT
TZOFFSETFROM:-0600
TZOFFSETTO:-0500
TZNAME:CDT
DTSTART:20180311T080000
END:DAYLIGHT
BEGIN:STANDARD
TZOFFSETFROM:-0500
TZOFFSETTO:-0600
TZNAME:CST
DTSTART:20181104T070000
END:STANDARD
BEGIN:DAYLIGHT
TZOFFSETFROM:-0600
TZOFFSETTO:-0500
TZNAME:CDT
DTSTART:20190310T080000
END:DAYLIGHT
BEGIN:STANDARD
TZOFFSETFROM:-0500
TZOFFSETTO:-0600
TZNAME:CST
DTSTART:20191103T070000
END:STANDARD
BEGIN:DAYLIGHT
TZOFFSETFROM:-0600
TZOFFSETTO:-0500
TZNAME:CDT
DTSTART:20200308T080000
END:DAYLIGHT
BEGIN:STANDARD
TZOFFSETFROM:-0500
TZOFFSETTO:-0600
TZNAME:CST
DTSTART:20201101T070000
END:STANDARD
BEGIN:DAYLIGHT
TZOFFSETFROM:-0600
TZOFFSETTO:-0500
TZNAME:CDT
DTSTART:20210314T080000
END:DAYLIGHT
BEGIN:STANDARD
TZOFFSETFROM:-0500
TZOFFSETTO:-0600
TZNAME:CST
DTSTART:20211107T070000
END:STANDARD
END:VTIMEZONE
BEGIN:VEVENT
DTSTART;TZID=America/Chicago:20200801T080000
DTEND;TZID=America/Chicago:20200801T100000
DTSTAMP:20260424T024645
CREATED:20170303T132225Z
LAST-MODIFIED:20200708T210340Z
UID:10001100-1596268800-1596276000@www.racetime.info
SUMMARY:Calahan's House Music 5K Run/Walk: VIRTUAL
DESCRIPTION:
URL:https://www.racetime.info/event/calahans-house-music-5k-run-walk/
LOCATION:IL\, United States
ORGANIZER;CN="Erica Bell":MAILTO:hands4u@calahanfoundation.org
END:VEVENT
BEGIN:VEVENT
DTSTART;TZID=America/Chicago:20190824T080000
DTEND;TZID=America/Chicago:20190824T100000
DTSTAMP:20260424T024645
CREATED:20170303T132225Z
LAST-MODIFIED:20190824T171648Z
UID:10001098-1566633600-1566640800@www.racetime.info
SUMMARY:Calahan's House Music 5K Run/Walk
DESCRIPTION:Calahan’s House Music 5K Age Group Results\n\nCalahan’s House Music 5K Overall Results\n\nCalahan’s House Music Team Results
URL:https://www.racetime.info/event/calahan-foundation-run4life-5k-run-walk/
LOCATION:Jackson Park\, 5700 E. Hayes Drive\, Grove 19A\, Chicago\, IL\, 60649\, United States
CATEGORIES:2019-08 Results (August)
ORGANIZER;CN="Erica Bell":MAILTO:hands4u@calahanfoundation.org
GEO:41.7906088;-87.5830586
X-APPLE-STRUCTURED-LOCATION;VALUE=URI;X-ADDRESS=Jackson Park 5700 E. Hayes Drive Grove 19A Chicago IL 60649 United States;X-APPLE-RADIUS=500;X-TITLE=5700 E. Hayes Drive\, Grove 19A:geo:-87.5830586,41.7906088
END:VEVENT
BEGIN:VEVENT
DTSTART;TZID=America/Chicago:20180825T080000
DTEND;TZID=America/Chicago:20180825T100000
DTSTAMP:20260424T024645
CREATED:20170303T132225Z
LAST-MODIFIED:20180825T171309Z
UID:10000457-1535184000-1535191200@www.racetime.info
SUMMARY:Calahan Foundation House Music 5K Run/Walk
DESCRIPTION:Calahan Foundation’s House Music 5K Age Group Results\n\nCalahan Foundation’s House Music 5K Overall Results\n\nCalahan Foundation’s House Music Team Results
URL:https://www.racetime.info/event/calahan-foundation-annual-run4life-5k-run-walk/
LOCATION:Jackson Park\, 5700 E. Hayes Drive\, Grove 19A\, Chicago\, IL\, 60649\, United States
CATEGORIES:2018-08 Results (August)
ORGANIZER;CN="Erica Bell":MAILTO:hands4u@calahanfoundation.org
GEO:41.7906088;-87.5830586
X-APPLE-STRUCTURED-LOCATION;VALUE=URI;X-ADDRESS=Jackson Park 5700 E. Hayes Drive Grove 19A Chicago IL 60649 United States;X-APPLE-RADIUS=500;X-TITLE=5700 E. Hayes Drive\, Grove 19A:geo:-87.5830586,41.7906088
END:VEVENT
BEGIN:VEVENT
DTSTART;TZID=America/Chicago:20170826T080000
DTEND;TZID=America/Chicago:20170826T100000
DTSTAMP:20260424T024645
CREATED:20170303T132225Z
LAST-MODIFIED:20170826T181914Z
UID:10000455-1503734400-1503741600@www.racetime.info
SUMMARY:Calahan Foundation Annual RUN4LIFE 5K Run/Walk
DESCRIPTION:Run4Life 5K Overall Results\n\nRun4Life 5K Team Results
URL:https://www.racetime.info/event/calahan-foundation-annual-run4life-5k-runwalk/
LOCATION:Jackson Park\, 5700 E. Hayes Drive\, Grove 19A\, Chicago\, IL\, 60649\, United States
CATEGORIES:2017-08 Results (August)
ORGANIZER;CN="Erica Bell":MAILTO:hands4u@calahanfoundation.org
GEO:41.7906088;-87.5830586
X-APPLE-STRUCTURED-LOCATION;VALUE=URI;X-ADDRESS=Jackson Park 5700 E. Hayes Drive Grove 19A Chicago IL 60649 United States;X-APPLE-RADIUS=500;X-TITLE=5700 E. Hayes Drive\, Grove 19A:geo:-87.5830586,41.7906088
END:VEVENT
BEGIN:VEVENT
DTSTART;TZID=America/Chicago:20150830T073000
DTEND;TZID=America/Chicago:20150830T100000
DTSTAMP:20260424T024645
CREATED:20150616T234923Z
LAST-MODIFIED:20150902T011807Z
UID:10000283-1440919800-1440928800@www.racetime.info
SUMMARY:Calahan Foundation 5K RUN4LIFE
DESCRIPTION:Run4Life 5K Overall Results\n\nRun4Life Team Results
URL:https://www.racetime.info/event/calahan-foundation-5k-run4life/
LOCATION:Mount Hope Cemetary\, 11500 S. Fairfield\, Chicago\, IL\, United States
CATEGORIES:2015-08 Results (August)
ORGANIZER;CN="Erica Bell":MAILTO:hands4u@calahanfoundation.org
GEO:41.6839596;-87.6891645
X-APPLE-STRUCTURED-LOCATION;VALUE=URI;X-ADDRESS=Mount Hope Cemetary 11500 S. Fairfield Chicago IL United States;X-APPLE-RADIUS=500;X-TITLE=11500 S. Fairfield:geo:-87.6891645,41.6839596
END:VEVENT
END:VCALENDAR