BEGIN:VCALENDAR
VERSION:2.0
PRODID:-//Race Time - ECPv6.15.13//NONSGML v1.0//EN
CALSCALE:GREGORIAN
METHOD:PUBLISH
X-WR-CALNAME:Race Time
X-ORIGINAL-URL:https://www.racetime.info
X-WR-CALDESC:Events for Race Time
REFRESH-INTERVAL;VALUE=DURATION:PT1H
X-Robots-Tag:noindex
X-PUBLISHED-TTL:PT1H
BEGIN:VTIMEZONE
TZID:America/Chicago
BEGIN:DAYLIGHT
TZOFFSETFROM:-0600
TZOFFSETTO:-0500
TZNAME:CDT
DTSTART:20170312T080000
END:DAYLIGHT
BEGIN:STANDARD
TZOFFSETFROM:-0500
TZOFFSETTO:-0600
TZNAME:CST
DTSTART:20171105T070000
END:STANDARD
BEGIN:DAYLIGHT
TZOFFSETFROM:-0600
TZOFFSETTO:-0500
TZNAME:CDT
DTSTART:20180311T080000
END:DAYLIGHT
BEGIN:STANDARD
TZOFFSETFROM:-0500
TZOFFSETTO:-0600
TZNAME:CST
DTSTART:20181104T070000
END:STANDARD
BEGIN:DAYLIGHT
TZOFFSETFROM:-0600
TZOFFSETTO:-0500
TZNAME:CDT
DTSTART:20190310T080000
END:DAYLIGHT
BEGIN:STANDARD
TZOFFSETFROM:-0500
TZOFFSETTO:-0600
TZNAME:CST
DTSTART:20191103T070000
END:STANDARD
BEGIN:DAYLIGHT
TZOFFSETFROM:-0600
TZOFFSETTO:-0500
TZNAME:CDT
DTSTART:20200308T080000
END:DAYLIGHT
BEGIN:STANDARD
TZOFFSETFROM:-0500
TZOFFSETTO:-0600
TZNAME:CST
DTSTART:20201101T070000
END:STANDARD
END:VTIMEZONE
BEGIN:VEVENT
DTSTART;TZID=America/Chicago:20190504T083000
DTEND;TZID=America/Chicago:20190504T110000
DTSTAMP:20260424T010546
CREATED:20180119T154800Z
LAST-MODIFIED:20190504T210138Z
UID:10000895-1556958600-1556967600@www.racetime.info
SUMMARY:Blackberry Bolt 5K & 2K Run/Walk
DESCRIPTION:Blackberry Bolt 2K Overall Results\n\nBlackberry Bolt 5K Age Group Results\n\nBlackberry Bolt 5K Overall Results
URL:https://www.racetime.info/event/blackberry-bolt-5k-2k-run-walk/
LOCATION:Kaneville Blackberry Creek Elementary School\, 1122 S. Anderson Road\, Elburn\, IL\, 60119\, United States
CATEGORIES:2019-05 Results (May)
ORGANIZER;CN="Erin Slattery":MAILTO:erinslattery0510@gmail.com
GEO:41.8769945;-88.4561002
X-APPLE-STRUCTURED-LOCATION;VALUE=URI;X-ADDRESS=Kaneville Blackberry Creek Elementary School 1122 S. Anderson Road Elburn IL 60119 United States;X-APPLE-RADIUS=500;X-TITLE=1122 S. Anderson Road:geo:-88.4561002,41.8769945
END:VEVENT
BEGIN:VEVENT
DTSTART;TZID=America/Chicago:20180505T083000
DTEND;TZID=America/Chicago:20180505T110000
DTSTAMP:20260424T010546
CREATED:20180119T154800Z
LAST-MODIFIED:20180505T183814Z
UID:10000893-1525509000-1525518000@www.racetime.info
SUMMARY:Blackberry Bolt 5K & 2K Run/Walk
DESCRIPTION:Blackberry Bolt 5K Age Group Results\n\nBlackberry Bolt 5K Overall Results\n\nBlackberry Bolt 2K Overall Results
URL:https://www.racetime.info/event/blackberry-bolt-5k-1-mile-run-walk/
LOCATION:Kaneville Blackberry Creek Elementary School\, 1122 S. Anderson Road\, Elburn\, IL\, 60119\, United States
CATEGORIES:2018-05 Results (May)
ORGANIZER;CN="Erin Slattery":MAILTO:erinslattery0510@gmail.com
GEO:41.8769945;-88.4561002
X-APPLE-STRUCTURED-LOCATION;VALUE=URI;X-ADDRESS=Kaneville Blackberry Creek Elementary School 1122 S. Anderson Road Elburn IL 60119 United States;X-APPLE-RADIUS=500;X-TITLE=1122 S. Anderson Road:geo:-88.4561002,41.8769945
END:VEVENT
END:VCALENDAR