BEGIN:VCALENDAR
VERSION:2.0
PRODID:-//Race Time - ECPv6.15.13//NONSGML v1.0//EN
CALSCALE:GREGORIAN
METHOD:PUBLISH
X-WR-CALNAME:Race Time
X-ORIGINAL-URL:https://www.racetime.info
X-WR-CALDESC:Events for Race Time
REFRESH-INTERVAL;VALUE=DURATION:PT1H
X-Robots-Tag:noindex
X-PUBLISHED-TTL:PT1H
BEGIN:VTIMEZONE
TZID:America/Chicago
BEGIN:DAYLIGHT
TZOFFSETFROM:-0600
TZOFFSETTO:-0500
TZNAME:CDT
DTSTART:20160313T080000
END:DAYLIGHT
BEGIN:STANDARD
TZOFFSETFROM:-0500
TZOFFSETTO:-0600
TZNAME:CST
DTSTART:20161106T070000
END:STANDARD
BEGIN:DAYLIGHT
TZOFFSETFROM:-0600
TZOFFSETTO:-0500
TZNAME:CDT
DTSTART:20170312T080000
END:DAYLIGHT
BEGIN:STANDARD
TZOFFSETFROM:-0500
TZOFFSETTO:-0600
TZNAME:CST
DTSTART:20171105T070000
END:STANDARD
BEGIN:DAYLIGHT
TZOFFSETFROM:-0600
TZOFFSETTO:-0500
TZNAME:CDT
DTSTART:20180311T080000
END:DAYLIGHT
BEGIN:STANDARD
TZOFFSETFROM:-0500
TZOFFSETTO:-0600
TZNAME:CST
DTSTART:20181104T070000
END:STANDARD
BEGIN:DAYLIGHT
TZOFFSETFROM:-0600
TZOFFSETTO:-0500
TZNAME:CDT
DTSTART:20190310T080000
END:DAYLIGHT
BEGIN:STANDARD
TZOFFSETFROM:-0500
TZOFFSETTO:-0600
TZNAME:CST
DTSTART:20191103T070000
END:STANDARD
BEGIN:DAYLIGHT
TZOFFSETFROM:-0600
TZOFFSETTO:-0500
TZNAME:CDT
DTSTART:20200308T080000
END:DAYLIGHT
BEGIN:STANDARD
TZOFFSETFROM:-0500
TZOFFSETTO:-0600
TZNAME:CST
DTSTART:20201101T070000
END:STANDARD
BEGIN:DAYLIGHT
TZOFFSETFROM:-0600
TZOFFSETTO:-0500
TZNAME:CDT
DTSTART:20210314T080000
END:DAYLIGHT
BEGIN:STANDARD
TZOFFSETFROM:-0500
TZOFFSETTO:-0600
TZNAME:CST
DTSTART:20211107T070000
END:STANDARD
BEGIN:DAYLIGHT
TZOFFSETFROM:-0600
TZOFFSETTO:-0500
TZNAME:CDT
DTSTART:20220313T080000
END:DAYLIGHT
BEGIN:STANDARD
TZOFFSETFROM:-0500
TZOFFSETTO:-0600
TZNAME:CST
DTSTART:20221106T070000
END:STANDARD
BEGIN:DAYLIGHT
TZOFFSETFROM:-0600
TZOFFSETTO:-0500
TZNAME:CDT
DTSTART:20230312T080000
END:DAYLIGHT
BEGIN:STANDARD
TZOFFSETFROM:-0500
TZOFFSETTO:-0600
TZNAME:CST
DTSTART:20231105T070000
END:STANDARD
BEGIN:DAYLIGHT
TZOFFSETFROM:-0600
TZOFFSETTO:-0500
TZNAME:CDT
DTSTART:20240310T080000
END:DAYLIGHT
BEGIN:STANDARD
TZOFFSETFROM:-0500
TZOFFSETTO:-0600
TZNAME:CST
DTSTART:20241103T070000
END:STANDARD
BEGIN:DAYLIGHT
TZOFFSETFROM:-0600
TZOFFSETTO:-0500
TZNAME:CDT
DTSTART:20250309T080000
END:DAYLIGHT
BEGIN:STANDARD
TZOFFSETFROM:-0500
TZOFFSETTO:-0600
TZNAME:CST
DTSTART:20251102T070000
END:STANDARD
END:VTIMEZONE
BEGIN:VEVENT
DTSTART;TZID=America/Chicago:20240908T083000
DTEND;TZID=America/Chicago:20240908T103000
DTSTAMP:20260423T212847
CREATED:20170804T123347Z
LAST-MODIFIED:20240908T192605Z
UID:10000751-1725784200-1725791400@www.racetime.info
SUMMARY:Willow House Run For Hope 5K & 1 Mile Walk to Remember
DESCRIPTION:Willow House 5K Age Group Results\n\nWillow House 5K Overall Results
URL:https://www.racetime.info/event/copy-of-willow-house-run-for-hope-5k-1-mile-walk-to-remember-3/
LOCATION:Independence Grove Forest Preserve\, 16400 Buckley Road\, Libertyville\, IL\, 60045\, United States
CATEGORIES:2024-09 Results (September)
ORGANIZER;CN="Denise O'Handley":MAILTO:deniseohandley@willowhouse.org
GEO:42.3118463;-87.9529568
X-APPLE-STRUCTURED-LOCATION;VALUE=URI;X-ADDRESS=Independence Grove Forest Preserve 16400 Buckley Road Libertyville IL 60045 United States;X-APPLE-RADIUS=500;X-TITLE=16400 Buckley Road:geo:-87.9529568,42.3118463
END:VEVENT
BEGIN:VEVENT
DTSTART;TZID=America/Chicago:20230910T083000
DTEND;TZID=America/Chicago:20230910T110000
DTSTAMP:20260423T212847
CREATED:20170804T123347Z
LAST-MODIFIED:20230910T183000Z
UID:10000748-1694334600-1694343600@www.racetime.info
SUMMARY:Willow House Run For Hope 5K & 1 Mile Walk to Remember
DESCRIPTION:Willow House Run To Remember 5K Age Group Results\n\nWillow House Run To Remember 5K Overall Results
URL:https://www.racetime.info/event/copy-of-willow-house-run-for-hope-5k-1-mile-walk-to-remember-2/
LOCATION:Independence Grove Forest Preserve\, 16400 Buckley Road\, Libertyville\, IL\, 60045\, United States
CATEGORIES:2023-09 Results (September)
ORGANIZER;CN="Denise O'Handley":MAILTO:deniseohandley@willowhouse.org
GEO:42.3118463;-87.9529568
X-APPLE-STRUCTURED-LOCATION;VALUE=URI;X-ADDRESS=Independence Grove Forest Preserve 16400 Buckley Road Libertyville IL 60045 United States;X-APPLE-RADIUS=500;X-TITLE=16400 Buckley Road:geo:-87.9529568,42.3118463
END:VEVENT
BEGIN:VEVENT
DTSTART;TZID=America/Chicago:20220911T083000
DTEND;TZID=America/Chicago:20220911T103000
DTSTAMP:20260423T212847
CREATED:20170804T123347Z
LAST-MODIFIED:20220418T223906Z
UID:10001578-1662885000-1662892200@www.racetime.info
SUMMARY:Willow House Run For Hope 5K & 1 Mile Walk to Remember
DESCRIPTION:
URL:https://www.racetime.info/event/copy-of-willow-house-run-for-hope-5k-1-mile-walk-to-remember/
LOCATION:Independence Grove Forest Preserve\, 16400 Buckley Road\, Libertyville\, IL\, 60045\, United States
ORGANIZER;CN="Denise O'Handley":MAILTO:deniseohandley@willowhouse.org
GEO:42.3118463;-87.9529568
X-APPLE-STRUCTURED-LOCATION;VALUE=URI;X-ADDRESS=Independence Grove Forest Preserve 16400 Buckley Road Libertyville IL 60045 United States;X-APPLE-RADIUS=500;X-TITLE=16400 Buckley Road:geo:-87.9529568,42.3118463
END:VEVENT
BEGIN:VEVENT
DTSTART;TZID=America/Chicago:20210718T083000
DTEND;TZID=America/Chicago:20210718T113000
DTSTAMP:20260423T212847
CREATED:20170804T123347Z
LAST-MODIFIED:20210718T162057Z
UID:10001577-1626597000-1626607800@www.racetime.info
SUMMARY:Willow House Run For Hope 5K & 1 Mile Walk to Remember
DESCRIPTION:Willow House Run For Hope 5K Age Group Results\n\nWillow House Run For Hope 5K Overall Results
URL:https://www.racetime.info/event/willow-house-run-for-hope-5k-1-mile-walk-to-remember-4/
LOCATION:Busse Woods\, Groves 5-16\, Higgins Road & S. Arlington Heights Rd\, Elk Grove Village\, IL\, 60007\, United States
CATEGORIES:2021-07 Results (July)
ORGANIZER;CN="Denise O'Handley":MAILTO:deniseohandley@willowhouse.org
GEO:42.0126908;-87.9982495
X-APPLE-STRUCTURED-LOCATION;VALUE=URI;X-ADDRESS=Busse Woods Groves 5-16 Higgins Road & S. Arlington Heights Rd Elk Grove Village IL 60007 United States;X-APPLE-RADIUS=500;X-TITLE=Higgins Road & S. Arlington Heights Rd:geo:-87.9982495,42.0126908
END:VEVENT
BEGIN:VEVENT
DTSTART;TZID=America/Chicago:20190908T080000
DTEND;TZID=America/Chicago:20190908T110000
DTSTAMP:20260423T212847
CREATED:20170804T123347Z
LAST-MODIFIED:20190910T120335Z
UID:10001576-1567929600-1567940400@www.racetime.info
SUMMARY:Willow House Run For Hope 5K & 1 Mile Walk to Remember
DESCRIPTION:Willow House 5K Age Group Results\n\nWillow House 5K Overall Results
URL:https://www.racetime.info/event/willow-house-run-for-hope-5k-1-mile-walk-to-remember-3/
LOCATION:Independence Grove Forest Preserve\, 16400 Buckley Road\, Libertyville\, IL\, 60045\, United States
CATEGORIES:2019-09 Results (September)
ORGANIZER;CN="Denise O'Handley":MAILTO:deniseohandley@willowhouse.org
GEO:42.3118463;-87.9529568
X-APPLE-STRUCTURED-LOCATION;VALUE=URI;X-ADDRESS=Independence Grove Forest Preserve 16400 Buckley Road Libertyville IL 60045 United States;X-APPLE-RADIUS=500;X-TITLE=16400 Buckley Road:geo:-87.9529568,42.3118463
END:VEVENT
BEGIN:VEVENT
DTSTART;TZID=America/Chicago:20180826T080000
DTEND;TZID=America/Chicago:20180826T110000
DTSTAMP:20260423T212847
CREATED:20170804T123347Z
LAST-MODIFIED:20180828T231017Z
UID:10001575-1535270400-1535281200@www.racetime.info
SUMMARY:Willow House Run For Hope 5K & 1 Mile Walk to Remember
DESCRIPTION:Willow House Run For Hope 5K Age Group Results\n\nWillow House Run For Hope 5K Overall Results
URL:https://www.racetime.info/event/willow-house-run-for-hope-5k-1-mile-walk-to-remember-2/
LOCATION:Independence Grove Forest Preserve\, 16400 Buckley Road\, Libertyville\, IL\, 60045\, United States
CATEGORIES:2018-08 Results (August)
ORGANIZER;CN="Denise O'Handley":MAILTO:deniseohandley@willowhouse.org
GEO:42.3118463;-87.9529568
X-APPLE-STRUCTURED-LOCATION;VALUE=URI;X-ADDRESS=Independence Grove Forest Preserve 16400 Buckley Road Libertyville IL 60045 United States;X-APPLE-RADIUS=500;X-TITLE=16400 Buckley Road:geo:-87.9529568,42.3118463
END:VEVENT
BEGIN:VEVENT
DTSTART;TZID=America/Chicago:20170917T080000
DTEND;TZID=America/Chicago:20170917T110000
DTSTAMP:20260423T212847
CREATED:20170804T123347Z
LAST-MODIFIED:20170917T171956Z
UID:10001574-1505635200-1505646000@www.racetime.info
SUMMARY:Willow House Run For Hope 5K & 1 Mile Walk to Remember
DESCRIPTION:Run For Hope 5K Age Group Results\n\nRun For Hope 5K Overall Results
URL:https://www.racetime.info/event/willow-house-run-for-hope-5k-1-mile-walk-to-remember/
LOCATION:Independence Grove Forest Preserve\, 16400 Buckley Road\, Libertyville\, IL\, 60045\, United States
CATEGORIES:2017-09 Results (September)
ORGANIZER;CN="Denise O'Handley":MAILTO:deniseohandley@willowhouse.org
GEO:42.3118463;-87.9529568
X-APPLE-STRUCTURED-LOCATION;VALUE=URI;X-ADDRESS=Independence Grove Forest Preserve 16400 Buckley Road Libertyville IL 60045 United States;X-APPLE-RADIUS=500;X-TITLE=16400 Buckley Road:geo:-87.9529568,42.3118463
END:VEVENT
END:VCALENDAR