BEGIN:VCALENDAR
VERSION:2.0
PRODID:-//Race Time - ECPv6.15.13//NONSGML v1.0//EN
CALSCALE:GREGORIAN
METHOD:PUBLISH
X-ORIGINAL-URL:https://www.racetime.info
X-WR-CALDESC:Events for Race Time
REFRESH-INTERVAL;VALUE=DURATION:PT1H
X-Robots-Tag:noindex
X-PUBLISHED-TTL:PT1H
BEGIN:VTIMEZONE
TZID:America/Chicago
BEGIN:DAYLIGHT
TZOFFSETFROM:-0600
TZOFFSETTO:-0500
TZNAME:CDT
DTSTART:20190310T080000
END:DAYLIGHT
BEGIN:STANDARD
TZOFFSETFROM:-0500
TZOFFSETTO:-0600
TZNAME:CST
DTSTART:20191103T070000
END:STANDARD
BEGIN:DAYLIGHT
TZOFFSETFROM:-0600
TZOFFSETTO:-0500
TZNAME:CDT
DTSTART:20200308T080000
END:DAYLIGHT
BEGIN:STANDARD
TZOFFSETFROM:-0500
TZOFFSETTO:-0600
TZNAME:CST
DTSTART:20201101T070000
END:STANDARD
BEGIN:DAYLIGHT
TZOFFSETFROM:-0600
TZOFFSETTO:-0500
TZNAME:CDT
DTSTART:20210314T080000
END:DAYLIGHT
BEGIN:STANDARD
TZOFFSETFROM:-0500
TZOFFSETTO:-0600
TZNAME:CST
DTSTART:20211107T070000
END:STANDARD
BEGIN:DAYLIGHT
TZOFFSETFROM:-0600
TZOFFSETTO:-0500
TZNAME:CDT
DTSTART:20220313T080000
END:DAYLIGHT
BEGIN:STANDARD
TZOFFSETFROM:-0500
TZOFFSETTO:-0600
TZNAME:CST
DTSTART:20221106T070000
END:STANDARD
BEGIN:DAYLIGHT
TZOFFSETFROM:-0600
TZOFFSETTO:-0500
TZNAME:CDT
DTSTART:20230312T080000
END:DAYLIGHT
BEGIN:STANDARD
TZOFFSETFROM:-0500
TZOFFSETTO:-0600
TZNAME:CST
DTSTART:20231105T070000
END:STANDARD
BEGIN:DAYLIGHT
TZOFFSETFROM:-0600
TZOFFSETTO:-0500
TZNAME:CDT
DTSTART:20240310T080000
END:DAYLIGHT
BEGIN:STANDARD
TZOFFSETFROM:-0500
TZOFFSETTO:-0600
TZNAME:CST
DTSTART:20241103T070000
END:STANDARD
BEGIN:DAYLIGHT
TZOFFSETFROM:-0600
TZOFFSETTO:-0500
TZNAME:CDT
DTSTART:20250309T080000
END:DAYLIGHT
BEGIN:STANDARD
TZOFFSETFROM:-0500
TZOFFSETTO:-0600
TZNAME:CST
DTSTART:20251102T070000
END:STANDARD
BEGIN:DAYLIGHT
TZOFFSETFROM:-0600
TZOFFSETTO:-0500
TZNAME:CDT
DTSTART:20260308T080000
END:DAYLIGHT
BEGIN:STANDARD
TZOFFSETFROM:-0500
TZOFFSETTO:-0600
TZNAME:CST
DTSTART:20261101T070000
END:STANDARD
END:VTIMEZONE
BEGIN:VEVENT
DTSTART;TZID=America/Chicago:20250427T090000
DTEND;TZID=America/Chicago:20250428T110000
DTSTAMP:20260423T224210
CREATED:20250322T115955Z
LAST-MODIFIED:20250427T212827Z
UID:10002294-1745744400-1745838000@www.racetime.info
SUMMARY:Cancer Wellness Center's Stepping Up to Wellness: 5K Run; 5K Walk & 1 Mile Walk
DESCRIPTION:Stepping Up To Wellness 5K Run Age Group Results\n\nStepping Up To Wellness 5K Run Overall Results
URL:https://www.racetime.info/event/cancer-wellness-centers-stepping-up-to-wellness-5k-run-5k-walk-1-mile-walk/
LOCATION:Independence Grove Forest Preserve\, 16400 Buckley Road\, Libertyville\, IL\, 60045\, United States
CATEGORIES:2025-04 Results (April)
ORGANIZER;CN="Gail Fradin":MAILTO:gfradin@cancerwellness.org
GEO:42.3118463;-87.9529568
X-APPLE-STRUCTURED-LOCATION;VALUE=URI;X-ADDRESS=Independence Grove Forest Preserve 16400 Buckley Road Libertyville IL 60045 United States;X-APPLE-RADIUS=500;X-TITLE=16400 Buckley Road:geo:-87.9529568,42.3118463
END:VEVENT
BEGIN:VEVENT
DTSTART;TZID=America/Chicago:20240428T090000
DTEND;TZID=America/Chicago:20240429T110000
DTSTAMP:20260423T224210
CREATED:20220316T172001Z
LAST-MODIFIED:20240428T194937Z
UID:10001280-1714294800-1714388400@www.racetime.info
SUMMARY:Cancer Wellness Center's Stepping Up to Wellness: 5K Run; 5K Walk & 1 Mile Walk
DESCRIPTION:CWC Stepping Up To Wellness 5K Age Group Results\n\nCWC Stepping Up To Wellness 5K Overall Results
URL:https://www.racetime.info/event/copy-of-stepping-up-to-wellness-5k-run-5k-walk-1-mile-walk-2/
LOCATION:Independence Grove Forest Preserve\, 16400 Buckley Road\, Libertyville\, IL\, 60045\, United States
CATEGORIES:2024-04 Results (April)
ORGANIZER;CN="Gail Fradin":MAILTO:gfradin@cancerwellness.org
GEO:42.3118463;-87.9529568
X-APPLE-STRUCTURED-LOCATION;VALUE=URI;X-ADDRESS=Independence Grove Forest Preserve 16400 Buckley Road Libertyville IL 60045 United States;X-APPLE-RADIUS=500;X-TITLE=16400 Buckley Road:geo:-87.9529568,42.3118463
END:VEVENT
BEGIN:VEVENT
DTSTART;TZID=America/Chicago:20230430T090000
DTEND;TZID=America/Chicago:20230430T110000
DTSTAMP:20260423T224210
CREATED:20220316T172001Z
LAST-MODIFIED:20230430T205002Z
UID:10001278-1682845200-1682852400@www.racetime.info
SUMMARY:Stepping Up to Wellness: 5K Run; 5K Walk & 1 Mile Walk
DESCRIPTION:Stepping Up To Wellness 5K Age Group Results\n\nStepping Up To Wellness 5K Overall Results
URL:https://www.racetime.info/event/copy-of-stepping-up-to-wellness-5k-run-5k-walk-1-mile-walk/
LOCATION:Independence Grove Forest Preserve\, 16400 Buckley Road\, Libertyville\, IL\, 60045\, United States
CATEGORIES:2023-04 Results (April)
ORGANIZER;CN="Gail Fradin":MAILTO:gfradin@cancerwellness.org
GEO:42.3118463;-87.9529568
X-APPLE-STRUCTURED-LOCATION;VALUE=URI;X-ADDRESS=Independence Grove Forest Preserve 16400 Buckley Road Libertyville IL 60045 United States;X-APPLE-RADIUS=500;X-TITLE=16400 Buckley Road:geo:-87.9529568,42.3118463
END:VEVENT
BEGIN:VEVENT
DTSTART;TZID=America/Chicago:20220501T090000
DTEND;TZID=America/Chicago:20220501T110000
DTSTAMP:20260423T224210
CREATED:20220316T172001Z
LAST-MODIFIED:20220501T180907Z
UID:10002096-1651395600-1651402800@www.racetime.info
SUMMARY:Stepping Up to Wellness: 5K Run; 5K Walk & 1 Mile Walk
DESCRIPTION:Cancer Wellness 5K Run Age Group Results\n\nCancer Wellness 5K Overall Results
URL:https://www.racetime.info/event/stepping-up-to-wellness-5k-run-5k-walk-1-mile-walk/
LOCATION:Independence Grove Forest Preserve\, 16400 Buckley Road\, Libertyville\, IL\, 60045\, United States
CATEGORIES:2022-05 Results (May)
ORGANIZER;CN="Gail Fradin":MAILTO:gfradin@cancerwellness.org
GEO:42.3118463;-87.9529568
X-APPLE-STRUCTURED-LOCATION;VALUE=URI;X-ADDRESS=Independence Grove Forest Preserve 16400 Buckley Road Libertyville IL 60045 United States;X-APPLE-RADIUS=500;X-TITLE=16400 Buckley Road:geo:-87.9529568,42.3118463
END:VEVENT
BEGIN:VEVENT
DTSTART;TZID=America/Chicago:20200426T090000
DTEND;TZID=America/Chicago:20200426T110000
DTSTAMP:20260423T224210
CREATED:20200304T125511Z
LAST-MODIFIED:20200416T215024Z
UID:10001946-1587891600-1587898800@www.racetime.info
SUMMARY:Stepping Up To Wellness 5K Run/Walk & 1 Mile Walk: CANCELLED
DESCRIPTION:
URL:https://www.racetime.info/event/stepping-up-to-wellness-5k-run-walk-1-mile-walk/
LOCATION:Independence Grove Forest Preserve\, 16400 Buckley Road\, Libertyville\, IL\, 60045\, United States
ORGANIZER;CN="Gail Fradin":MAILTO:gfradin@cancerwellness.org
GEO:42.3118463;-87.9529568
X-APPLE-STRUCTURED-LOCATION;VALUE=URI;X-ADDRESS=Independence Grove Forest Preserve 16400 Buckley Road Libertyville IL 60045 United States;X-APPLE-RADIUS=500;X-TITLE=16400 Buckley Road:geo:-87.9529568,42.3118463
END:VEVENT
END:VCALENDAR