BEGIN:VCALENDAR
VERSION:2.0
PRODID:-//Race Time - ECPv6.15.13//NONSGML v1.0//EN
CALSCALE:GREGORIAN
METHOD:PUBLISH
X-ORIGINAL-URL:https://www.racetime.info
X-WR-CALDESC:Events for Race Time
REFRESH-INTERVAL;VALUE=DURATION:PT1H
X-Robots-Tag:noindex
X-PUBLISHED-TTL:PT1H
BEGIN:VTIMEZONE
TZID:America/Chicago
BEGIN:DAYLIGHT
TZOFFSETFROM:-0600
TZOFFSETTO:-0500
TZNAME:CDT
DTSTART:20240310T080000
END:DAYLIGHT
BEGIN:STANDARD
TZOFFSETFROM:-0500
TZOFFSETTO:-0600
TZNAME:CST
DTSTART:20241103T070000
END:STANDARD
BEGIN:DAYLIGHT
TZOFFSETFROM:-0600
TZOFFSETTO:-0500
TZNAME:CDT
DTSTART:20250309T080000
END:DAYLIGHT
BEGIN:STANDARD
TZOFFSETFROM:-0500
TZOFFSETTO:-0600
TZNAME:CST
DTSTART:20251102T070000
END:STANDARD
BEGIN:DAYLIGHT
TZOFFSETFROM:-0600
TZOFFSETTO:-0500
TZNAME:CDT
DTSTART:20260308T080000
END:DAYLIGHT
BEGIN:STANDARD
TZOFFSETFROM:-0500
TZOFFSETTO:-0600
TZNAME:CST
DTSTART:20261101T070000
END:STANDARD
END:VTIMEZONE
BEGIN:VEVENT
DTSTART;TZID=America/Chicago:20251019T090000
DTEND;TZID=America/Chicago:20251019T110000
DTSTAMP:20260423T224126
CREATED:20250828T150833Z
LAST-MODIFIED:20251019T233318Z
UID:10002435-1760864400-1760871600@www.racetime.info
SUMMARY:Fox Chase 5K & Youth Mile
DESCRIPTION:Fox Chase 5K Age Group Results\n\nFox Chase 5K Overall Results\n\nFox Chase 1 Mile Age Group Results\n\nFox Chase 1 Mile Overall Results
URL:https://www.racetime.info/event/fox-chase-5k-youth-mile-5/
LOCATION:Stanger Park\, 257 Lexington Road\, Fox River Grove\, IL\, 60021\, United States
CATEGORIES:2025-10 Results (October)
ORGANIZER;CN="Gene Beiswenger":MAILTO:foxchase@frgreccouncil.com
GEO:42.1958967;-88.2116426
X-APPLE-STRUCTURED-LOCATION;VALUE=URI;X-ADDRESS=Stanger Park 257 Lexington Road Fox River Grove IL 60021 United States;X-APPLE-RADIUS=500;X-TITLE=257 Lexington Road:geo:-88.2116426,42.1958967
END:VEVENT
END:VCALENDAR