BEGIN:VCALENDAR
VERSION:2.0
PRODID:-//Race Time - ECPv6.15.13//NONSGML v1.0//EN
CALSCALE:GREGORIAN
METHOD:PUBLISH
X-ORIGINAL-URL:https://www.racetime.info
X-WR-CALDESC:Events for Race Time
REFRESH-INTERVAL;VALUE=DURATION:PT1H
X-Robots-Tag:noindex
X-PUBLISHED-TTL:PT1H
BEGIN:VTIMEZONE
TZID:America/Chicago
BEGIN:DAYLIGHT
TZOFFSETFROM:-0600
TZOFFSETTO:-0500
TZNAME:CDT
DTSTART:20160313T080000
END:DAYLIGHT
BEGIN:STANDARD
TZOFFSETFROM:-0500
TZOFFSETTO:-0600
TZNAME:CST
DTSTART:20161106T070000
END:STANDARD
BEGIN:DAYLIGHT
TZOFFSETFROM:-0600
TZOFFSETTO:-0500
TZNAME:CDT
DTSTART:20170312T080000
END:DAYLIGHT
BEGIN:STANDARD
TZOFFSETFROM:-0500
TZOFFSETTO:-0600
TZNAME:CST
DTSTART:20171105T070000
END:STANDARD
BEGIN:DAYLIGHT
TZOFFSETFROM:-0600
TZOFFSETTO:-0500
TZNAME:CDT
DTSTART:20180311T080000
END:DAYLIGHT
BEGIN:STANDARD
TZOFFSETFROM:-0500
TZOFFSETTO:-0600
TZNAME:CST
DTSTART:20181104T070000
END:STANDARD
END:VTIMEZONE
BEGIN:VEVENT
DTSTART;TZID=America/Chicago:20170829T160000
DTEND;TZID=America/Chicago:20170829T170000
DTSTAMP:20260424T024918
CREATED:20170816T182054Z
LAST-MODIFIED:20170830T023841Z
UID:10000758-1504022400-1504026000@www.racetime.info
SUMMARY:Paris Cross Country Meet
DESCRIPTION:Paris Girls Overall Results Aug 29\n\nParis Girls Team Results Aug 29\n\nParis Boys Overall Results Aug 29\n\nParis Boys Team Results Aug 29
URL:https://www.racetime.info/event/paris-cross-country-meet-6/
LOCATION:Paris Fairgrounds\, 1104 North Main Street\, Paris \, IL\, 61944\, United States
CATEGORIES:2017 Cross Country Results
GEO:39.630273;-87.6927984
X-APPLE-STRUCTURED-LOCATION;VALUE=URI;X-ADDRESS=Paris Fairgrounds 1104 North Main Street Paris  IL 61944 United States;X-APPLE-RADIUS=500;X-TITLE=1104 North Main Street:geo:-87.6927984,39.630273
END:VEVENT
BEGIN:VEVENT
DTSTART;TZID=America/Chicago:20170815T160000
DTEND;TZID=America/Chicago:20170815T170000
DTSTAMP:20260424T024918
CREATED:20170816T182054Z
LAST-MODIFIED:20170816T182054Z
UID:10000757-1502812800-1502816400@www.racetime.info
SUMMARY:Paris Cross Country Meet
DESCRIPTION:Paris Girls Overall Aug 15\n\nParis Girls Team Results Aug 15\n\nParis Boys Overall Aug 15\n\nParis Boys Team Results Aug 15
URL:https://www.racetime.info/event/paris-cross-country-meet-4/
LOCATION:Paris Fairgrounds\, 1104 North Main Street\, Paris \, IL\, 61944\, United States
CATEGORIES:2017 Cross Country Results
GEO:39.630273;-87.6927984
X-APPLE-STRUCTURED-LOCATION;VALUE=URI;X-ADDRESS=Paris Fairgrounds 1104 North Main Street Paris  IL 61944 United States;X-APPLE-RADIUS=500;X-TITLE=1104 North Main Street:geo:-87.6927984,39.630273
END:VEVENT
END:VCALENDAR