BEGIN:VCALENDAR
VERSION:2.0
PRODID:-//Race Time - ECPv6.15.13//NONSGML v1.0//EN
CALSCALE:GREGORIAN
METHOD:PUBLISH
X-ORIGINAL-URL:https://www.racetime.info
X-WR-CALDESC:Events for Race Time
REFRESH-INTERVAL;VALUE=DURATION:PT1H
X-Robots-Tag:noindex
X-PUBLISHED-TTL:PT1H
BEGIN:VTIMEZONE
TZID:America/Chicago
BEGIN:DAYLIGHT
TZOFFSETFROM:-0600
TZOFFSETTO:-0500
TZNAME:CDT
DTSTART:20200308T080000
END:DAYLIGHT
BEGIN:STANDARD
TZOFFSETFROM:-0500
TZOFFSETTO:-0600
TZNAME:CST
DTSTART:20201101T070000
END:STANDARD
BEGIN:DAYLIGHT
TZOFFSETFROM:-0600
TZOFFSETTO:-0500
TZNAME:CDT
DTSTART:20210314T080000
END:DAYLIGHT
BEGIN:STANDARD
TZOFFSETFROM:-0500
TZOFFSETTO:-0600
TZNAME:CST
DTSTART:20211107T070000
END:STANDARD
BEGIN:DAYLIGHT
TZOFFSETFROM:-0600
TZOFFSETTO:-0500
TZNAME:CDT
DTSTART:20220313T080000
END:DAYLIGHT
BEGIN:STANDARD
TZOFFSETFROM:-0500
TZOFFSETTO:-0600
TZNAME:CST
DTSTART:20221106T070000
END:STANDARD
END:VTIMEZONE
BEGIN:VEVENT
DTSTART;TZID=America/Chicago:20210918T080000
DTEND;TZID=America/Chicago:20210918T170000
DTSTAMP:20260424T000503
CREATED:20210531T121935Z
LAST-MODIFIED:20210918T185150Z
UID:10001989-1631952000-1631984400@www.racetime.info
SUMMARY:StRIDEs Against Suicide Prevention 5K Run/Walk & Ride
DESCRIPTION:Strides 5K Age Group Results\n\nStrides 5K Overall Results
URL:https://www.racetime.info/event/strides-against-suicide-prevention-5k-run-walk-ride/
LOCATION:Washington Park\, 100 E. Michigan Blvd\, Michigan City\, IN\, 46360\, United States
CATEGORIES:2021-09 Results (September)
ORGANIZER;CN="Hollie Mokrzycki":MAILTO:admin@lpacounseling.com
END:VEVENT
END:VCALENDAR