BEGIN:VCALENDAR
VERSION:2.0
PRODID:-//Race Time - ECPv6.15.13//NONSGML v1.0//EN
CALSCALE:GREGORIAN
METHOD:PUBLISH
X-WR-CALNAME:Race Time
X-ORIGINAL-URL:https://www.racetime.info
X-WR-CALDESC:Events for Race Time
REFRESH-INTERVAL;VALUE=DURATION:PT1H
X-Robots-Tag:noindex
X-PUBLISHED-TTL:PT1H
BEGIN:VTIMEZONE
TZID:America/Chicago
BEGIN:DAYLIGHT
TZOFFSETFROM:-0600
TZOFFSETTO:-0500
TZNAME:CDT
DTSTART:20150308T080000
END:DAYLIGHT
BEGIN:STANDARD
TZOFFSETFROM:-0500
TZOFFSETTO:-0600
TZNAME:CST
DTSTART:20151101T070000
END:STANDARD
BEGIN:DAYLIGHT
TZOFFSETFROM:-0600
TZOFFSETTO:-0500
TZNAME:CDT
DTSTART:20160313T080000
END:DAYLIGHT
BEGIN:STANDARD
TZOFFSETFROM:-0500
TZOFFSETTO:-0600
TZNAME:CST
DTSTART:20161106T070000
END:STANDARD
BEGIN:DAYLIGHT
TZOFFSETFROM:-0600
TZOFFSETTO:-0500
TZNAME:CDT
DTSTART:20170312T080000
END:DAYLIGHT
BEGIN:STANDARD
TZOFFSETFROM:-0500
TZOFFSETTO:-0600
TZNAME:CST
DTSTART:20171105T070000
END:STANDARD
END:VTIMEZONE
BEGIN:VEVENT
DTSTART;TZID=America/Chicago:20160821T090000
DTEND;TZID=America/Chicago:20160821T110000
DTSTAMP:20260423T224005
CREATED:20160727T153357Z
LAST-MODIFIED:20160821T175125Z
UID:10000735-1471770000-1471777200@www.racetime.info
SUMMARY:Chili Dump 5K Run/Walk
DESCRIPTION:Chili Dump 5K Overall Results
URL:https://www.racetime.info/event/chili-dump-5k-runwalk/
LOCATION:Downtown Barrington\, Park Avenue (Commuter Lot)\, Barrington\, IL\, 60010\, United States
CATEGORIES:2016-08 Results (August)
ORGANIZER;CN="Ian":MAILTO:chilidumprun@att.net
GEO:42.1526661;-88.133274
X-APPLE-STRUCTURED-LOCATION;VALUE=URI;X-ADDRESS=Downtown Barrington Park Avenue (Commuter Lot) Barrington IL 60010 United States;X-APPLE-RADIUS=500;X-TITLE=Park Avenue (Commuter Lot):geo:-88.133274,42.1526661
END:VEVENT
END:VCALENDAR