BEGIN:VCALENDAR
VERSION:2.0
PRODID:-//Race Time - ECPv6.15.13//NONSGML v1.0//EN
CALSCALE:GREGORIAN
METHOD:PUBLISH
X-ORIGINAL-URL:https://www.racetime.info
X-WR-CALDESC:Events for Race Time
REFRESH-INTERVAL;VALUE=DURATION:PT1H
X-Robots-Tag:noindex
X-PUBLISHED-TTL:PT1H
BEGIN:VTIMEZONE
TZID:America/Chicago
BEGIN:DAYLIGHT
TZOFFSETFROM:-0600
TZOFFSETTO:-0500
TZNAME:CDT
DTSTART:20210314T080000
END:DAYLIGHT
BEGIN:STANDARD
TZOFFSETFROM:-0500
TZOFFSETTO:-0600
TZNAME:CST
DTSTART:20211107T070000
END:STANDARD
BEGIN:DAYLIGHT
TZOFFSETFROM:-0600
TZOFFSETTO:-0500
TZNAME:CDT
DTSTART:20220313T080000
END:DAYLIGHT
BEGIN:STANDARD
TZOFFSETFROM:-0500
TZOFFSETTO:-0600
TZNAME:CST
DTSTART:20221106T070000
END:STANDARD
BEGIN:DAYLIGHT
TZOFFSETFROM:-0600
TZOFFSETTO:-0500
TZNAME:CDT
DTSTART:20230312T080000
END:DAYLIGHT
BEGIN:STANDARD
TZOFFSETFROM:-0500
TZOFFSETTO:-0600
TZNAME:CST
DTSTART:20231105T070000
END:STANDARD
BEGIN:DAYLIGHT
TZOFFSETFROM:-0600
TZOFFSETTO:-0500
TZNAME:CDT
DTSTART:20240310T080000
END:DAYLIGHT
BEGIN:STANDARD
TZOFFSETFROM:-0500
TZOFFSETTO:-0600
TZNAME:CST
DTSTART:20241103T070000
END:STANDARD
END:VTIMEZONE
BEGIN:VEVENT
DTSTART;TZID=America/Chicago:20230506T090000
DTEND;TZID=America/Chicago:20230506T103000
DTSTAMP:20260424T041616
CREATED:20220504T112441Z
LAST-MODIFIED:20230506T162937Z
UID:10001285-1683363600-1683369000@www.racetime.info
SUMMARY:Mattea's Joy Superhero 5K
DESCRIPTION:Mattea’s Joy 5K Age Group Results\n\nMattea’s Joy 5K Overall Results
URL:https://www.racetime.info/event/copy-of-matteas-joy-superhero-5k/
LOCATION:Perry Farm Park\, 459 N. Kennedy Drive\, Bourbonnais\, IL\, 60914\, United States
CATEGORIES:2023-05 Results (May)
ORGANIZER;CN="Jamie Freedlund":MAILTO:jamie@matteasjoy.org
GEO:41.1551827;-87.8783865
X-APPLE-STRUCTURED-LOCATION;VALUE=URI;X-ADDRESS=Perry Farm Park 459 N. Kennedy Drive Bourbonnais IL 60914 United States;X-APPLE-RADIUS=500;X-TITLE=459 N. Kennedy Drive:geo:-87.8783865,41.1551827
END:VEVENT
BEGIN:VEVENT
DTSTART;TZID=America/Chicago:20220507T080000
DTEND;TZID=America/Chicago:20220507T093000
DTSTAMP:20260424T041616
CREATED:20220504T112441Z
LAST-MODIFIED:20220507T184048Z
UID:10001295-1651910400-1651915800@www.racetime.info
SUMMARY:Mattea's Joy Superhero 5K
DESCRIPTION:Mattea’s Joy Superhero 5K Age Group Results\n\nMattea’s Joy Superhero 5K Overall Results
URL:https://www.racetime.info/event/matteas-joy-5k/
LOCATION:Perry Farm Park\, 459 N. Kennedy Drive\, Bourbonnais\, IL\, 60914\, United States
CATEGORIES:2022-05 Results (May)
ORGANIZER;CN="Jamie Freedlund":MAILTO:jamie@matteasjoy.org
GEO:41.1551827;-87.8783865
X-APPLE-STRUCTURED-LOCATION;VALUE=URI;X-ADDRESS=Perry Farm Park 459 N. Kennedy Drive Bourbonnais IL 60914 United States;X-APPLE-RADIUS=500;X-TITLE=459 N. Kennedy Drive:geo:-87.8783865,41.1551827
END:VEVENT
END:VCALENDAR