BEGIN:VCALENDAR
VERSION:2.0
PRODID:-//Race Time - ECPv6.15.13//NONSGML v1.0//EN
CALSCALE:GREGORIAN
METHOD:PUBLISH
X-ORIGINAL-URL:https://www.racetime.info
X-WR-CALDESC:Events for Race Time
REFRESH-INTERVAL;VALUE=DURATION:PT1H
X-Robots-Tag:noindex
X-PUBLISHED-TTL:PT1H
BEGIN:VTIMEZONE
TZID:America/Chicago
BEGIN:DAYLIGHT
TZOFFSETFROM:-0600
TZOFFSETTO:-0500
TZNAME:CDT
DTSTART:20160313T080000
END:DAYLIGHT
BEGIN:STANDARD
TZOFFSETFROM:-0500
TZOFFSETTO:-0600
TZNAME:CST
DTSTART:20161106T070000
END:STANDARD
BEGIN:DAYLIGHT
TZOFFSETFROM:-0600
TZOFFSETTO:-0500
TZNAME:CDT
DTSTART:20170312T080000
END:DAYLIGHT
BEGIN:STANDARD
TZOFFSETFROM:-0500
TZOFFSETTO:-0600
TZNAME:CST
DTSTART:20171105T070000
END:STANDARD
BEGIN:DAYLIGHT
TZOFFSETFROM:-0600
TZOFFSETTO:-0500
TZNAME:CDT
DTSTART:20180311T080000
END:DAYLIGHT
BEGIN:STANDARD
TZOFFSETFROM:-0500
TZOFFSETTO:-0600
TZNAME:CST
DTSTART:20181104T070000
END:STANDARD
BEGIN:DAYLIGHT
TZOFFSETFROM:-0600
TZOFFSETTO:-0500
TZNAME:CDT
DTSTART:20190310T080000
END:DAYLIGHT
BEGIN:STANDARD
TZOFFSETFROM:-0500
TZOFFSETTO:-0600
TZNAME:CST
DTSTART:20191103T070000
END:STANDARD
BEGIN:DAYLIGHT
TZOFFSETFROM:-0600
TZOFFSETTO:-0500
TZNAME:CDT
DTSTART:20200308T080000
END:DAYLIGHT
BEGIN:STANDARD
TZOFFSETFROM:-0500
TZOFFSETTO:-0600
TZNAME:CST
DTSTART:20201101T070000
END:STANDARD
BEGIN:DAYLIGHT
TZOFFSETFROM:-0600
TZOFFSETTO:-0500
TZNAME:CDT
DTSTART:20210314T080000
END:DAYLIGHT
BEGIN:STANDARD
TZOFFSETFROM:-0500
TZOFFSETTO:-0600
TZNAME:CST
DTSTART:20211107T070000
END:STANDARD
BEGIN:DAYLIGHT
TZOFFSETFROM:-0600
TZOFFSETTO:-0500
TZNAME:CDT
DTSTART:20220313T080000
END:DAYLIGHT
BEGIN:STANDARD
TZOFFSETFROM:-0500
TZOFFSETTO:-0600
TZNAME:CST
DTSTART:20221106T070000
END:STANDARD
BEGIN:DAYLIGHT
TZOFFSETFROM:-0600
TZOFFSETTO:-0500
TZNAME:CDT
DTSTART:20230312T080000
END:DAYLIGHT
BEGIN:STANDARD
TZOFFSETFROM:-0500
TZOFFSETTO:-0600
TZNAME:CST
DTSTART:20231105T070000
END:STANDARD
BEGIN:DAYLIGHT
TZOFFSETFROM:-0600
TZOFFSETTO:-0500
TZNAME:CDT
DTSTART:20240310T080000
END:DAYLIGHT
BEGIN:STANDARD
TZOFFSETFROM:-0500
TZOFFSETTO:-0600
TZNAME:CST
DTSTART:20241103T070000
END:STANDARD
END:VTIMEZONE
BEGIN:VEVENT
DTSTART;TZID=America/Chicago:20231011T160000
DTEND;TZID=America/Chicago:20231011T173000
DTSTAMP:20260424T011223
CREATED:20170901T114454Z
LAST-MODIFIED:20231012T002627Z
UID:10000810-1697040000-1697045400@www.racetime.info
SUMMARY:Indian Trail PAW PAC Cross Country Meet
DESCRIPTION:PAW PAC Varsity Girls Overall Results\n\nPAW PAC Varsity Girls Team Results\n\nPAW PAC Varsity Boys Overall Results\n\nPAW PAC Varsity Boys Team Results\n\nPAW PAC Jr. Varsity Girls Overall Results\n\nPAW PAC Jr. Varsity Girls Team Results\n\nPAW PAC Jr. Varsity Boys Overall Results\n\nPAW PAC Jr. Varsity Boys Team Results\n\nPAW PAC Open Girls Overall Results\n\nPAW PAC Open Boys Overall Results
URL:https://www.racetime.info/event/copy-of-indian-trail-paw-pac-cross-country-meet/
LOCATION:Plainfield East High School\, 12001 S Naperville Rd\, Plainfield\, IL\, United States
CATEGORIES:2023 Cross Country Results
ORGANIZER;CN="Amy Bishop":MAILTO:abishop@psd202.org
GEO:41.6649235;-88.1739219
X-APPLE-STRUCTURED-LOCATION;VALUE=URI;X-ADDRESS=Plainfield East High School 12001 S Naperville Rd Plainfield IL United States;X-APPLE-RADIUS=500;X-TITLE=12001 S Naperville Rd:geo:-88.1739219,41.6649235
END:VEVENT
BEGIN:VEVENT
DTSTART;TZID=America/Chicago:20221019T160000
DTEND;TZID=America/Chicago:20221019T180000
DTSTAMP:20260424T011223
CREATED:20170901T114454Z
LAST-MODIFIED:20221020T015359Z
UID:10000808-1666195200-1666202400@www.racetime.info
SUMMARY:Indian Trail PAW PAC Cross Country Meet
DESCRIPTION:Paw Pac Varsity Girls Overall\n\nPaw Pac Varsity Girls Team\n\nPaw Pac Varsity Boys Overall\n\nPaw Pac Varsity Boys Team\n\nPaw Pac Jr Varsity Girls Overall\n\nPaw Pac Jr Varsity Girls Team\n\nPaw Pac Jr Varsity Boys Overall\n\nPaw Pac Jr Varsity Boys Team\n\nPaw Pac Open Girls Overall\n\nPaw Pac Open Boys Overall
URL:https://www.racetime.info/event/copy-of-indian-trail-paw-pac-cross-country-meet-cancelled/
LOCATION:Plainfield East High School\, 12001 S Naperville Rd\, Plainfield\, IL\, United States
CATEGORIES:2022 Cross Country Results
ORGANIZER;CN="Amy Bishop":MAILTO:abishop@psd202.org
GEO:41.6649235;-88.1739219
X-APPLE-STRUCTURED-LOCATION;VALUE=URI;X-ADDRESS=Plainfield East High School 12001 S Naperville Rd Plainfield IL United States;X-APPLE-RADIUS=500;X-TITLE=12001 S Naperville Rd:geo:-88.1739219,41.6649235
END:VEVENT
BEGIN:VEVENT
DTSTART;TZID=America/Chicago:20201006T160000
DTEND;TZID=America/Chicago:20201006T180000
DTSTAMP:20260424T011223
CREATED:20170901T114454Z
LAST-MODIFIED:20200906T003225Z
UID:10000817-1602000000-1602007200@www.racetime.info
SUMMARY:Indian Trail PAW PAC Cross Country Meet: CANCELLED
DESCRIPTION:
URL:https://www.racetime.info/event/indian-trail-paw-pac-cross-country-meet-3/
LOCATION:Plainfield East High School\, 12001 S Naperville Rd\, Plainfield\, IL\, United States
ORGANIZER;CN="Amy Bishop":MAILTO:abishop@psd202.org
GEO:41.6649235;-88.1739219
X-APPLE-STRUCTURED-LOCATION;VALUE=URI;X-ADDRESS=Plainfield East High School 12001 S Naperville Rd Plainfield IL United States;X-APPLE-RADIUS=500;X-TITLE=12001 S Naperville Rd:geo:-88.1739219,41.6649235
END:VEVENT
BEGIN:VEVENT
DTSTART;TZID=America/Chicago:20191009T160000
DTEND;TZID=America/Chicago:20191009T180000
DTSTAMP:20260424T011223
CREATED:20170901T114454Z
LAST-MODIFIED:20191010T005230Z
UID:10000816-1570636800-1570644000@www.racetime.info
SUMMARY:Indian Trail PAW PAC Cross Country Meet
DESCRIPTION:Paw Pac 6th Grade Girls Overall Results\n\nPaw Pac 6th Grade Girls Team Results\n\nPaw Pac 6th Grade Boys Overall Results\n\nPaw Pac 6th Grade Boys Team Results\n\nPaw Pac 7th Grade Girls Overall Results\n\nPaw Pak 7th Grade Girls Team Results\n\nPaw Pac 7th Grade Boys Overall Results\n\nPaw Pac 7th Grade Boys Team Results\n\nPaw Pac 8th Grade Girls Overall Results\n\nPaw Pac 8th Grade Girls Team Results\n\nPaw Pac 8th Grade Boys Overall Results\n\nPaw Pac 8th Grade Boys Team Results
URL:https://www.racetime.info/event/indian-trail-paw-pac-cross-country-meet-2/
LOCATION:Plainfield East High School\, 12001 S Naperville Rd\, Plainfield\, IL\, United States
CATEGORIES:2019 Cross Country Results
ORGANIZER;CN="Amy Bishop":MAILTO:abishop@psd202.org
GEO:41.6649235;-88.1739219
X-APPLE-STRUCTURED-LOCATION;VALUE=URI;X-ADDRESS=Plainfield East High School 12001 S Naperville Rd Plainfield IL United States;X-APPLE-RADIUS=500;X-TITLE=12001 S Naperville Rd:geo:-88.1739219,41.6649235
END:VEVENT
BEGIN:VEVENT
DTSTART;TZID=America/Chicago:20181009T160000
DTEND;TZID=America/Chicago:20181009T180000
DTSTAMP:20260424T011223
CREATED:20170901T114454Z
LAST-MODIFIED:20181010T004549Z
UID:10000820-1539100800-1539108000@www.racetime.info
SUMMARY:Indian Trail PAW PAC Cross Country Meet
DESCRIPTION:Paw Pac 6th Grade Girls Overall Results\n\nPaw Pac 6th Grade Girls Team Results\n\nPaw Pac 6th Grade Boys Overall Results\n\nPaw Pac 6th Grade Boys Team Results\n\nPaw Pac 7th Grade Boys Overall Results\n\nPaw Pac 7th Grade Boys Team Results\n\nPaw Pac 7th Grade Girls Overall Results\n\nPaw Pac 7th Grade Girls Team Results\n\nPaw Pac 8th Grade Boys Overall Results\n\nPaw Pac 8th Grade Boys Team Results\n\nPaw Pac 8th Grade Girls Overall Results\n\nPaw Pac 8th Grade Girls Team Results
URL:https://www.racetime.info/event/indian-trail-paw-pac-cross-country-meet/
LOCATION:Plainfield Central High School\, 24120 W. Fort Breggs Drive\, Plainfield\, IL\, 60544\, United States
CATEGORIES:2018 Cross Country Results
ORGANIZER;CN="Amy Bishop":MAILTO:abishop@psd202.org
GEO:41.6028485;-88.2074366
X-APPLE-STRUCTURED-LOCATION;VALUE=URI;X-ADDRESS=Plainfield Central High School 24120 W. Fort Breggs Drive Plainfield IL 60544 United States;X-APPLE-RADIUS=500;X-TITLE=24120 W. Fort Breggs Drive:geo:-88.2074366,41.6028485
END:VEVENT
BEGIN:VEVENT
DTSTART;TZID=America/Chicago:20171011T160000
DTEND;TZID=America/Chicago:20171011T180000
DTSTAMP:20260424T011223
CREATED:20170901T114454Z
LAST-MODIFIED:20171012T025535Z
UID:10000819-1507737600-1507744800@www.racetime.info
SUMMARY:Indian Trail PAW PAC Cross Country Meet
DESCRIPTION:PAW PAC 6th Grade Girls & Boys Overall Results\n\nPAW PAC 6th Grade Boys Team Results\n\nPAW PAC 6th Grade Girls Team Results\n\nPAW PAC 7th Grade Girls & Boys Overall Results\n\nPAW PAC 7th Grade Boys Team Results\n\nPAW PAC 7th Grade Girls Team Results\n\nPAW PAC 8th Grade Girls & Boys Overall Results\n\nPAW PAC 8th Grade Boys Team Results\n\nPAW PAC 8th Grade Girls Team Results
URL:https://www.racetime.info/event/indian-trail-cross-country-meet/
LOCATION:Plainfield Central High School\, 24120 W. Fort Breggs Drive\, Plainfield\, IL\, 60544\, United States
CATEGORIES:2017 Cross Country Results
ORGANIZER;CN="Amy Bishop":MAILTO:abishop@psd202.org
GEO:41.6028485;-88.2074366
X-APPLE-STRUCTURED-LOCATION;VALUE=URI;X-ADDRESS=Plainfield Central High School 24120 W. Fort Breggs Drive Plainfield IL 60544 United States;X-APPLE-RADIUS=500;X-TITLE=24120 W. Fort Breggs Drive:geo:-88.2074366,41.6028485
END:VEVENT
END:VCALENDAR