BEGIN:VCALENDAR
VERSION:2.0
PRODID:-//Race Time - ECPv6.15.13//NONSGML v1.0//EN
CALSCALE:GREGORIAN
METHOD:PUBLISH
X-ORIGINAL-URL:https://www.racetime.info
X-WR-CALDESC:Events for Race Time
REFRESH-INTERVAL;VALUE=DURATION:PT1H
X-Robots-Tag:noindex
X-PUBLISHED-TTL:PT1H
BEGIN:VTIMEZONE
TZID:America/Chicago
BEGIN:DAYLIGHT
TZOFFSETFROM:-0600
TZOFFSETTO:-0500
TZNAME:CDT
DTSTART:20180311T080000
END:DAYLIGHT
BEGIN:STANDARD
TZOFFSETFROM:-0500
TZOFFSETTO:-0600
TZNAME:CST
DTSTART:20181104T070000
END:STANDARD
BEGIN:DAYLIGHT
TZOFFSETFROM:-0600
TZOFFSETTO:-0500
TZNAME:CDT
DTSTART:20190310T080000
END:DAYLIGHT
BEGIN:STANDARD
TZOFFSETFROM:-0500
TZOFFSETTO:-0600
TZNAME:CST
DTSTART:20191103T070000
END:STANDARD
BEGIN:DAYLIGHT
TZOFFSETFROM:-0600
TZOFFSETTO:-0500
TZNAME:CDT
DTSTART:20200308T080000
END:DAYLIGHT
BEGIN:STANDARD
TZOFFSETFROM:-0500
TZOFFSETTO:-0600
TZNAME:CST
DTSTART:20201101T070000
END:STANDARD
BEGIN:DAYLIGHT
TZOFFSETFROM:-0600
TZOFFSETTO:-0500
TZNAME:CDT
DTSTART:20210314T080000
END:DAYLIGHT
BEGIN:STANDARD
TZOFFSETFROM:-0500
TZOFFSETTO:-0600
TZNAME:CST
DTSTART:20211107T070000
END:STANDARD
END:VTIMEZONE
BEGIN:VEVENT
DTSTART;TZID=America/Chicago:20200920T140000
DTEND;TZID=America/Chicago:20200920T170000
DTSTAMP:20260424T012518
CREATED:20190531T124055Z
LAST-MODIFIED:20200820T125629Z
UID:10001889-1600610400-1600621200@www.racetime.info
SUMMARY:9/11 HEROES 5K RUN/WALK: CANCELLED
DESCRIPTION:
URL:https://www.racetime.info/event/9-11-heroes-5k-run-walk-2/
LOCATION:St. James Farm\, 2S541 Winfield Road\, Warrenville\, IL\, 60555\, United States
ORGANIZER;CN="Janet Zatto":MAILTO:jztrainedme@gmail.com
GEO:41.835209;-88.1636
X-APPLE-STRUCTURED-LOCATION;VALUE=URI;X-ADDRESS=St. James Farm 2S541 Winfield Road Warrenville IL 60555 United States;X-APPLE-RADIUS=500;X-TITLE=2S541 Winfield Road:geo:-88.1636,41.835209
END:VEVENT
BEGIN:VEVENT
DTSTART;TZID=America/Chicago:20190929T140000
DTEND;TZID=America/Chicago:20190929T170000
DTSTAMP:20260424T012518
CREATED:20190531T124055Z
LAST-MODIFIED:20190929T212448Z
UID:10001890-1569765600-1569776400@www.racetime.info
SUMMARY:9/11 HEROES 5K RUN/WALK
DESCRIPTION:9 11 Heroes Run 5K Age Group Results\n\n9 11 Heroes Run 5K GoRuck Overall Results\n\n9 11 Heroes Run 5K Overall (all included) Results
URL:https://www.racetime.info/event/9-11-heroes-5k-run-walk/
LOCATION:St. James Farm\, 2S541 Winfield Road\, Warrenville\, IL\, 60555\, United States
CATEGORIES:2019-09 Results (September)
ORGANIZER;CN="Janet Zatto":MAILTO:jztrainedme@gmail.com
GEO:41.835209;-88.1636
X-APPLE-STRUCTURED-LOCATION;VALUE=URI;X-ADDRESS=St. James Farm 2S541 Winfield Road Warrenville IL 60555 United States;X-APPLE-RADIUS=500;X-TITLE=2S541 Winfield Road:geo:-88.1636,41.835209
END:VEVENT
END:VCALENDAR