BEGIN:VCALENDAR
VERSION:2.0
PRODID:-//Race Time - ECPv6.15.13//NONSGML v1.0//EN
CALSCALE:GREGORIAN
METHOD:PUBLISH
X-WR-CALNAME:Race Time
X-ORIGINAL-URL:https://www.racetime.info
X-WR-CALDESC:Events for Race Time
REFRESH-INTERVAL;VALUE=DURATION:PT1H
X-Robots-Tag:noindex
X-PUBLISHED-TTL:PT1H
BEGIN:VTIMEZONE
TZID:America/Chicago
BEGIN:DAYLIGHT
TZOFFSETFROM:-0600
TZOFFSETTO:-0500
TZNAME:CDT
DTSTART:20150308T080000
END:DAYLIGHT
BEGIN:STANDARD
TZOFFSETFROM:-0500
TZOFFSETTO:-0600
TZNAME:CST
DTSTART:20151101T070000
END:STANDARD
BEGIN:DAYLIGHT
TZOFFSETFROM:-0600
TZOFFSETTO:-0500
TZNAME:CDT
DTSTART:20160313T080000
END:DAYLIGHT
BEGIN:STANDARD
TZOFFSETFROM:-0500
TZOFFSETTO:-0600
TZNAME:CST
DTSTART:20161106T070000
END:STANDARD
BEGIN:DAYLIGHT
TZOFFSETFROM:-0600
TZOFFSETTO:-0500
TZNAME:CDT
DTSTART:20170312T080000
END:DAYLIGHT
BEGIN:STANDARD
TZOFFSETFROM:-0500
TZOFFSETTO:-0600
TZNAME:CST
DTSTART:20171105T070000
END:STANDARD
END:VTIMEZONE
BEGIN:VEVENT
DTSTART;TZID=America/Chicago:20160618T090000
DTEND;TZID=America/Chicago:20160618T110000
DTSTAMP:20260424T050917
CREATED:20160111T201241Z
LAST-MODIFIED:20160618T171840Z
UID:10000479-1466240400-1466247600@www.racetime.info
SUMMARY:Remembering Lauren 5K Run/Walk: 10th Anniversary
DESCRIPTION:Remembering Lauren 5K Age Group Results\n\nRemembering Lauren 5K Overall Results
URL:https://www.racetime.info/event/remembering-lauren-5k-runwalk-10th-anniversary/
LOCATION:Willowbrook High School\, 1250 South Ardmore Avenue\, Villa Park\, IL\, 60181\, United States
CATEGORIES:2016-06 Results (June)
ORGANIZER;CN="Janice Kiefer":MAILTO:jkiefer@dupage88.net
GEO:41.8897519;-87.9889543
X-APPLE-STRUCTURED-LOCATION;VALUE=URI;X-ADDRESS=Willowbrook High School 1250 South Ardmore Avenue Villa Park IL 60181 United States;X-APPLE-RADIUS=500;X-TITLE=1250 South Ardmore Avenue:geo:-87.9889543,41.8897519
END:VEVENT
END:VCALENDAR