BEGIN:VCALENDAR
VERSION:2.0
PRODID:-//Race Time - ECPv6.15.13//NONSGML v1.0//EN
CALSCALE:GREGORIAN
METHOD:PUBLISH
X-WR-CALNAME:Race Time
X-ORIGINAL-URL:https://www.racetime.info
X-WR-CALDESC:Events for Race Time
REFRESH-INTERVAL;VALUE=DURATION:PT1H
X-Robots-Tag:noindex
X-PUBLISHED-TTL:PT1H
BEGIN:VTIMEZONE
TZID:America/Chicago
BEGIN:DAYLIGHT
TZOFFSETFROM:-0600
TZOFFSETTO:-0500
TZNAME:CDT
DTSTART:20140309T080000
END:DAYLIGHT
BEGIN:STANDARD
TZOFFSETFROM:-0500
TZOFFSETTO:-0600
TZNAME:CST
DTSTART:20141102T070000
END:STANDARD
BEGIN:DAYLIGHT
TZOFFSETFROM:-0600
TZOFFSETTO:-0500
TZNAME:CDT
DTSTART:20150308T080000
END:DAYLIGHT
BEGIN:STANDARD
TZOFFSETFROM:-0500
TZOFFSETTO:-0600
TZNAME:CST
DTSTART:20151101T070000
END:STANDARD
BEGIN:DAYLIGHT
TZOFFSETFROM:-0600
TZOFFSETTO:-0500
TZNAME:CDT
DTSTART:20160313T080000
END:DAYLIGHT
BEGIN:STANDARD
TZOFFSETFROM:-0500
TZOFFSETTO:-0600
TZNAME:CST
DTSTART:20161106T070000
END:STANDARD
BEGIN:DAYLIGHT
TZOFFSETFROM:-0600
TZOFFSETTO:-0500
TZNAME:CDT
DTSTART:20170312T080000
END:DAYLIGHT
BEGIN:STANDARD
TZOFFSETFROM:-0500
TZOFFSETTO:-0600
TZNAME:CST
DTSTART:20171105T070000
END:STANDARD
BEGIN:DAYLIGHT
TZOFFSETFROM:-0600
TZOFFSETTO:-0500
TZNAME:CDT
DTSTART:20180311T080000
END:DAYLIGHT
BEGIN:STANDARD
TZOFFSETFROM:-0500
TZOFFSETTO:-0600
TZNAME:CST
DTSTART:20181104T070000
END:STANDARD
BEGIN:DAYLIGHT
TZOFFSETFROM:-0600
TZOFFSETTO:-0500
TZNAME:CDT
DTSTART:20190310T080000
END:DAYLIGHT
BEGIN:STANDARD
TZOFFSETFROM:-0500
TZOFFSETTO:-0600
TZNAME:CST
DTSTART:20191103T070000
END:STANDARD
BEGIN:DAYLIGHT
TZOFFSETFROM:-0600
TZOFFSETTO:-0500
TZNAME:CDT
DTSTART:20200308T080000
END:DAYLIGHT
BEGIN:STANDARD
TZOFFSETFROM:-0500
TZOFFSETTO:-0600
TZNAME:CST
DTSTART:20201101T070000
END:STANDARD
END:VTIMEZONE
BEGIN:VEVENT
DTSTART;TZID=America/Chicago:20191128T080000
DTEND;TZID=America/Chicago:20191128T100000
DTSTAMP:20260424T011826
CREATED:20171103T170741Z
LAST-MODIFIED:20191201T121533Z
UID:10001696-1574928000-1574935200@www.racetime.info
SUMMARY:Wheaton Turkey Trot 5K Run/Walk
DESCRIPTION:Wheaton Turkey Trot 5K Age Group Results\n\nWheaton Turkey Trot 5K Overall Results
URL:https://www.racetime.info/event/wheaton-turkey-trot-5k-run-walk-2/
LOCATION:Emerson Elementary School\, 119 S. Woodlawn Street\, Wheaton\, IL\, 60187\, United States
CATEGORIES:2019-11 Results (November)
ORGANIZER;CN="Jen Moreno or Brandon Lane":MAILTO:wheatonilturkeytrot@gmail.com
GEO:41.863329;-88.124143
X-APPLE-STRUCTURED-LOCATION;VALUE=URI;X-ADDRESS=Emerson Elementary School 119 S. Woodlawn Street Wheaton IL 60187 United States;X-APPLE-RADIUS=500;X-TITLE=119 S. Woodlawn Street:geo:-88.124143,41.863329
END:VEVENT
BEGIN:VEVENT
DTSTART;TZID=America/Chicago:20181122T080000
DTEND;TZID=America/Chicago:20181122T100000
DTSTAMP:20260424T011826
CREATED:20171103T170741Z
LAST-MODIFIED:20181122T191331Z
UID:10001695-1542873600-1542880800@www.racetime.info
SUMMARY:Wheaton Turkey Trot 5K Run/Walk
DESCRIPTION:Wheaton Turkey Trot 5K Age Group Results\n\nWheaton Turkey Trot 5K Overall Results
URL:https://www.racetime.info/event/wheaton-turkey-trot-5k-run-walk/
LOCATION:Emerson Elementary School\, 119 S. Woodlawn Street\, Wheaton\, IL\, 60187\, United States
CATEGORIES:2018-11 Results (November)
ORGANIZER;CN="Jen Moreno or Brandon Lane":MAILTO:wheatonilturkeytrot@gmail.com
GEO:41.863329;-88.124143
X-APPLE-STRUCTURED-LOCATION;VALUE=URI;X-ADDRESS=Emerson Elementary School 119 S. Woodlawn Street Wheaton IL 60187 United States;X-APPLE-RADIUS=500;X-TITLE=119 S. Woodlawn Street:geo:-88.124143,41.863329
END:VEVENT
BEGIN:VEVENT
DTSTART;TZID=America/Chicago:20171123T080000
DTEND;TZID=America/Chicago:20171123T100000
DTSTAMP:20260424T011826
CREATED:20171103T170741Z
LAST-MODIFIED:20171123T195005Z
UID:10001694-1511424000-1511431200@www.racetime.info
SUMMARY:Wheaton Turkey Trot 5K Run/Walk
DESCRIPTION:Wheaton Turkey Trot 5K Age Group Results\n\nWheaton Turkey Trot 5K Overall Results
URL:https://www.racetime.info/event/wheaton-turkey-trot-5k-runwalk-2/
LOCATION:Emerson Elementary School\, 119 S. Woodlawn Street\, Wheaton\, IL\, 60187\, United States
CATEGORIES:2017-11 Results (November)
ORGANIZER;CN="Jen Moreno or Brandon Lane":MAILTO:wheatonilturkeytrot@gmail.com
GEO:41.863329;-88.124143
X-APPLE-STRUCTURED-LOCATION;VALUE=URI;X-ADDRESS=Emerson Elementary School 119 S. Woodlawn Street Wheaton IL 60187 United States;X-APPLE-RADIUS=500;X-TITLE=119 S. Woodlawn Street:geo:-88.124143,41.863329
END:VEVENT
BEGIN:VEVENT
DTSTART;TZID=America/Chicago:20161124T080000
DTEND;TZID=America/Chicago:20161124T100000
DTSTAMP:20260424T011826
CREATED:20161014T113230Z
LAST-MODIFIED:20161124T192421Z
UID:10000850-1479974400-1479981600@www.racetime.info
SUMMARY:Wheaton\, IL Turkey Trot 5K (Emerson PTA)
DESCRIPTION:Wheaton Turkey Trot 5K Age Group Results\n\nWheaton Turkey Trot 5K Overall Results
URL:https://www.racetime.info/event/wheaton-turkey-trot-5k-emerson-pta/
LOCATION:Emerson Elementary School\, 119 S. Woodlawn Street\, Wheaton\, IL\, 60187\, United States
CATEGORIES:2016-11 Results (November)
ORGANIZER;CN="Jen Moreno or Brandon Lane":MAILTO:wheatonilturkeytrot@gmail.com
GEO:41.863329;-88.124143
X-APPLE-STRUCTURED-LOCATION;VALUE=URI;X-ADDRESS=Emerson Elementary School 119 S. Woodlawn Street Wheaton IL 60187 United States;X-APPLE-RADIUS=500;X-TITLE=119 S. Woodlawn Street:geo:-88.124143,41.863329
END:VEVENT
BEGIN:VEVENT
DTSTART;TZID=America/Chicago:20151126T080000
DTEND;TZID=America/Chicago:20151126T100000
DTSTAMP:20260424T011826
CREATED:20151018T035351Z
LAST-MODIFIED:20151126T190851Z
UID:10000461-1448524800-1448532000@www.racetime.info
SUMMARY:Wheaton Turkey Trot 5K Run/Walk
DESCRIPTION:Wheaton Turkey Trot 5K Age Group Results\n\nWheaton Turkey Trot 5K Overall Results
URL:https://www.racetime.info/event/wheaton-turkey-trot-5k-runwalk/
LOCATION:Emerson Elementary School\, 119 S. Woodlawn Street\, Wheaton\, IL\, 60187\, United States
CATEGORIES:2015-11 Results (November)
ORGANIZER;CN="Jen Moreno or Brandon Lane":MAILTO:wheatonilturkeytrot@gmail.com
GEO:41.863329;-88.124143
X-APPLE-STRUCTURED-LOCATION;VALUE=URI;X-ADDRESS=Emerson Elementary School 119 S. Woodlawn Street Wheaton IL 60187 United States;X-APPLE-RADIUS=500;X-TITLE=119 S. Woodlawn Street:geo:-88.124143,41.863329
END:VEVENT
END:VCALENDAR