BEGIN:VCALENDAR
VERSION:2.0
PRODID:-//Race Time - ECPv6.15.13//NONSGML v1.0//EN
CALSCALE:GREGORIAN
METHOD:PUBLISH
X-WR-CALNAME:Race Time
X-ORIGINAL-URL:https://www.racetime.info
X-WR-CALDESC:Events for Race Time
REFRESH-INTERVAL;VALUE=DURATION:PT1H
X-Robots-Tag:noindex
X-PUBLISHED-TTL:PT1H
BEGIN:VTIMEZONE
TZID:America/Chicago
BEGIN:DAYLIGHT
TZOFFSETFROM:-0600
TZOFFSETTO:-0500
TZNAME:CDT
DTSTART:20150308T080000
END:DAYLIGHT
BEGIN:STANDARD
TZOFFSETFROM:-0500
TZOFFSETTO:-0600
TZNAME:CST
DTSTART:20151101T070000
END:STANDARD
BEGIN:DAYLIGHT
TZOFFSETFROM:-0600
TZOFFSETTO:-0500
TZNAME:CDT
DTSTART:20160313T080000
END:DAYLIGHT
BEGIN:STANDARD
TZOFFSETFROM:-0500
TZOFFSETTO:-0600
TZNAME:CST
DTSTART:20161106T070000
END:STANDARD
BEGIN:DAYLIGHT
TZOFFSETFROM:-0600
TZOFFSETTO:-0500
TZNAME:CDT
DTSTART:20170312T080000
END:DAYLIGHT
BEGIN:STANDARD
TZOFFSETFROM:-0500
TZOFFSETTO:-0600
TZNAME:CST
DTSTART:20171105T070000
END:STANDARD
END:VTIMEZONE
BEGIN:VEVENT
DTSTART;TZID=America/Chicago:20160611T090000
DTEND;TZID=America/Chicago:20160611T110000
DTSTAMP:20260424T035402
CREATED:20160211T210952Z
LAST-MODIFIED:20160611T174823Z
UID:10000537-1465635600-1465642800@www.racetime.info
SUMMARY:Summit Summer Splash 5K Run/Walk
DESCRIPTION:Summer Splash 5K Age Group Results\n\nSummer Splash 5K Overall Results
URL:https://www.racetime.info/event/summit-summer-splash-5k-runwalk/
LOCATION:Summit Park District\, 5700 S. Archer Road\, Summit\, IL\, 60501\, United States
CATEGORIES:2016-06 Results (June)
ORGANIZER;CN="Jennifer Bonbrake":MAILTO:jbonbrake@summitparks.org
GEO:41.7872188;-87.8128328
X-APPLE-STRUCTURED-LOCATION;VALUE=URI;X-ADDRESS=Summit Park District 5700 S. Archer Road Summit IL 60501 United States;X-APPLE-RADIUS=500;X-TITLE=5700 S. Archer Road:geo:-87.8128328,41.7872188
END:VEVENT
END:VCALENDAR