BEGIN:VCALENDAR
VERSION:2.0
PRODID:-//Race Time - ECPv6.15.13//NONSGML v1.0//EN
CALSCALE:GREGORIAN
METHOD:PUBLISH
X-ORIGINAL-URL:https://www.racetime.info
X-WR-CALDESC:Events for Race Time
REFRESH-INTERVAL;VALUE=DURATION:PT1H
X-Robots-Tag:noindex
X-PUBLISHED-TTL:PT1H
BEGIN:VTIMEZONE
TZID:America/Chicago
BEGIN:DAYLIGHT
TZOFFSETFROM:-0600
TZOFFSETTO:-0500
TZNAME:CDT
DTSTART:20140309T080000
END:DAYLIGHT
BEGIN:STANDARD
TZOFFSETFROM:-0500
TZOFFSETTO:-0600
TZNAME:CST
DTSTART:20141102T070000
END:STANDARD
BEGIN:DAYLIGHT
TZOFFSETFROM:-0600
TZOFFSETTO:-0500
TZNAME:CDT
DTSTART:20150308T080000
END:DAYLIGHT
BEGIN:STANDARD
TZOFFSETFROM:-0500
TZOFFSETTO:-0600
TZNAME:CST
DTSTART:20151101T070000
END:STANDARD
BEGIN:DAYLIGHT
TZOFFSETFROM:-0600
TZOFFSETTO:-0500
TZNAME:CDT
DTSTART:20160313T080000
END:DAYLIGHT
BEGIN:STANDARD
TZOFFSETFROM:-0500
TZOFFSETTO:-0600
TZNAME:CST
DTSTART:20161106T070000
END:STANDARD
END:VTIMEZONE
BEGIN:VEVENT
DTSTART;TZID=America/Chicago:20151101T100000
DTEND;TZID=America/Chicago:20151101T120000
DTSTAMP:20260424T011735
CREATED:20150924T110858Z
LAST-MODIFIED:20151101T184541Z
UID:10000427-1446372000-1446379200@www.racetime.info
SUMMARY:Dash For The Dead 5K Run/Walk
DESCRIPTION:Dash For The Dead 5K Age Group Results\n\nDash For The Dead 5K Overall Results
URL:https://www.racetime.info/event/dash-for-the-dead-5k-runwalk/
LOCATION:Bedford Park District\, 7735 66th Place\, Bedford Park\, IL\, 60499\, United States
CATEGORIES:2015-11 Results (November)
ORGANIZER;CN="Jennifer Julius":MAILTO:jjulius@sd104.us
GEO:41.7710673;-87.8136199
X-APPLE-STRUCTURED-LOCATION;VALUE=URI;X-ADDRESS=Bedford Park District 7735 66th Place Bedford Park IL 60499 United States;X-APPLE-RADIUS=500;X-TITLE=7735 66th Place:geo:-87.8136199,41.7710673
END:VEVENT
END:VCALENDAR