BEGIN:VCALENDAR
VERSION:2.0
PRODID:-//Race Time - ECPv6.15.13//NONSGML v1.0//EN
CALSCALE:GREGORIAN
METHOD:PUBLISH
X-ORIGINAL-URL:https://www.racetime.info
X-WR-CALDESC:Events for Race Time
REFRESH-INTERVAL;VALUE=DURATION:PT1H
X-Robots-Tag:noindex
X-PUBLISHED-TTL:PT1H
BEGIN:VTIMEZONE
TZID:America/Chicago
BEGIN:DAYLIGHT
TZOFFSETFROM:-0600
TZOFFSETTO:-0500
TZNAME:CDT
DTSTART:20160313T080000
END:DAYLIGHT
BEGIN:STANDARD
TZOFFSETFROM:-0500
TZOFFSETTO:-0600
TZNAME:CST
DTSTART:20161106T070000
END:STANDARD
BEGIN:DAYLIGHT
TZOFFSETFROM:-0600
TZOFFSETTO:-0500
TZNAME:CDT
DTSTART:20170312T080000
END:DAYLIGHT
BEGIN:STANDARD
TZOFFSETFROM:-0500
TZOFFSETTO:-0600
TZNAME:CST
DTSTART:20171105T070000
END:STANDARD
BEGIN:DAYLIGHT
TZOFFSETFROM:-0600
TZOFFSETTO:-0500
TZNAME:CDT
DTSTART:20180311T080000
END:DAYLIGHT
BEGIN:STANDARD
TZOFFSETFROM:-0500
TZOFFSETTO:-0600
TZNAME:CST
DTSTART:20181104T070000
END:STANDARD
BEGIN:DAYLIGHT
TZOFFSETFROM:-0600
TZOFFSETTO:-0500
TZNAME:CDT
DTSTART:20190310T080000
END:DAYLIGHT
BEGIN:STANDARD
TZOFFSETFROM:-0500
TZOFFSETTO:-0600
TZNAME:CST
DTSTART:20191103T070000
END:STANDARD
BEGIN:DAYLIGHT
TZOFFSETFROM:-0600
TZOFFSETTO:-0500
TZNAME:CDT
DTSTART:20200308T080000
END:DAYLIGHT
BEGIN:STANDARD
TZOFFSETFROM:-0500
TZOFFSETTO:-0600
TZNAME:CST
DTSTART:20201101T070000
END:STANDARD
END:VTIMEZONE
BEGIN:VEVENT
DTSTART;TZID=America/Chicago:20190518T080000
DTEND;TZID=America/Chicago:20190518T100000
DTSTAMP:20260424T012520
CREATED:20170131T220242Z
LAST-MODIFIED:20190518T190829Z
UID:10000905-1558166400-1558173600@www.racetime.info
SUMMARY:Let It Be Us 5K Run/Walk
DESCRIPTION:Let It Be Us 5K Overall Results
URL:https://www.racetime.info/event/let-it-be-us-5k-run-walk-2/
LOCATION:Citizens Park\, 511 Lake Zurich Road\, Barrington\, IL\, 60010\, United States
CATEGORIES:2019-05 Results (May)
ORGANIZER;CN="Jennifer McAndrews":MAILTO:jennifermcandrews@letitbeus.org
GEO:42.1628694;-88.1244873
X-APPLE-STRUCTURED-LOCATION;VALUE=URI;X-ADDRESS=Citizens Park 511 Lake Zurich Road Barrington IL 60010 United States;X-APPLE-RADIUS=500;X-TITLE=511 Lake Zurich Road:geo:-88.1244873,42.1628694
END:VEVENT
BEGIN:VEVENT
DTSTART;TZID=America/Chicago:20180519T080000
DTEND;TZID=America/Chicago:20180519T100000
DTSTAMP:20260424T012520
CREATED:20170131T220242Z
LAST-MODIFIED:20180519T160656Z
UID:10000903-1526716800-1526724000@www.racetime.info
SUMMARY:Let It Be Us 5K Run/Walk
DESCRIPTION:Let It Be Us 5K Overall Results
URL:https://www.racetime.info/event/let-it-be-us-5k-run-walk/
LOCATION:Citizens Park\, 511 Lake Zurich Road\, Barrington\, IL\, 60010\, United States
CATEGORIES:2018-05 Results (May)
ORGANIZER;CN="Jennifer McAndrews":MAILTO:jennifermcandrews@letitbeus.org
GEO:42.1628694;-88.1244873
X-APPLE-STRUCTURED-LOCATION;VALUE=URI;X-ADDRESS=Citizens Park 511 Lake Zurich Road Barrington IL 60010 United States;X-APPLE-RADIUS=500;X-TITLE=511 Lake Zurich Road:geo:-88.1244873,42.1628694
END:VEVENT
BEGIN:VEVENT
DTSTART;TZID=America/Chicago:20170520T080000
DTEND;TZID=America/Chicago:20170520T100000
DTSTAMP:20260424T012520
CREATED:20170131T220242Z
LAST-MODIFIED:20170522T101847Z
UID:10000896-1495267200-1495274400@www.racetime.info
SUMMARY:Let It Be Us 5K Run/Walk
DESCRIPTION:Let It Be Us 5K Overall Results
URL:https://www.racetime.info/event/let-it-be-us-5k-runwalk-2/
LOCATION:Citizens Park\, 511 Lake Zurich Road\, Barrington\, IL\, 60010\, United States
CATEGORIES:2017-05 Results (May)
ORGANIZER;CN="Jennifer McAndrews":MAILTO:jennifermcandrews@letitbeus.org
GEO:42.1628694;-88.1244873
X-APPLE-STRUCTURED-LOCATION;VALUE=URI;X-ADDRESS=Citizens Park 511 Lake Zurich Road Barrington IL 60010 United States;X-APPLE-RADIUS=500;X-TITLE=511 Lake Zurich Road:geo:-88.1244873,42.1628694
END:VEVENT
END:VCALENDAR