BEGIN:VCALENDAR
VERSION:2.0
PRODID:-//Race Time - ECPv6.15.13//NONSGML v1.0//EN
CALSCALE:GREGORIAN
METHOD:PUBLISH
X-ORIGINAL-URL:https://www.racetime.info
X-WR-CALDESC:Events for Race Time
REFRESH-INTERVAL;VALUE=DURATION:PT1H
X-Robots-Tag:noindex
X-PUBLISHED-TTL:PT1H
BEGIN:VTIMEZONE
TZID:America/Chicago
BEGIN:DAYLIGHT
TZOFFSETFROM:-0600
TZOFFSETTO:-0500
TZNAME:CDT
DTSTART:20160313T080000
END:DAYLIGHT
BEGIN:STANDARD
TZOFFSETFROM:-0500
TZOFFSETTO:-0600
TZNAME:CST
DTSTART:20161106T070000
END:STANDARD
BEGIN:DAYLIGHT
TZOFFSETFROM:-0600
TZOFFSETTO:-0500
TZNAME:CDT
DTSTART:20170312T080000
END:DAYLIGHT
BEGIN:STANDARD
TZOFFSETFROM:-0500
TZOFFSETTO:-0600
TZNAME:CST
DTSTART:20171105T070000
END:STANDARD
BEGIN:DAYLIGHT
TZOFFSETFROM:-0600
TZOFFSETTO:-0500
TZNAME:CDT
DTSTART:20180311T080000
END:DAYLIGHT
BEGIN:STANDARD
TZOFFSETFROM:-0500
TZOFFSETTO:-0600
TZNAME:CST
DTSTART:20181104T070000
END:STANDARD
BEGIN:DAYLIGHT
TZOFFSETFROM:-0600
TZOFFSETTO:-0500
TZNAME:CDT
DTSTART:20190310T080000
END:DAYLIGHT
BEGIN:STANDARD
TZOFFSETFROM:-0500
TZOFFSETTO:-0600
TZNAME:CST
DTSTART:20191103T070000
END:STANDARD
BEGIN:DAYLIGHT
TZOFFSETFROM:-0600
TZOFFSETTO:-0500
TZNAME:CDT
DTSTART:20200308T080000
END:DAYLIGHT
BEGIN:STANDARD
TZOFFSETFROM:-0500
TZOFFSETTO:-0600
TZNAME:CST
DTSTART:20201101T070000
END:STANDARD
END:VTIMEZONE
BEGIN:VEVENT
DTSTART;TZID=America/Chicago:20190504T080000
DTEND;TZID=America/Chicago:20190504T170000
DTSTAMP:20260424T000505
CREATED:20180507T124708Z
LAST-MODIFIED:20190517T001757Z
UID:10001780-1556956800-1556989200@www.racetime.info
SUMMARY:Easterseals 5K
DESCRIPTION:Easterseals 5K Age Groups Results\n\nEasterseals 5K Overall Results
URL:https://www.racetime.info/event/easter-seals-5k-2/
LOCATION:Easter Seals Of Dupage and the Fox Valley Region\, 830 S. Addison Ave.\, Villa Park\, IL\, 60181\, United States
CATEGORIES:2019-05 Results (May)
ORGANIZER;CN="Jennifer Price":MAILTO:jprice@eastersealsdfvr.org
GEO:41.874404;-87.9889298
X-APPLE-STRUCTURED-LOCATION;VALUE=URI;X-ADDRESS=Easter Seals Of Dupage and the Fox Valley Region 830 S. Addison Ave. Villa Park IL 60181 United States;X-APPLE-RADIUS=500;X-TITLE=830 S. Addison Ave.:geo:-87.9889298,41.874404
END:VEVENT
BEGIN:VEVENT
DTSTART;TZID=America/Chicago:20180505T080000
DTEND;TZID=America/Chicago:20180505T170000
DTSTAMP:20260424T000505
CREATED:20180507T124708Z
LAST-MODIFIED:20180507T124708Z
UID:10001779-1525507200-1525539600@www.racetime.info
SUMMARY:Easter Seals 5K
DESCRIPTION:Easter Seals 5K Age Group Results
URL:https://www.racetime.info/event/easter-seals-5k/
LOCATION:Easter Seals Of Dupage and the Fox Valley Region\, 830 S. Addison Ave.\, Villa Park\, IL\, 60181\, United States
CATEGORIES:2018-05 Results (May)
ORGANIZER;CN="Jennifer Price":MAILTO:jprice@eastersealsdfvr.org
GEO:41.874404;-87.9889298
X-APPLE-STRUCTURED-LOCATION;VALUE=URI;X-ADDRESS=Easter Seals Of Dupage and the Fox Valley Region 830 S. Addison Ave. Villa Park IL 60181 United States;X-APPLE-RADIUS=500;X-TITLE=830 S. Addison Ave.:geo:-87.9889298,41.874404
END:VEVENT
BEGIN:VEVENT
DTSTART;TZID=America/Chicago:20170506T090000
DTEND;TZID=America/Chicago:20170506T110000
DTSTAMP:20260424T000505
CREATED:20170506T182724Z
LAST-MODIFIED:20170506T182724Z
UID:10001378-1494061200-1494068400@www.racetime.info
SUMMARY:Run For The Kids: Super Hero Shuffle 5K Run/Walk
DESCRIPTION:Run For The Kids 5K Age Group Results\n\nRun For The Kids 5K Overall Results
URL:https://www.racetime.info/event/run-for-the-kids-super-hero-shuffle-5k-runwalk/
LOCATION:Easter Seals Of Dupage and the Fox Valley Region\, 830 S. Addison Ave.\, Villa Park\, IL\, 60181\, United States
CATEGORIES:2017-05 Results (May)
ORGANIZER;CN="Jennifer Price":MAILTO:jprice@eastersealsdfvr.org
GEO:41.874404;-87.9889298
X-APPLE-STRUCTURED-LOCATION;VALUE=URI;X-ADDRESS=Easter Seals Of Dupage and the Fox Valley Region 830 S. Addison Ave. Villa Park IL 60181 United States;X-APPLE-RADIUS=500;X-TITLE=830 S. Addison Ave.:geo:-87.9889298,41.874404
END:VEVENT
END:VCALENDAR