BEGIN:VCALENDAR
VERSION:2.0
PRODID:-//Race Time - ECPv6.15.13//NONSGML v1.0//EN
CALSCALE:GREGORIAN
METHOD:PUBLISH
X-WR-CALNAME:Race Time
X-ORIGINAL-URL:https://www.racetime.info
X-WR-CALDESC:Events for Race Time
REFRESH-INTERVAL;VALUE=DURATION:PT1H
X-Robots-Tag:noindex
X-PUBLISHED-TTL:PT1H
BEGIN:VTIMEZONE
TZID:America/Chicago
BEGIN:DAYLIGHT
TZOFFSETFROM:-0600
TZOFFSETTO:-0500
TZNAME:CDT
DTSTART:20250309T080000
END:DAYLIGHT
BEGIN:STANDARD
TZOFFSETFROM:-0500
TZOFFSETTO:-0600
TZNAME:CST
DTSTART:20251102T070000
END:STANDARD
BEGIN:DAYLIGHT
TZOFFSETFROM:-0600
TZOFFSETTO:-0500
TZNAME:CDT
DTSTART:20260308T080000
END:DAYLIGHT
BEGIN:STANDARD
TZOFFSETFROM:-0500
TZOFFSETTO:-0600
TZNAME:CST
DTSTART:20261101T070000
END:STANDARD
BEGIN:DAYLIGHT
TZOFFSETFROM:-0600
TZOFFSETTO:-0500
TZNAME:CDT
DTSTART:20270314T080000
END:DAYLIGHT
BEGIN:STANDARD
TZOFFSETFROM:-0500
TZOFFSETTO:-0600
TZNAME:CST
DTSTART:20271107T070000
END:STANDARD
END:VTIMEZONE
BEGIN:VEVENT
DTSTART;TZID=America/Chicago:20260516T090000
DTEND;TZID=America/Chicago:20260516T170000
DTSTAMP:20260423T212905
CREATED:20260305T131320Z
LAST-MODIFIED:20260305T131320Z
UID:10002513-1778922000-1778950800@www.racetime.info
SUMMARY:Foster The Future 5K Run * 1 Mile Family Walk
DESCRIPTION:
URL:https://www.racetime.info/event/foster-the-future-5k-run-1-mile-family-walk/
LOCATION:Deer Grove East Forest Preserve\, 100 West Dundee\, Palatine\, IL\, 60074\, United States
ORGANIZER;CN="Jessica Stockl":MAILTO:jessica.stockl@chicagoangels.org
GEO:42.143126;-88.0144015
X-APPLE-STRUCTURED-LOCATION;VALUE=URI;X-ADDRESS=Deer Grove East Forest Preserve 100 West Dundee Palatine IL 60074 United States;X-APPLE-RADIUS=500;X-TITLE=100 West Dundee:geo:-88.0144015,42.143126
END:VEVENT
END:VCALENDAR