BEGIN:VCALENDAR
VERSION:2.0
PRODID:-//Race Time - ECPv6.15.13//NONSGML v1.0//EN
CALSCALE:GREGORIAN
METHOD:PUBLISH
X-WR-CALNAME:Race Time
X-ORIGINAL-URL:https://www.racetime.info
X-WR-CALDESC:Events for Race Time
REFRESH-INTERVAL;VALUE=DURATION:PT1H
X-Robots-Tag:noindex
X-PUBLISHED-TTL:PT1H
BEGIN:VTIMEZONE
TZID:America/Chicago
BEGIN:DAYLIGHT
TZOFFSETFROM:-0600
TZOFFSETTO:-0500
TZNAME:CDT
DTSTART:20160313T080000
END:DAYLIGHT
BEGIN:STANDARD
TZOFFSETFROM:-0500
TZOFFSETTO:-0600
TZNAME:CST
DTSTART:20161106T070000
END:STANDARD
BEGIN:DAYLIGHT
TZOFFSETFROM:-0600
TZOFFSETTO:-0500
TZNAME:CDT
DTSTART:20170312T080000
END:DAYLIGHT
BEGIN:STANDARD
TZOFFSETFROM:-0500
TZOFFSETTO:-0600
TZNAME:CST
DTSTART:20171105T070000
END:STANDARD
BEGIN:DAYLIGHT
TZOFFSETFROM:-0600
TZOFFSETTO:-0500
TZNAME:CDT
DTSTART:20180311T080000
END:DAYLIGHT
BEGIN:STANDARD
TZOFFSETFROM:-0500
TZOFFSETTO:-0600
TZNAME:CST
DTSTART:20181104T070000
END:STANDARD
BEGIN:DAYLIGHT
TZOFFSETFROM:-0600
TZOFFSETTO:-0500
TZNAME:CDT
DTSTART:20190310T080000
END:DAYLIGHT
BEGIN:STANDARD
TZOFFSETFROM:-0500
TZOFFSETTO:-0600
TZNAME:CST
DTSTART:20191103T070000
END:STANDARD
BEGIN:DAYLIGHT
TZOFFSETFROM:-0600
TZOFFSETTO:-0500
TZNAME:CDT
DTSTART:20200308T080000
END:DAYLIGHT
BEGIN:STANDARD
TZOFFSETFROM:-0500
TZOFFSETTO:-0600
TZNAME:CST
DTSTART:20201101T070000
END:STANDARD
BEGIN:DAYLIGHT
TZOFFSETFROM:-0600
TZOFFSETTO:-0500
TZNAME:CDT
DTSTART:20210314T080000
END:DAYLIGHT
BEGIN:STANDARD
TZOFFSETFROM:-0500
TZOFFSETTO:-0600
TZNAME:CST
DTSTART:20211107T070000
END:STANDARD
BEGIN:DAYLIGHT
TZOFFSETFROM:-0600
TZOFFSETTO:-0500
TZNAME:CDT
DTSTART:20220313T080000
END:DAYLIGHT
BEGIN:STANDARD
TZOFFSETFROM:-0500
TZOFFSETTO:-0600
TZNAME:CST
DTSTART:20221106T070000
END:STANDARD
BEGIN:DAYLIGHT
TZOFFSETFROM:-0600
TZOFFSETTO:-0500
TZNAME:CDT
DTSTART:20230312T080000
END:DAYLIGHT
BEGIN:STANDARD
TZOFFSETFROM:-0500
TZOFFSETTO:-0600
TZNAME:CST
DTSTART:20231105T070000
END:STANDARD
END:VTIMEZONE
BEGIN:VEVENT
DTSTART;TZID=America/Chicago:20220514T080000
DTEND;TZID=America/Chicago:20220514T213000
DTSTAMP:20260423T235340
CREATED:20170228T135649Z
LAST-MODIFIED:20220514T185301Z
UID:10001087-1652515200-1652563800@www.racetime.info
SUMMARY:Homestead Husky Hustle 5K & 1 Mile Run/Walk
DESCRIPTION:Husky Hustle 1 Mile Age Group Results\n\nHusky Hustle 1 Mile Overall Results\n\nHusky Hustle 5K Age Group Results\n\nHusky Hustle 5K Overall Results
URL:https://www.racetime.info/event/homestead-husky-hustle-5k-1-mile-run-walk-cancelled/
LOCATION:Homestead Elementary School\, 2830 Hillsboro Blvd.\, Aurora\, IL\, 60503\, United States
CATEGORIES:2022-05 Results (May)
ORGANIZER;CN="Angela Rocco":MAILTO:homesteadhuskyhustle@gmail.com
GEO:41.7117359;-88.243369
X-APPLE-STRUCTURED-LOCATION;VALUE=URI;X-ADDRESS=Homestead Elementary School 2830 Hillsboro Blvd. Aurora IL 60503 United States;X-APPLE-RADIUS=500;X-TITLE=2830 Hillsboro Blvd.:geo:-88.243369,41.7117359
END:VEVENT
BEGIN:VEVENT
DTSTART;TZID=America/Chicago:20200502T083000
DTEND;TZID=America/Chicago:20200502T110000
DTSTAMP:20260423T235340
CREATED:20170228T135649Z
LAST-MODIFIED:20200429T200546Z
UID:10001085-1588408200-1588417200@www.racetime.info
SUMMARY:Husky Hustle 5K & 1 Mile Run/Walk: CANCELLED
DESCRIPTION:
URL:https://www.racetime.info/event/husky-hustle-5k-1-mile-run-walk-3/
LOCATION:Homestead Elementary School\, 2830 Hillsboro Blvd.\, Aurora\, IL\, 60503\, United States
ORGANIZER;CN="Angela Rocco":MAILTO:homesteadhuskyhustle@gmail.com
GEO:41.7117359;-88.243369
X-APPLE-STRUCTURED-LOCATION;VALUE=URI;X-ADDRESS=Homestead Elementary School 2830 Hillsboro Blvd. Aurora IL 60503 United States;X-APPLE-RADIUS=500;X-TITLE=2830 Hillsboro Blvd.:geo:-88.243369,41.7117359
END:VEVENT
BEGIN:VEVENT
DTSTART;TZID=America/Chicago:20190504T083000
DTEND;TZID=America/Chicago:20190504T110000
DTSTAMP:20260423T235340
CREATED:20170228T135649Z
LAST-MODIFIED:20190504T193138Z
UID:10001084-1556958600-1556967600@www.racetime.info
SUMMARY:Husky Hustle 5K & 1 Mile Run/Walk
DESCRIPTION:Husky Hustle 1 Mile Age Group Results\n\nHusky Hustle 1 Mile Overall Results\n\nHusky Hustle 5K Age Group Results\n\nHusky Hustle 5K Overall Results
URL:https://www.racetime.info/event/husky-hustle-5k-1-mile-run-walk-2/
LOCATION:Homestead Elementary School\, 2830 Hillsboro Blvd.\, Aurora\, IL\, 60503\, United States
CATEGORIES:2019-05 Results (May)
ORGANIZER;CN="Angela Rocco":MAILTO:homesteadhuskyhustle@gmail.com
GEO:41.7117359;-88.243369
X-APPLE-STRUCTURED-LOCATION;VALUE=URI;X-ADDRESS=Homestead Elementary School 2830 Hillsboro Blvd. Aurora IL 60503 United States;X-APPLE-RADIUS=500;X-TITLE=2830 Hillsboro Blvd.:geo:-88.243369,41.7117359
END:VEVENT
BEGIN:VEVENT
DTSTART;TZID=America/Chicago:20180505T083000
DTEND;TZID=America/Chicago:20180505T110000
DTSTAMP:20260423T235340
CREATED:20170228T135649Z
LAST-MODIFIED:20180506T025601Z
UID:10001083-1525509000-1525518000@www.racetime.info
SUMMARY:Husky Hustle 5K & 1 Mile Run/Walk
DESCRIPTION:Husky Hustle 5K Age Group Results\n\nHusky Hustle 5K Overall Results\n\nHusky Hustle 5K Overall by Grade Level\n\nHusky Hustle 1 Mile Age Group Results\n\nHusky Hustle 1 Mile Grade Results by Gender
URL:https://www.racetime.info/event/husky-hustle-5k-1-mile-run-walk/
LOCATION:Homestead Elementary School\, 2830 Hillsboro Blvd.\, Aurora\, IL\, 60503\, United States
CATEGORIES:2018-05 Results (May)
ORGANIZER;CN="Angela Rocco":MAILTO:homesteadhuskyhustle@gmail.com
GEO:41.7117359;-88.243369
X-APPLE-STRUCTURED-LOCATION;VALUE=URI;X-ADDRESS=Homestead Elementary School 2830 Hillsboro Blvd. Aurora IL 60503 United States;X-APPLE-RADIUS=500;X-TITLE=2830 Hillsboro Blvd.:geo:-88.243369,41.7117359
END:VEVENT
BEGIN:VEVENT
DTSTART;TZID=America/Chicago:20170506T083000
DTEND;TZID=America/Chicago:20170506T110000
DTSTAMP:20260423T235340
CREATED:20170228T135649Z
LAST-MODIFIED:20170506T181951Z
UID:10001080-1494059400-1494068400@www.racetime.info
SUMMARY:Husky Hustle 5K & 1 Mile Run/Walk
DESCRIPTION:Husky Hustle 1 Mile Age Group Results\n\nHusky Hustle 1 Mile Overall Results\n\nHusky Hustle 5K Age Group Results\n\nHusky Hustle 5K Overall Results
URL:https://www.racetime.info/event/husky-hustle/
LOCATION:Homestead Elementary School\, 2830 Hillsboro Blvd.\, Aurora\, IL\, 60503\, United States
CATEGORIES:2017-05 Results (May)
ORGANIZER;CN="Angela Rocco":MAILTO:homesteadhuskyhustle@gmail.com
GEO:41.7117359;-88.243369
X-APPLE-STRUCTURED-LOCATION;VALUE=URI;X-ADDRESS=Homestead Elementary School 2830 Hillsboro Blvd. Aurora IL 60503 United States;X-APPLE-RADIUS=500;X-TITLE=2830 Hillsboro Blvd.:geo:-88.243369,41.7117359
END:VEVENT
END:VCALENDAR