BEGIN:VCALENDAR
VERSION:2.0
PRODID:-//Race Time - ECPv6.15.13//NONSGML v1.0//EN
CALSCALE:GREGORIAN
METHOD:PUBLISH
X-WR-CALNAME:Race Time
X-ORIGINAL-URL:https://www.racetime.info
X-WR-CALDESC:Events for Race Time
REFRESH-INTERVAL;VALUE=DURATION:PT1H
X-Robots-Tag:noindex
X-PUBLISHED-TTL:PT1H
BEGIN:VTIMEZONE
TZID:America/Chicago
BEGIN:DAYLIGHT
TZOFFSETFROM:-0600
TZOFFSETTO:-0500
TZNAME:CDT
DTSTART:20140309T080000
END:DAYLIGHT
BEGIN:STANDARD
TZOFFSETFROM:-0500
TZOFFSETTO:-0600
TZNAME:CST
DTSTART:20141102T070000
END:STANDARD
BEGIN:DAYLIGHT
TZOFFSETFROM:-0600
TZOFFSETTO:-0500
TZNAME:CDT
DTSTART:20150308T080000
END:DAYLIGHT
BEGIN:STANDARD
TZOFFSETFROM:-0500
TZOFFSETTO:-0600
TZNAME:CST
DTSTART:20151101T070000
END:STANDARD
BEGIN:DAYLIGHT
TZOFFSETFROM:-0600
TZOFFSETTO:-0500
TZNAME:CDT
DTSTART:20160313T080000
END:DAYLIGHT
BEGIN:STANDARD
TZOFFSETFROM:-0500
TZOFFSETTO:-0600
TZNAME:CST
DTSTART:20161106T070000
END:STANDARD
BEGIN:DAYLIGHT
TZOFFSETFROM:-0600
TZOFFSETTO:-0500
TZNAME:CDT
DTSTART:20170312T080000
END:DAYLIGHT
BEGIN:STANDARD
TZOFFSETFROM:-0500
TZOFFSETTO:-0600
TZNAME:CST
DTSTART:20171105T070000
END:STANDARD
BEGIN:DAYLIGHT
TZOFFSETFROM:-0600
TZOFFSETTO:-0500
TZNAME:CDT
DTSTART:20180311T080000
END:DAYLIGHT
BEGIN:STANDARD
TZOFFSETFROM:-0500
TZOFFSETTO:-0600
TZNAME:CST
DTSTART:20181104T070000
END:STANDARD
BEGIN:DAYLIGHT
TZOFFSETFROM:-0600
TZOFFSETTO:-0500
TZNAME:CDT
DTSTART:20190310T080000
END:DAYLIGHT
BEGIN:STANDARD
TZOFFSETFROM:-0500
TZOFFSETTO:-0600
TZNAME:CST
DTSTART:20191103T070000
END:STANDARD
BEGIN:DAYLIGHT
TZOFFSETFROM:-0600
TZOFFSETTO:-0500
TZNAME:CDT
DTSTART:20200308T080000
END:DAYLIGHT
BEGIN:STANDARD
TZOFFSETFROM:-0500
TZOFFSETTO:-0600
TZNAME:CST
DTSTART:20201101T070000
END:STANDARD
BEGIN:DAYLIGHT
TZOFFSETFROM:-0600
TZOFFSETTO:-0500
TZNAME:CDT
DTSTART:20210314T080000
END:DAYLIGHT
BEGIN:STANDARD
TZOFFSETFROM:-0500
TZOFFSETTO:-0600
TZNAME:CST
DTSTART:20211107T070000
END:STANDARD
END:VTIMEZONE
BEGIN:VEVENT
DTSTART;TZID=America/Chicago:20200516T080000
DTEND;TZID=America/Chicago:20200516T100000
DTSTAMP:20260424T011628
CREATED:20170306T224708Z
LAST-MODIFIED:20200514T212650Z
UID:10001136-1589616000-1589623200@www.racetime.info
SUMMARY:Mutt Strutt 5K Run & 1 Mile Walk:  RESCHEDULED. DATE TBD
DESCRIPTION:
URL:https://www.racetime.info/event/mutt-strutt-5k-run-1-mile-walk-4/
LOCATION:Lombard Park District Administration Building\, 227 W. Parkside Avenue\, Lombard\, IL\, 60148\, United States
ORGANIZER;CN="Brad Herrmann":MAILTO:bherrmann@lombardparks.com
GEO:41.8848577;-88.022429
X-APPLE-STRUCTURED-LOCATION;VALUE=URI;X-ADDRESS=Lombard Park District Administration Building 227 W. Parkside Avenue Lombard IL 60148 United States;X-APPLE-RADIUS=500;X-TITLE=227 W. Parkside Avenue:geo:-88.022429,41.8848577
END:VEVENT
BEGIN:VEVENT
DTSTART;TZID=America/Chicago:20190518T080000
DTEND;TZID=America/Chicago:20190518T100000
DTSTAMP:20260424T011628
CREATED:20170306T224708Z
LAST-MODIFIED:20190518T191229Z
UID:10001133-1558166400-1558173600@www.racetime.info
SUMMARY:Mutt Strutt 5K Run & 1 Mile Walk
DESCRIPTION:Mutt Strut 5K Age Group Results\n\nMutt Strut 5K Overall Results\n\nMutt Strut 5K With Dogs Overall Results
URL:https://www.racetime.info/event/mutt-strutt-5k-run-1-mile-walk-3/
LOCATION:Lombard Park District Administration Building\, 227 W. Parkside Avenue\, Lombard\, IL\, 60148\, United States
CATEGORIES:2019-05 Results (May)
ORGANIZER;CN="Brad Herrmann":MAILTO:bherrmann@lombardparks.com
GEO:41.8848577;-88.022429
X-APPLE-STRUCTURED-LOCATION;VALUE=URI;X-ADDRESS=Lombard Park District Administration Building 227 W. Parkside Avenue Lombard IL 60148 United States;X-APPLE-RADIUS=500;X-TITLE=227 W. Parkside Avenue:geo:-88.022429,41.8848577
END:VEVENT
BEGIN:VEVENT
DTSTART;TZID=America/Chicago:20180519T080000
DTEND;TZID=America/Chicago:20180519T100000
DTSTAMP:20260424T011628
CREATED:20170306T224708Z
LAST-MODIFIED:20180519T161031Z
UID:10001129-1526716800-1526724000@www.racetime.info
SUMMARY:Mutt Strutt 5K Run & 1 Mile Walk
DESCRIPTION:Lilac Mutt Strut 1 Mile Puppy Path Walk\n\nLilac Mutt Strut 5K Age Group Results\n\nLilac Mutt Strut 5K Overall Results\n\nLilac Mutt Strut 5K with Puppies Overall Order of Finish
URL:https://www.racetime.info/event/mutt-strutt-5k-run-1-mile-walk-2/
LOCATION:Lombard Park District Administration Building\, 227 W. Parkside Avenue\, Lombard\, IL\, 60148\, United States
CATEGORIES:2018-05 Results (May)
ORGANIZER;CN="Brad Herrmann":MAILTO:bherrmann@lombardparks.com
GEO:41.8848577;-88.022429
X-APPLE-STRUCTURED-LOCATION;VALUE=URI;X-ADDRESS=Lombard Park District Administration Building 227 W. Parkside Avenue Lombard IL 60148 United States;X-APPLE-RADIUS=500;X-TITLE=227 W. Parkside Avenue:geo:-88.022429,41.8848577
END:VEVENT
BEGIN:VEVENT
DTSTART;TZID=America/Chicago:20170520T080000
DTEND;TZID=America/Chicago:20170520T100000
DTSTAMP:20260424T011628
CREATED:20170306T224708Z
LAST-MODIFIED:20170522T101722Z
UID:10001125-1495267200-1495274400@www.racetime.info
SUMMARY:Mutt Strutt 5K Run & 1 Mile Walk
DESCRIPTION:Lilac Mutt Strut 5K Age Group Results\n\nLilac Mutt Strut 5K Overall Results\n\nLilac Mutt Strut 5K Dog Results
URL:https://www.racetime.info/event/mutt-strutt-5k-run-1-mile-walk/
LOCATION:Lombard Park District Administration Building\, 227 W. Parkside Avenue\, Lombard\, IL\, 60148\, United States
CATEGORIES:2017-05 Results (May)
ORGANIZER;CN="Brad Herrmann":MAILTO:bherrmann@lombardparks.com
GEO:41.8848577;-88.022429
X-APPLE-STRUCTURED-LOCATION;VALUE=URI;X-ADDRESS=Lombard Park District Administration Building 227 W. Parkside Avenue Lombard IL 60148 United States;X-APPLE-RADIUS=500;X-TITLE=227 W. Parkside Avenue:geo:-88.022429,41.8848577
END:VEVENT
BEGIN:VEVENT
DTSTART;TZID=America/Chicago:20160514T080000
DTEND;TZID=America/Chicago:20160514T100000
DTSTAMP:20260424T011628
CREATED:20160113T200822Z
LAST-MODIFIED:20160514T232621Z
UID:10000488-1463212800-1463220000@www.racetime.info
SUMMARY:Mutt Strut 5K Run and 1 Mile Walk
DESCRIPTION:Lilac Mutt Strut 5K Age Group Results\n\nLilac Mutt Strut 5K Overall Results\n\nLilac Mutt Strut 5K Overall Results Dogs & their Humans
URL:https://www.racetime.info/event/mutt-strut-5k-run-and-1-mile-walk/
LOCATION:Lilacia Park\, Lombard\, IL\, United States
CATEGORIES:2016-05 Results (May)
ORGANIZER;CN="Brad Herrmann":MAILTO:bherrmann@lombardparks.com
GEO:41.8800296;-88.0078435
END:VEVENT
BEGIN:VEVENT
DTSTART;TZID=America/Chicago:20150516T080000
DTEND;TZID=America/Chicago:20150516T110000
DTSTAMP:20260424T011628
CREATED:20150409T034504Z
LAST-MODIFIED:20150829T201419Z
UID:10000004-1431763200-1431774000@www.racetime.info
SUMMARY:Lilac Mutt Strut
DESCRIPTION:Mutt Strut 5K Age Group Results\n\nMutt Strut 5K Overall Results
URL:https://www.racetime.info/event/lilac-mutt-strut-2/
LOCATION:Lilacia Park\, Lombard\, IL\, United States
CATEGORIES:2015-05 Results (May)
ORGANIZER;CN="Brad Herrmann":MAILTO:bherrmann@lombardparks.com
GEO:41.8800296;-88.0078435
END:VEVENT
END:VCALENDAR