BEGIN:VCALENDAR
VERSION:2.0
PRODID:-//Race Time - ECPv6.15.13//NONSGML v1.0//EN
CALSCALE:GREGORIAN
METHOD:PUBLISH
X-ORIGINAL-URL:https://www.racetime.info
X-WR-CALDESC:Events for Race Time
REFRESH-INTERVAL;VALUE=DURATION:PT1H
X-Robots-Tag:noindex
X-PUBLISHED-TTL:PT1H
BEGIN:VTIMEZONE
TZID:America/Chicago
BEGIN:DAYLIGHT
TZOFFSETFROM:-0600
TZOFFSETTO:-0500
TZNAME:CDT
DTSTART:20140309T080000
END:DAYLIGHT
BEGIN:STANDARD
TZOFFSETFROM:-0500
TZOFFSETTO:-0600
TZNAME:CST
DTSTART:20141102T070000
END:STANDARD
BEGIN:DAYLIGHT
TZOFFSETFROM:-0600
TZOFFSETTO:-0500
TZNAME:CDT
DTSTART:20150308T080000
END:DAYLIGHT
BEGIN:STANDARD
TZOFFSETFROM:-0500
TZOFFSETTO:-0600
TZNAME:CST
DTSTART:20151101T070000
END:STANDARD
BEGIN:DAYLIGHT
TZOFFSETFROM:-0600
TZOFFSETTO:-0500
TZNAME:CDT
DTSTART:20160313T080000
END:DAYLIGHT
BEGIN:STANDARD
TZOFFSETFROM:-0500
TZOFFSETTO:-0600
TZNAME:CST
DTSTART:20161106T070000
END:STANDARD
BEGIN:DAYLIGHT
TZOFFSETFROM:-0600
TZOFFSETTO:-0500
TZNAME:CDT
DTSTART:20170312T080000
END:DAYLIGHT
BEGIN:STANDARD
TZOFFSETFROM:-0500
TZOFFSETTO:-0600
TZNAME:CST
DTSTART:20171105T070000
END:STANDARD
END:VTIMEZONE
BEGIN:VEVENT
DTSTART;TZID=America/Chicago:20160827T083000
DTEND;TZID=America/Chicago:20160827T100000
DTSTAMP:20260424T000503
CREATED:20160426T120638Z
LAST-MODIFIED:20160827T161135Z
UID:10000620-1472286600-1472292000@www.racetime.info
SUMMARY:Knights Challenge 5K Run & 1 Mile Walk
DESCRIPTION:Knights Challenge 5K Age Group Results\n\nKnights Challenge 5K Overall Results
URL:https://www.racetime.info/event/knights-challenge-5k-run-1-mile-walk-2/
LOCATION:St. John The Evangelist Parish Center\, 502 S. Park Blvd\, Streamwood\, IL\, 60107\, United States
CATEGORIES:2016-08 Results (August)
ORGANIZER;CN="Jim Kaltinger":MAILTO:info@kofc12801.org
GEO:42.021154;-88.1678742
X-APPLE-STRUCTURED-LOCATION;VALUE=URI;X-ADDRESS=St. John The Evangelist Parish Center 502 S. Park Blvd Streamwood IL 60107 United States;X-APPLE-RADIUS=500;X-TITLE=502 S. Park Blvd:geo:-88.1678742,42.021154
END:VEVENT
BEGIN:VEVENT
DTSTART;TZID=America/Chicago:20151003T083000
DTEND;TZID=America/Chicago:20151003T110000
DTSTAMP:20260424T000503
CREATED:20150924T162103Z
LAST-MODIFIED:20151004T004414Z
UID:10000145-1443861000-1443870000@www.racetime.info
SUMMARY:Knights Challenge 5K Run & 1 Mile Walk
DESCRIPTION:Knights Challenge 1 Mile Overall Results\n\nKnights Challenge 5K Age Group Results\n\nKnights Challenge 5K Overall Results
URL:https://www.racetime.info/event/knights-challenge-5k-run-1-mile-walk/
LOCATION:St. John The Evangelist Parish Center\, 502 S. Park Blvd\, Streamwood\, IL\, 60107\, United States
CATEGORIES:2015-10 Results (October)
ORGANIZER;CN="Jim Kaltinger":MAILTO:info@kofc12801.org
GEO:42.021154;-88.1678742
X-APPLE-STRUCTURED-LOCATION;VALUE=URI;X-ADDRESS=St. John The Evangelist Parish Center 502 S. Park Blvd Streamwood IL 60107 United States;X-APPLE-RADIUS=500;X-TITLE=502 S. Park Blvd:geo:-88.1678742,42.021154
END:VEVENT
END:VCALENDAR