BEGIN:VCALENDAR
VERSION:2.0
PRODID:-//Race Time - ECPv6.15.13//NONSGML v1.0//EN
CALSCALE:GREGORIAN
METHOD:PUBLISH
X-WR-CALNAME:Race Time
X-ORIGINAL-URL:https://www.racetime.info
X-WR-CALDESC:Events for Race Time
REFRESH-INTERVAL;VALUE=DURATION:PT1H
X-Robots-Tag:noindex
X-PUBLISHED-TTL:PT1H
BEGIN:VTIMEZONE
TZID:America/Chicago
BEGIN:DAYLIGHT
TZOFFSETFROM:-0600
TZOFFSETTO:-0500
TZNAME:CDT
DTSTART:20140309T080000
END:DAYLIGHT
BEGIN:STANDARD
TZOFFSETFROM:-0500
TZOFFSETTO:-0600
TZNAME:CST
DTSTART:20141102T070000
END:STANDARD
BEGIN:DAYLIGHT
TZOFFSETFROM:-0600
TZOFFSETTO:-0500
TZNAME:CDT
DTSTART:20150308T080000
END:DAYLIGHT
BEGIN:STANDARD
TZOFFSETFROM:-0500
TZOFFSETTO:-0600
TZNAME:CST
DTSTART:20151101T070000
END:STANDARD
BEGIN:DAYLIGHT
TZOFFSETFROM:-0600
TZOFFSETTO:-0500
TZNAME:CDT
DTSTART:20160313T080000
END:DAYLIGHT
BEGIN:STANDARD
TZOFFSETFROM:-0500
TZOFFSETTO:-0600
TZNAME:CST
DTSTART:20161106T070000
END:STANDARD
BEGIN:DAYLIGHT
TZOFFSETFROM:-0600
TZOFFSETTO:-0500
TZNAME:CDT
DTSTART:20170312T080000
END:DAYLIGHT
BEGIN:STANDARD
TZOFFSETFROM:-0500
TZOFFSETTO:-0600
TZNAME:CST
DTSTART:20171105T070000
END:STANDARD
END:VTIMEZONE
BEGIN:VEVENT
DTSTART;TZID=America/Chicago:20161113T083000
DTEND;TZID=America/Chicago:20161113T100000
DTSTAMP:20260423T223959
CREATED:20161018T000701Z
LAST-MODIFIED:20161119T053328Z
UID:10000853-1479025800-1479031200@www.racetime.info
SUMMARY:St. James Farm Allee 5K Run
DESCRIPTION:St. James Farm Allee 5K Age Group Results\n\nSt. James Farm Allee 5K Overall Results
URL:https://www.racetime.info/event/st-james-farm-allee-5k-run/
LOCATION:St. James Farm\, 2S541 Winfield Road\, Warrenville\, IL\, 60555\, United States
CATEGORIES:2016-11 Results (November)
ORGANIZER;CN="John Corrigan":MAILTO:jmcpartners@sbcglobal.net
GEO:41.835209;-88.1636
X-APPLE-STRUCTURED-LOCATION;VALUE=URI;X-ADDRESS=St. James Farm 2S541 Winfield Road Warrenville IL 60555 United States;X-APPLE-RADIUS=500;X-TITLE=2S541 Winfield Road:geo:-88.1636,41.835209
END:VEVENT
BEGIN:VEVENT
DTSTART;TZID=America/Chicago:20150712T083000
DTEND;TZID=America/Chicago:20150712T110000
DTSTAMP:20260423T223959
CREATED:20150608T021405Z
LAST-MODIFIED:20150831T202631Z
UID:10000064-1436689800-1436698800@www.racetime.info
SUMMARY:Miles For Melanoma 5K Run/Walk
DESCRIPTION:Miles for Melanoma 5K Age Group Results\n\nMiles for Melanoma 5K Overall Results
URL:https://www.racetime.info/event/miles-for-melanoma-5k-runwalk/
LOCATION:Montrose Harbor\, 601 W. Montrose Avenue\, Chicago\, IL\, United States
CATEGORIES:2015-07 Results (July)
ORGANIZER;CN="John Corrigan":MAILTO:jmcpartners@sbcglobal.net
GEO:41.9630332;-87.6381737
X-APPLE-STRUCTURED-LOCATION;VALUE=URI;X-ADDRESS=Montrose Harbor 601 W. Montrose Avenue Chicago IL United States;X-APPLE-RADIUS=500;X-TITLE=601 W. Montrose Avenue:geo:-87.6381737,41.9630332
END:VEVENT
BEGIN:VEVENT
DTSTART;TZID=America/Chicago:20150607T080000
DTEND;TZID=America/Chicago:20150607T100000
DTSTAMP:20260423T223959
CREATED:20150607T233851Z
LAST-MODIFIED:20150607T233851Z
UID:10000251-1433664000-1433671200@www.racetime.info
SUMMARY:Step For The Cure 5K
DESCRIPTION:Step For A Cure 5K Age Group Results\n\nStep For A Cure 5K Overall Results
URL:https://www.racetime.info/event/step-for-the-cure-5k/
LOCATION:Unnamed Venue\, Chicago\, IL\, United States
CATEGORIES:2015-06 Results (June)
ORGANIZER;CN="John Corrigan":MAILTO:jmcpartners@sbcglobal.net
GEO:41.8781136;-87.6297982
END:VEVENT
END:VCALENDAR