BEGIN:VCALENDAR
VERSION:2.0
PRODID:-//Race Time - ECPv6.15.13//NONSGML v1.0//EN
CALSCALE:GREGORIAN
METHOD:PUBLISH
X-WR-CALNAME:Race Time
X-ORIGINAL-URL:https://www.racetime.info
X-WR-CALDESC:Events for Race Time
REFRESH-INTERVAL;VALUE=DURATION:PT1H
X-Robots-Tag:noindex
X-PUBLISHED-TTL:PT1H
BEGIN:VTIMEZONE
TZID:America/Chicago
BEGIN:DAYLIGHT
TZOFFSETFROM:-0600
TZOFFSETTO:-0500
TZNAME:CDT
DTSTART:20150308T080000
END:DAYLIGHT
BEGIN:STANDARD
TZOFFSETFROM:-0500
TZOFFSETTO:-0600
TZNAME:CST
DTSTART:20151101T070000
END:STANDARD
BEGIN:DAYLIGHT
TZOFFSETFROM:-0600
TZOFFSETTO:-0500
TZNAME:CDT
DTSTART:20160313T080000
END:DAYLIGHT
BEGIN:STANDARD
TZOFFSETFROM:-0500
TZOFFSETTO:-0600
TZNAME:CST
DTSTART:20161106T070000
END:STANDARD
BEGIN:DAYLIGHT
TZOFFSETFROM:-0600
TZOFFSETTO:-0500
TZNAME:CDT
DTSTART:20170312T080000
END:DAYLIGHT
BEGIN:STANDARD
TZOFFSETFROM:-0500
TZOFFSETTO:-0600
TZNAME:CST
DTSTART:20171105T070000
END:STANDARD
BEGIN:DAYLIGHT
TZOFFSETFROM:-0600
TZOFFSETTO:-0500
TZNAME:CDT
DTSTART:20180311T080000
END:DAYLIGHT
BEGIN:STANDARD
TZOFFSETFROM:-0500
TZOFFSETTO:-0600
TZNAME:CST
DTSTART:20181104T070000
END:STANDARD
BEGIN:DAYLIGHT
TZOFFSETFROM:-0600
TZOFFSETTO:-0500
TZNAME:CDT
DTSTART:20190310T080000
END:DAYLIGHT
BEGIN:STANDARD
TZOFFSETFROM:-0500
TZOFFSETTO:-0600
TZNAME:CST
DTSTART:20191103T070000
END:STANDARD
END:VTIMEZONE
BEGIN:VEVENT
DTSTART;TZID=America/Chicago:20180506T090000
DTEND;TZID=America/Chicago:20180506T110000
DTSTAMP:20260424T012402
CREATED:20170206T200358Z
LAST-MODIFIED:20180506T190810Z
UID:10000390-1525597200-1525604400@www.racetime.info
SUMMARY:Willowbrook Spring Fling 5K Run/Walk & Youth 1K Fun Run
DESCRIPTION:Willowbrook’s Spring Fling 1 Mile Overall Results\n\nWillowbrook’s Spring Fling 5K Overall Results
URL:https://www.racetime.info/event/willowbrook-spring-fling-5k-run-walk-youth-1k-fun-run/
LOCATION:Willowbrook Community Park / Borse Park\, 208 Midway Drive\, Willowbrook\, IL\, 60527\, United States
CATEGORIES:2018-05 Results (May)
ORGANIZER;CN="John Fenske":MAILTO:jfenske@willowbrook.il.us
GEO:41.748123;-87.948754
X-APPLE-STRUCTURED-LOCATION;VALUE=URI;X-ADDRESS=Willowbrook Community Park / Borse Park 208 Midway Drive Willowbrook IL 60527 United States;X-APPLE-RADIUS=500;X-TITLE=208 Midway Drive:geo:-87.948754,41.748123
END:VEVENT
BEGIN:VEVENT
DTSTART;TZID=America/Chicago:20170507T090000
DTEND;TZID=America/Chicago:20170507T110000
DTSTAMP:20260424T012402
CREATED:20170206T200358Z
LAST-MODIFIED:20170507T184359Z
UID:10000388-1494147600-1494154800@www.racetime.info
SUMMARY:Willowbrook Spring Fling 5K Run/Walk & Youth 1K Fun Run
DESCRIPTION:Willowbrook’s Spring 1 Mile Overall Results\n\nWillowbrook’s Spring 5K Overall Results
URL:https://www.racetime.info/event/willowbrook-spring-fling-5k-runwalk-youth-1k-fun-run/
LOCATION:Willowbrook Community Park / Borse Park\, 208 Midway Drive\, Willowbrook\, IL\, 60527\, United States
CATEGORIES:2017-05 Results (May)
ORGANIZER;CN="John Fenske":MAILTO:jfenske@willowbrook.il.us
GEO:41.748123;-87.948754
X-APPLE-STRUCTURED-LOCATION;VALUE=URI;X-ADDRESS=Willowbrook Community Park / Borse Park 208 Midway Drive Willowbrook IL 60527 United States;X-APPLE-RADIUS=500;X-TITLE=208 Midway Drive:geo:-87.948754,41.748123
END:VEVENT
BEGIN:VEVENT
DTSTART;TZID=America/Chicago:20160501T090000
DTEND;TZID=America/Chicago:20160501T110000
DTSTAMP:20260424T012402
CREATED:20151216T201554Z
LAST-MODIFIED:20160501T173033Z
UID:10000158-1462093200-1462100400@www.racetime.info
SUMMARY:Willowbrook Spring Fling 5K Run/Walk & 1 Mile Kids Run
DESCRIPTION:Spring Fling 1 Mile Overall Results\n\nSpring Fling 5K Overall Results
URL:https://www.racetime.info/event/willowbrook-spring-fling-5k-runwalk-1-mile-kids-run/
LOCATION:Willowbrook Community Park / Borse Park\, 208 Midway Drive\, Willowbrook\, IL\, 60527\, United States
CATEGORIES:2016-05 Results (May)
ORGANIZER;CN="John Fenske":MAILTO:jfenske@willowbrook.il.us
GEO:41.748123;-87.948754
X-APPLE-STRUCTURED-LOCATION;VALUE=URI;X-ADDRESS=Willowbrook Community Park / Borse Park 208 Midway Drive Willowbrook IL 60527 United States;X-APPLE-RADIUS=500;X-TITLE=208 Midway Drive:geo:-87.948754,41.748123
END:VEVENT
END:VCALENDAR