BEGIN:VCALENDAR
VERSION:2.0
PRODID:-//Race Time - ECPv6.15.13//NONSGML v1.0//EN
CALSCALE:GREGORIAN
METHOD:PUBLISH
X-ORIGINAL-URL:https://www.racetime.info
X-WR-CALDESC:Events for Race Time
REFRESH-INTERVAL;VALUE=DURATION:PT1H
X-Robots-Tag:noindex
X-PUBLISHED-TTL:PT1H
BEGIN:VTIMEZONE
TZID:America/Chicago
BEGIN:DAYLIGHT
TZOFFSETFROM:-0600
TZOFFSETTO:-0500
TZNAME:CDT
DTSTART:20140309T080000
END:DAYLIGHT
BEGIN:STANDARD
TZOFFSETFROM:-0500
TZOFFSETTO:-0600
TZNAME:CST
DTSTART:20141102T070000
END:STANDARD
BEGIN:DAYLIGHT
TZOFFSETFROM:-0600
TZOFFSETTO:-0500
TZNAME:CDT
DTSTART:20150308T080000
END:DAYLIGHT
BEGIN:STANDARD
TZOFFSETFROM:-0500
TZOFFSETTO:-0600
TZNAME:CST
DTSTART:20151101T070000
END:STANDARD
BEGIN:DAYLIGHT
TZOFFSETFROM:-0600
TZOFFSETTO:-0500
TZNAME:CDT
DTSTART:20160313T080000
END:DAYLIGHT
BEGIN:STANDARD
TZOFFSETFROM:-0500
TZOFFSETTO:-0600
TZNAME:CST
DTSTART:20161106T070000
END:STANDARD
END:VTIMEZONE
BEGIN:VEVENT
DTSTART;TZID=America/Chicago:20150606T080000
DTEND;TZID=America/Chicago:20150606T170000
DTSTAMP:20260424T054007
CREATED:20150409T034510Z
LAST-MODIFIED:20150606T185740Z
UID:10000165-1433577600-1433610000@www.racetime.info
SUMMARY:Summer Dash To Mpower Students
DESCRIPTION:Mpower Summer 5K Overall Results
URL:https://www.racetime.info/event/summer-dash-to-mpower-students-2/
LOCATION:Marquette Park\, 6743 S. Kedzie Avenue\, Chicago\, IL\, 60629\, United States
CATEGORIES:2015-06 Results (June)
ORGANIZER;CN="Jose Gutierrez":MAILTO:gutierjo@metrofamily.org
GEO:41.7709226;-87.702875
X-APPLE-STRUCTURED-LOCATION;VALUE=URI;X-ADDRESS=Marquette Park 6743 S. Kedzie Avenue Chicago IL 60629 United States;X-APPLE-RADIUS=500;X-TITLE=6743 S. Kedzie Avenue:geo:-87.702875,41.7709226
END:VEVENT
END:VCALENDAR