BEGIN:VCALENDAR
VERSION:2.0
PRODID:-//Race Time - ECPv6.15.13//NONSGML v1.0//EN
CALSCALE:GREGORIAN
METHOD:PUBLISH
X-ORIGINAL-URL:https://www.racetime.info
X-WR-CALDESC:Events for Race Time
REFRESH-INTERVAL;VALUE=DURATION:PT1H
X-Robots-Tag:noindex
X-PUBLISHED-TTL:PT1H
BEGIN:VTIMEZONE
TZID:America/Chicago
BEGIN:DAYLIGHT
TZOFFSETFROM:-0600
TZOFFSETTO:-0500
TZNAME:CDT
DTSTART:20140309T080000
END:DAYLIGHT
BEGIN:STANDARD
TZOFFSETFROM:-0500
TZOFFSETTO:-0600
TZNAME:CST
DTSTART:20141102T070000
END:STANDARD
BEGIN:DAYLIGHT
TZOFFSETFROM:-0600
TZOFFSETTO:-0500
TZNAME:CDT
DTSTART:20150308T080000
END:DAYLIGHT
BEGIN:STANDARD
TZOFFSETFROM:-0500
TZOFFSETTO:-0600
TZNAME:CST
DTSTART:20151101T070000
END:STANDARD
BEGIN:DAYLIGHT
TZOFFSETFROM:-0600
TZOFFSETTO:-0500
TZNAME:CDT
DTSTART:20160313T080000
END:DAYLIGHT
BEGIN:STANDARD
TZOFFSETFROM:-0500
TZOFFSETTO:-0600
TZNAME:CST
DTSTART:20161106T070000
END:STANDARD
BEGIN:DAYLIGHT
TZOFFSETFROM:-0600
TZOFFSETTO:-0500
TZNAME:CDT
DTSTART:20170312T080000
END:DAYLIGHT
BEGIN:STANDARD
TZOFFSETFROM:-0500
TZOFFSETTO:-0600
TZNAME:CST
DTSTART:20171105T070000
END:STANDARD
END:VTIMEZONE
BEGIN:VEVENT
DTSTART;TZID=America/Chicago:20161029T080000
DTEND;TZID=America/Chicago:20161029T100000
DTSTAMP:20260424T041408
CREATED:20160805T113400Z
LAST-MODIFIED:20161029T195521Z
UID:10000302-1477728000-1477735200@www.racetime.info
SUMMARY:Schaumburg Christian School 5K Run/Walk & 1K Youth Run
DESCRIPTION:Schaumburg Christian 1K Grade Level Results\n\nSchaumburg Christian 1K Overall Results\n\nSchaumburg Christian 5K Age Group Results\n\nSchaumburg Christian 5K Overall Results
URL:https://www.racetime.info/event/schaumburg-christian-school-5k-runwalk-1k-youth-run/
LOCATION:Schaumburg Christian School\, 200 North Roselle Road\, Schaumburg\, IL\, 60194\, United States
CATEGORIES:2016-10 Results (October)
ORGANIZER;CN="Josh Washburn":MAILTO:joshwashburn@bethelministries.org
GEO:42.0322042;-88.0809195
X-APPLE-STRUCTURED-LOCATION;VALUE=URI;X-ADDRESS=Schaumburg Christian School 200 North Roselle Road Schaumburg IL 60194 United States;X-APPLE-RADIUS=500;X-TITLE=200 North Roselle Road:geo:-88.0809195,42.0322042
END:VEVENT
BEGIN:VEVENT
DTSTART;TZID=America/Chicago:20151031T080000
DTEND;TZID=America/Chicago:20151031T110000
DTSTAMP:20260424T041408
CREATED:20150904T173122Z
LAST-MODIFIED:20151031T181258Z
UID:10000400-1446278400-1446289200@www.racetime.info
SUMMARY:Schaumburg Christian School 5K Run/Walk
DESCRIPTION:Schaumburg Christian 1K Overall Results\n\nSchaumburg Christian 5K Age Group Results\n\nSchaumburg Christian 5K Overall Results
URL:https://www.racetime.info/event/schaumburg-christian-school-5k-runwalk/
LOCATION:Schaumburg Christian School\, 200 North Roselle Road\, Schaumburg\, IL\, 60194\, United States
CATEGORIES:2015-10 Results (October)
ORGANIZER;CN="Josh Washburn":MAILTO:joshwashburn@bethelministries.org
GEO:42.0322042;-88.0809195
X-APPLE-STRUCTURED-LOCATION;VALUE=URI;X-ADDRESS=Schaumburg Christian School 200 North Roselle Road Schaumburg IL 60194 United States;X-APPLE-RADIUS=500;X-TITLE=200 North Roselle Road:geo:-88.0809195,42.0322042
END:VEVENT
END:VCALENDAR