BEGIN:VCALENDAR
VERSION:2.0
PRODID:-//Race Time - ECPv6.15.13//NONSGML v1.0//EN
CALSCALE:GREGORIAN
METHOD:PUBLISH
X-WR-CALNAME:Race Time
X-ORIGINAL-URL:https://www.racetime.info
X-WR-CALDESC:Events for Race Time
REFRESH-INTERVAL;VALUE=DURATION:PT1H
X-Robots-Tag:noindex
X-PUBLISHED-TTL:PT1H
BEGIN:VTIMEZONE
TZID:America/Chicago
BEGIN:DAYLIGHT
TZOFFSETFROM:-0600
TZOFFSETTO:-0500
TZNAME:CDT
DTSTART:20230312T080000
END:DAYLIGHT
BEGIN:STANDARD
TZOFFSETFROM:-0500
TZOFFSETTO:-0600
TZNAME:CST
DTSTART:20231105T070000
END:STANDARD
BEGIN:DAYLIGHT
TZOFFSETFROM:-0600
TZOFFSETTO:-0500
TZNAME:CDT
DTSTART:20240310T080000
END:DAYLIGHT
BEGIN:STANDARD
TZOFFSETFROM:-0500
TZOFFSETTO:-0600
TZNAME:CST
DTSTART:20241103T070000
END:STANDARD
BEGIN:DAYLIGHT
TZOFFSETFROM:-0600
TZOFFSETTO:-0500
TZNAME:CDT
DTSTART:20250309T080000
END:DAYLIGHT
BEGIN:STANDARD
TZOFFSETFROM:-0500
TZOFFSETTO:-0600
TZNAME:CST
DTSTART:20251102T070000
END:STANDARD
BEGIN:DAYLIGHT
TZOFFSETFROM:-0600
TZOFFSETTO:-0500
TZNAME:CDT
DTSTART:20260308T080000
END:DAYLIGHT
BEGIN:STANDARD
TZOFFSETFROM:-0500
TZOFFSETTO:-0600
TZNAME:CST
DTSTART:20261101T070000
END:STANDARD
END:VTIMEZONE
BEGIN:VEVENT
DTSTART;TZID=America/Chicago:20250914T090000
DTEND;TZID=America/Chicago:20250914T110000
DTSTAMP:20260423T235339
CREATED:20250725T180847Z
LAST-MODIFIED:20250914T174842Z
UID:10002384-1757840400-1757847600@www.racetime.info
SUMMARY:Team Palestine Run4Peace 5K * 1 Mile * Kids Dash
DESCRIPTION:Run4Peace 5K Age Group Results\n\nRun4Peace 5K Overall Results
URL:https://www.racetime.info/event/team-palestine-run-for-peace-5k-1-mile-kids-dash/
LOCATION:Centennial Park Orland Park\, 10401 W\, 153rd Street\, Orland Park\, IL\, 60467\, United States
CATEGORIES:2025-09 Results (September)
ORGANIZER;CN="Karim Awwad":MAILTO:awwadkarim95@gmail.com
END:VEVENT
BEGIN:VEVENT
DTSTART;TZID=America/Chicago:20240915T080000
DTEND;TZID=America/Chicago:20240915T093000
DTSTAMP:20260423T235339
CREATED:20230910T183303Z
LAST-MODIFIED:20240915T175342Z
UID:10001388-1726387200-1726392600@www.racetime.info
SUMMARY:Team Palestine Run For Peace 5K * 1 Mile * Kids Dash
DESCRIPTION:Run For Peace 5K Age Group Results\n\nRun For Peace 5K Overall Results
URL:https://www.racetime.info/event/copy-of-palestinian-run-for-peace/
LOCATION:Moraine Valley Community College\, 9000 W. College Pkwy\, Palos Hills\, IL\, 60465\, United States
CATEGORIES:2024-09 Results (September)
ORGANIZER;CN="Karim Awwad":MAILTO:awwadkarim95@gmail.com
GEO:41.6932523;-87.8354241
X-APPLE-STRUCTURED-LOCATION;VALUE=URI;X-ADDRESS=Moraine Valley Community College 9000 W. College Pkwy Palos Hills IL 60465 United States;X-APPLE-RADIUS=500;X-TITLE=9000 W. College Pkwy:geo:-87.8354241,41.6932523
END:VEVENT
END:VCALENDAR