BEGIN:VCALENDAR
VERSION:2.0
PRODID:-//Race Time - ECPv6.15.13//NONSGML v1.0//EN
CALSCALE:GREGORIAN
METHOD:PUBLISH
X-ORIGINAL-URL:https://www.racetime.info
X-WR-CALDESC:Events for Race Time
REFRESH-INTERVAL;VALUE=DURATION:PT1H
X-Robots-Tag:noindex
X-PUBLISHED-TTL:PT1H
BEGIN:VTIMEZONE
TZID:America/Chicago
BEGIN:DAYLIGHT
TZOFFSETFROM:-0600
TZOFFSETTO:-0500
TZNAME:CDT
DTSTART:20180311T080000
END:DAYLIGHT
BEGIN:STANDARD
TZOFFSETFROM:-0500
TZOFFSETTO:-0600
TZNAME:CST
DTSTART:20181104T070000
END:STANDARD
BEGIN:DAYLIGHT
TZOFFSETFROM:-0600
TZOFFSETTO:-0500
TZNAME:CDT
DTSTART:20190310T080000
END:DAYLIGHT
BEGIN:STANDARD
TZOFFSETFROM:-0500
TZOFFSETTO:-0600
TZNAME:CST
DTSTART:20191103T070000
END:STANDARD
BEGIN:DAYLIGHT
TZOFFSETFROM:-0600
TZOFFSETTO:-0500
TZNAME:CDT
DTSTART:20200308T080000
END:DAYLIGHT
BEGIN:STANDARD
TZOFFSETFROM:-0500
TZOFFSETTO:-0600
TZNAME:CST
DTSTART:20201101T070000
END:STANDARD
BEGIN:DAYLIGHT
TZOFFSETFROM:-0600
TZOFFSETTO:-0500
TZNAME:CDT
DTSTART:20210314T080000
END:DAYLIGHT
BEGIN:STANDARD
TZOFFSETFROM:-0500
TZOFFSETTO:-0600
TZNAME:CST
DTSTART:20211107T070000
END:STANDARD
END:VTIMEZONE
BEGIN:VEVENT
DTSTART;TZID=America/Chicago:20200502T080000
DTEND;TZID=America/Chicago:20200502T170000
DTSTAMP:20260424T001223
CREATED:20180505T184228Z
LAST-MODIFIED:20200415T140419Z
UID:10001777-1588406400-1588438800@www.racetime.info
SUMMARY:Don't Tell Me To Slow Down 5K: RESCHEDULED - DATE TBD
DESCRIPTION:
URL:https://www.racetime.info/event/dont-tell-me-to-slow-down-5k-3/
LOCATION:Lakefill at Northwestern University\, 50 Arts Circle Drive\, Evanston\, IL\, 60201\, United States
ORGANIZER;CN="Kate Gore":MAILTO:katie@speechirl.com
END:VEVENT
BEGIN:VEVENT
DTSTART;TZID=America/Chicago:20190504T080000
DTEND;TZID=America/Chicago:20190504T170000
DTSTAMP:20260424T001223
CREATED:20180505T184228Z
LAST-MODIFIED:20190504T192930Z
UID:10001776-1556956800-1556989200@www.racetime.info
SUMMARY:Don't Tell Me To Slow Down 5K
DESCRIPTION:Don’t Tell Me To Slow Down 5K Overall Results
URL:https://www.racetime.info/event/dont-tell-me-to-slow-down-5k-2/
LOCATION:Northwestern University Campus\, 1201 Davis St.\, Evanston\, IL\, United States
CATEGORIES:2019-05 Results (May)
ORGANIZER;CN="Kate Gore":MAILTO:katie@speechirl.com
GEO:42.0475597;-87.6894531
X-APPLE-STRUCTURED-LOCATION;VALUE=URI;X-ADDRESS=Northwestern University Campus 1201 Davis St. Evanston IL United States;X-APPLE-RADIUS=500;X-TITLE=1201 Davis St.:geo:-87.6894531,42.0475597
END:VEVENT
END:VCALENDAR