BEGIN:VCALENDAR
VERSION:2.0
PRODID:-//Race Time - ECPv6.15.13//NONSGML v1.0//EN
CALSCALE:GREGORIAN
METHOD:PUBLISH
X-ORIGINAL-URL:https://www.racetime.info
X-WR-CALDESC:Events for Race Time
REFRESH-INTERVAL;VALUE=DURATION:PT1H
X-Robots-Tag:noindex
X-PUBLISHED-TTL:PT1H
BEGIN:VTIMEZONE
TZID:America/Chicago
BEGIN:DAYLIGHT
TZOFFSETFROM:-0600
TZOFFSETTO:-0500
TZNAME:CDT
DTSTART:20170312T080000
END:DAYLIGHT
BEGIN:STANDARD
TZOFFSETFROM:-0500
TZOFFSETTO:-0600
TZNAME:CST
DTSTART:20171105T070000
END:STANDARD
BEGIN:DAYLIGHT
TZOFFSETFROM:-0600
TZOFFSETTO:-0500
TZNAME:CDT
DTSTART:20180311T080000
END:DAYLIGHT
BEGIN:STANDARD
TZOFFSETFROM:-0500
TZOFFSETTO:-0600
TZNAME:CST
DTSTART:20181104T070000
END:STANDARD
BEGIN:DAYLIGHT
TZOFFSETFROM:-0600
TZOFFSETTO:-0500
TZNAME:CDT
DTSTART:20190310T080000
END:DAYLIGHT
BEGIN:STANDARD
TZOFFSETFROM:-0500
TZOFFSETTO:-0600
TZNAME:CST
DTSTART:20191103T070000
END:STANDARD
BEGIN:DAYLIGHT
TZOFFSETFROM:-0600
TZOFFSETTO:-0500
TZNAME:CDT
DTSTART:20200308T080000
END:DAYLIGHT
BEGIN:STANDARD
TZOFFSETFROM:-0500
TZOFFSETTO:-0600
TZNAME:CST
DTSTART:20201101T070000
END:STANDARD
BEGIN:DAYLIGHT
TZOFFSETFROM:-0600
TZOFFSETTO:-0500
TZNAME:CDT
DTSTART:20210314T080000
END:DAYLIGHT
BEGIN:STANDARD
TZOFFSETFROM:-0500
TZOFFSETTO:-0600
TZNAME:CST
DTSTART:20211107T070000
END:STANDARD
BEGIN:DAYLIGHT
TZOFFSETFROM:-0600
TZOFFSETTO:-0500
TZNAME:CDT
DTSTART:20220313T080000
END:DAYLIGHT
BEGIN:STANDARD
TZOFFSETFROM:-0500
TZOFFSETTO:-0600
TZNAME:CST
DTSTART:20221106T070000
END:STANDARD
BEGIN:DAYLIGHT
TZOFFSETFROM:-0600
TZOFFSETTO:-0500
TZNAME:CDT
DTSTART:20230312T080000
END:DAYLIGHT
BEGIN:STANDARD
TZOFFSETFROM:-0500
TZOFFSETTO:-0600
TZNAME:CST
DTSTART:20231105T070000
END:STANDARD
BEGIN:DAYLIGHT
TZOFFSETFROM:-0600
TZOFFSETTO:-0500
TZNAME:CDT
DTSTART:20240310T080000
END:DAYLIGHT
BEGIN:STANDARD
TZOFFSETFROM:-0500
TZOFFSETTO:-0600
TZNAME:CST
DTSTART:20241103T070000
END:STANDARD
BEGIN:DAYLIGHT
TZOFFSETFROM:-0600
TZOFFSETTO:-0500
TZNAME:CDT
DTSTART:20250309T080000
END:DAYLIGHT
BEGIN:STANDARD
TZOFFSETFROM:-0500
TZOFFSETTO:-0600
TZNAME:CST
DTSTART:20251102T070000
END:STANDARD
BEGIN:DAYLIGHT
TZOFFSETFROM:-0600
TZOFFSETTO:-0500
TZNAME:CDT
DTSTART:20260308T080000
END:DAYLIGHT
BEGIN:STANDARD
TZOFFSETFROM:-0500
TZOFFSETTO:-0600
TZNAME:CST
DTSTART:20261101T070000
END:STANDARD
END:VTIMEZONE
BEGIN:VEVENT
DTSTART;TZID=America/Chicago:20251011T090000
DTEND;TZID=America/Chicago:20251011T113000
DTSTAMP:20260423T235235
CREATED:20251010T185910Z
LAST-MODIFIED:20251011T170829Z
UID:10002442-1760173200-1760182200@www.racetime.info
SUMMARY:Northwestern Medicine 5K
DESCRIPTION:Northwestern Medicine 5K Overall Results
URL:https://www.racetime.info/event/northwestern-medicine-5k/
LOCATION:Kane County Cougars Stadium\, 34W002 Cherry Lane\, Geneva\, IL\, 60134\, United States
CATEGORIES:2025-10 Results (October)
END:VEVENT
BEGIN:VEVENT
DTSTART;TZID=America/Chicago:20200606T090000
DTEND;TZID=America/Chicago:20200606T110000
DTSTAMP:20260423T235235
CREATED:20180219T210614Z
LAST-MODIFIED:20200504T120233Z
UID:10001741-1591434000-1591441200@www.racetime.info
SUMMARY:The Foodie 5K Run/Walk: VIRTUAL
DESCRIPTION:
URL:https://www.racetime.info/event/the-foodie-5k-run-walk-7/
LOCATION:Independence Grove Forest Preserve\, 16400 Buckley Road\, Libertyville\, IL\, 60045\, United States
GEO:42.3118463;-87.9529568
X-APPLE-STRUCTURED-LOCATION;VALUE=URI;X-ADDRESS=Independence Grove Forest Preserve 16400 Buckley Road Libertyville IL 60045 United States;X-APPLE-RADIUS=500;X-TITLE=16400 Buckley Road:geo:-87.9529568,42.3118463
END:VEVENT
BEGIN:VEVENT
DTSTART;TZID=America/Chicago:20200418T090000
DTEND;TZID=America/Chicago:20200418T110000
DTSTAMP:20260423T235235
CREATED:20180219T210614Z
LAST-MODIFIED:20200317T105020Z
UID:10001740-1587200400-1587207600@www.racetime.info
SUMMARY:The Foodie 5K Run/Walk: VIRTUAL RUN
DESCRIPTION:
URL:https://www.racetime.info/event/the-foodie-5k-run-walk-6/
LOCATION:Cantigny Park\, 1S151 Winfield Road\, Wheaton\, IL\, 60187\, United States
GEO:41.8549443;-88.1559782
X-APPLE-STRUCTURED-LOCATION;VALUE=URI;X-ADDRESS=Cantigny Park 1S151 Winfield Road Wheaton IL 60187 United States;X-APPLE-RADIUS=500;X-TITLE=1S151 Winfield Road:geo:-88.1559782,41.8549443
END:VEVENT
BEGIN:VEVENT
DTSTART;TZID=America/Chicago:20190601T090000
DTEND;TZID=America/Chicago:20190601T110000
DTSTAMP:20260423T235235
CREATED:20180219T210614Z
LAST-MODIFIED:20190601T203232Z
UID:10000922-1559379600-1559386800@www.racetime.info
SUMMARY:The Foodie 5K Run/Walk
DESCRIPTION:Foodies Libertyville 5K Age Group Results\n\nFoodies Libertyville 5K Overall Results
URL:https://www.racetime.info/event/the-foodie-5k-run-walk-5/
LOCATION:Independence Grove Forest Preserve\, 16400 Buckley Road\, Libertyville\, IL\, 60045\, United States
CATEGORIES:2019-06 Results (June)
GEO:42.3118463;-87.9529568
X-APPLE-STRUCTURED-LOCATION;VALUE=URI;X-ADDRESS=Independence Grove Forest Preserve 16400 Buckley Road Libertyville IL 60045 United States;X-APPLE-RADIUS=500;X-TITLE=16400 Buckley Road:geo:-87.9529568,42.3118463
END:VEVENT
BEGIN:VEVENT
DTSTART;TZID=America/Chicago:20190427T090000
DTEND;TZID=America/Chicago:20190427T110000
DTSTAMP:20260423T235235
CREATED:20180219T210614Z
LAST-MODIFIED:20190127T165426Z
UID:10000920-1556355600-1556362800@www.racetime.info
SUMMARY:The Foodie 5K Run/Walk
DESCRIPTION:
URL:https://www.racetime.info/event/the-foodie-5k-run-walk-4/
LOCATION:Cantigny Park\, 1S151 Winfield Road\, Wheaton\, IL\, 60187\, United States
GEO:41.8549443;-88.1559782
X-APPLE-STRUCTURED-LOCATION;VALUE=URI;X-ADDRESS=Cantigny Park 1S151 Winfield Road Wheaton IL 60187 United States;X-APPLE-RADIUS=500;X-TITLE=1S151 Winfield Road:geo:-88.1559782,41.8549443
END:VEVENT
BEGIN:VEVENT
DTSTART;TZID=America/Chicago:20180915T090000
DTEND;TZID=America/Chicago:20180915T110000
DTSTAMP:20260423T235235
CREATED:20180219T210614Z
LAST-MODIFIED:20180918T104945Z
UID:10000919-1537002000-1537009200@www.racetime.info
SUMMARY:The Foodie 5K Run/Walk
DESCRIPTION:Foodies 5K Joliet Age Group Results\n\nFoodies 5K Joliet Overall Results
URL:https://www.racetime.info/event/the-foodie-5k-run-walk-3/
LOCATION:Lewis University\, 1 University Parkway\, Romeoville\, IL\, 60446\, United States
CATEGORIES:2018-09 Results (September)
GEO:41.6047245;-88.0813334
X-APPLE-STRUCTURED-LOCATION;VALUE=URI;X-ADDRESS=Lewis University 1 University Parkway Romeoville IL 60446 United States;X-APPLE-RADIUS=500;X-TITLE=1 University Parkway:geo:-88.0813334,41.6047245
END:VEVENT
BEGIN:VEVENT
DTSTART;TZID=America/Chicago:20180512T090000
DTEND;TZID=America/Chicago:20180512T110000
DTSTAMP:20260423T235235
CREATED:20180219T210614Z
LAST-MODIFIED:20180514T120400Z
UID:10000918-1526115600-1526122800@www.racetime.info
SUMMARY:The Foodie 5K Run/Walk
DESCRIPTION:Foodie 5K Age Group Report Libertyville\n\nFoodie 5K Overall Report Libertyville
URL:https://www.racetime.info/event/the-foodie-5k-run-walk-2/
LOCATION:Independence Grove Forest Preserve\, 16400 Buckley Road\, Libertyville\, IL\, 60045\, United States
CATEGORIES:2018-05 Results (May)
GEO:42.3118463;-87.9529568
X-APPLE-STRUCTURED-LOCATION;VALUE=URI;X-ADDRESS=Independence Grove Forest Preserve 16400 Buckley Road Libertyville IL 60045 United States;X-APPLE-RADIUS=500;X-TITLE=16400 Buckley Road:geo:-87.9529568,42.3118463
END:VEVENT
BEGIN:VEVENT
DTSTART;TZID=America/Chicago:20180407T090000
DTEND;TZID=America/Chicago:20180407T110000
DTSTAMP:20260423T235235
CREATED:20180219T210614Z
LAST-MODIFIED:20180407T204156Z
UID:10000917-1523091600-1523098800@www.racetime.info
SUMMARY:The Foodie 5K Run/Walk
DESCRIPTION:Foodie 5K Age Group Report Cantigny 1\n\nFoodie 5K Overall Report Cantigny 1
URL:https://www.racetime.info/event/the-foodie-5k-run-walk/
LOCATION:Cantigny Park\, 1S151 Winfield Road\, Wheaton\, IL\, 60187\, United States
CATEGORIES:2018-04 Results (April)
GEO:41.8549443;-88.1559782
X-APPLE-STRUCTURED-LOCATION;VALUE=URI;X-ADDRESS=Cantigny Park 1S151 Winfield Road Wheaton IL 60187 United States;X-APPLE-RADIUS=500;X-TITLE=1S151 Winfield Road:geo:-88.1559782,41.8549443
END:VEVENT
END:VCALENDAR