BEGIN:VCALENDAR
VERSION:2.0
PRODID:-//Race Time - ECPv6.15.13//NONSGML v1.0//EN
CALSCALE:GREGORIAN
METHOD:PUBLISH
X-WR-CALNAME:Race Time
X-ORIGINAL-URL:https://www.racetime.info
X-WR-CALDESC:Events for Race Time
REFRESH-INTERVAL;VALUE=DURATION:PT1H
X-Robots-Tag:noindex
X-PUBLISHED-TTL:PT1H
BEGIN:VTIMEZONE
TZID:America/Chicago
BEGIN:DAYLIGHT
TZOFFSETFROM:-0600
TZOFFSETTO:-0500
TZNAME:CDT
DTSTART:20140309T080000
END:DAYLIGHT
BEGIN:STANDARD
TZOFFSETFROM:-0500
TZOFFSETTO:-0600
TZNAME:CST
DTSTART:20141102T070000
END:STANDARD
BEGIN:DAYLIGHT
TZOFFSETFROM:-0600
TZOFFSETTO:-0500
TZNAME:CDT
DTSTART:20150308T080000
END:DAYLIGHT
BEGIN:STANDARD
TZOFFSETFROM:-0500
TZOFFSETTO:-0600
TZNAME:CST
DTSTART:20151101T070000
END:STANDARD
BEGIN:DAYLIGHT
TZOFFSETFROM:-0600
TZOFFSETTO:-0500
TZNAME:CDT
DTSTART:20160313T080000
END:DAYLIGHT
BEGIN:STANDARD
TZOFFSETFROM:-0500
TZOFFSETTO:-0600
TZNAME:CST
DTSTART:20161106T070000
END:STANDARD
END:VTIMEZONE
BEGIN:VEVENT
DTSTART;TZID=America/Chicago:20150419T083000
DTEND;TZID=America/Chicago:20150419T083000
DTSTAMP:20260424T040119
CREATED:20150409T034454Z
LAST-MODIFIED:20150802T045122Z
UID:10000101-1429432200-1429432200@www.racetime.info
SUMMARY:Roadrunner Dash
DESCRIPTION:Roadrunner Dash 5K Age Group Results\n\nRoadrunner Dash 5K Overall Results
URL:https://www.racetime.info/event/roadrunner-dash-2/
LOCATION:Nazareth Academy\, 1209 West Ogden Avenue\, Lagrange Park\, IL\, United States
CATEGORIES:2015-04 Results (April)
ORGANIZER;CN="Katherine Fernholz":MAILTO:kfernholz@nazarethacademy.com
GEO:41.8203486;-87.8861929
X-APPLE-STRUCTURED-LOCATION;VALUE=URI;X-ADDRESS=Nazareth Academy 1209 West Ogden Avenue Lagrange Park IL United States;X-APPLE-RADIUS=500;X-TITLE=1209 West Ogden Avenue:geo:-87.8861929,41.8203486
END:VEVENT
END:VCALENDAR