BEGIN:VCALENDAR
VERSION:2.0
PRODID:-//Race Time - ECPv6.15.13//NONSGML v1.0//EN
CALSCALE:GREGORIAN
METHOD:PUBLISH
X-WR-CALNAME:Race Time
X-ORIGINAL-URL:https://www.racetime.info
X-WR-CALDESC:Events for Race Time
REFRESH-INTERVAL;VALUE=DURATION:PT1H
X-Robots-Tag:noindex
X-PUBLISHED-TTL:PT1H
BEGIN:VTIMEZONE
TZID:America/Chicago
BEGIN:DAYLIGHT
TZOFFSETFROM:-0600
TZOFFSETTO:-0500
TZNAME:CDT
DTSTART:20140309T080000
END:DAYLIGHT
BEGIN:STANDARD
TZOFFSETFROM:-0500
TZOFFSETTO:-0600
TZNAME:CST
DTSTART:20141102T070000
END:STANDARD
BEGIN:DAYLIGHT
TZOFFSETFROM:-0600
TZOFFSETTO:-0500
TZNAME:CDT
DTSTART:20150308T080000
END:DAYLIGHT
BEGIN:STANDARD
TZOFFSETFROM:-0500
TZOFFSETTO:-0600
TZNAME:CST
DTSTART:20151101T070000
END:STANDARD
BEGIN:DAYLIGHT
TZOFFSETFROM:-0600
TZOFFSETTO:-0500
TZNAME:CDT
DTSTART:20160313T080000
END:DAYLIGHT
BEGIN:STANDARD
TZOFFSETFROM:-0500
TZOFFSETTO:-0600
TZNAME:CST
DTSTART:20161106T070000
END:STANDARD
END:VTIMEZONE
BEGIN:VEVENT
DTSTART;TZID=America/Chicago:20150531T083000
DTEND;TZID=America/Chicago:20150531T170000
DTSTAMP:20260424T064438
CREATED:20150409T034509Z
LAST-MODIFIED:20150829T202544Z
UID:10000157-1433061000-1433091600@www.racetime.info
SUMMARY:Noonan 5K
DESCRIPTION:Noonan 5K Overall Results
URL:https://www.racetime.info/event/noonan-5k-2/
LOCATION:Lakewood Forest Preserve\, 27277 North Forest Preserve Road\, Wauconda\, IL\, 60084\, United States
CATEGORIES:2015-05 Results (May)
ORGANIZER;CN="Katheryn Meyer":MAILTO:kthorstenson1@yahoo.com
GEO:42.2595783;-88.1078489
X-APPLE-STRUCTURED-LOCATION;VALUE=URI;X-ADDRESS=Lakewood Forest Preserve 27277 North Forest Preserve Road Wauconda IL 60084 United States;X-APPLE-RADIUS=500;X-TITLE=27277 North Forest Preserve Road:geo:-88.1078489,42.2595783
END:VEVENT
END:VCALENDAR