BEGIN:VCALENDAR
VERSION:2.0
PRODID:-//Race Time - ECPv6.15.13//NONSGML v1.0//EN
CALSCALE:GREGORIAN
METHOD:PUBLISH
X-WR-CALNAME:Race Time
X-ORIGINAL-URL:https://www.racetime.info
X-WR-CALDESC:Events for Race Time
REFRESH-INTERVAL;VALUE=DURATION:PT1H
X-Robots-Tag:noindex
X-PUBLISHED-TTL:PT1H
BEGIN:VTIMEZONE
TZID:America/Chicago
BEGIN:DAYLIGHT
TZOFFSETFROM:-0600
TZOFFSETTO:-0500
TZNAME:CDT
DTSTART:20140309T080000
END:DAYLIGHT
BEGIN:STANDARD
TZOFFSETFROM:-0500
TZOFFSETTO:-0600
TZNAME:CST
DTSTART:20141102T070000
END:STANDARD
BEGIN:DAYLIGHT
TZOFFSETFROM:-0600
TZOFFSETTO:-0500
TZNAME:CDT
DTSTART:20150308T080000
END:DAYLIGHT
BEGIN:STANDARD
TZOFFSETFROM:-0500
TZOFFSETTO:-0600
TZNAME:CST
DTSTART:20151101T070000
END:STANDARD
BEGIN:DAYLIGHT
TZOFFSETFROM:-0600
TZOFFSETTO:-0500
TZNAME:CDT
DTSTART:20160313T080000
END:DAYLIGHT
BEGIN:STANDARD
TZOFFSETFROM:-0500
TZOFFSETTO:-0600
TZNAME:CST
DTSTART:20161106T070000
END:STANDARD
END:VTIMEZONE
BEGIN:VEVENT
DTSTART;TZID=America/Chicago:20150125T100000
DTEND;TZID=America/Chicago:20150125T100000
DTSTAMP:20260424T063844
CREATED:20150409T214518Z
LAST-MODIFIED:20150802T041846Z
UID:10000197-1422180000-1422180000@www.racetime.info
SUMMARY:Frozen Zucchini Snowshoe Adventure & Kids Event
DESCRIPTION:Frozen Zucchini 5K Age Group Results\n\nFrozen Zucchini 5K Overall Results
URL:https://www.racetime.info/event/frozen-zucchini-snowshoe-adventure-kids-event/
LOCATION:Smart Farms / Citizen Park\, 511 Lake Zurich Road\, Barrington\, IL\, United States
ORGANIZER;CN="Kathy Gableman":MAILTO:Smartfarms2@gmail.com
GEO:42.1628694;-88.1244873
X-APPLE-STRUCTURED-LOCATION;VALUE=URI;X-ADDRESS=Smart Farms / Citizen Park 511 Lake Zurich Road Barrington IL United States;X-APPLE-RADIUS=500;X-TITLE=511 Lake Zurich Road:geo:-88.1244873,42.1628694
END:VEVENT
END:VCALENDAR