BEGIN:VCALENDAR
VERSION:2.0
PRODID:-//Race Time - ECPv6.15.13//NONSGML v1.0//EN
CALSCALE:GREGORIAN
METHOD:PUBLISH
X-ORIGINAL-URL:https://www.racetime.info
X-WR-CALDESC:Events for Race Time
REFRESH-INTERVAL;VALUE=DURATION:PT1H
X-Robots-Tag:noindex
X-PUBLISHED-TTL:PT1H
BEGIN:VTIMEZONE
TZID:America/Chicago
BEGIN:DAYLIGHT
TZOFFSETFROM:-0600
TZOFFSETTO:-0500
TZNAME:CDT
DTSTART:20170312T080000
END:DAYLIGHT
BEGIN:STANDARD
TZOFFSETFROM:-0500
TZOFFSETTO:-0600
TZNAME:CST
DTSTART:20171105T070000
END:STANDARD
BEGIN:DAYLIGHT
TZOFFSETFROM:-0600
TZOFFSETTO:-0500
TZNAME:CDT
DTSTART:20180311T080000
END:DAYLIGHT
BEGIN:STANDARD
TZOFFSETFROM:-0500
TZOFFSETTO:-0600
TZNAME:CST
DTSTART:20181104T070000
END:STANDARD
BEGIN:DAYLIGHT
TZOFFSETFROM:-0600
TZOFFSETTO:-0500
TZNAME:CDT
DTSTART:20190310T080000
END:DAYLIGHT
BEGIN:STANDARD
TZOFFSETFROM:-0500
TZOFFSETTO:-0600
TZNAME:CST
DTSTART:20191103T070000
END:STANDARD
BEGIN:DAYLIGHT
TZOFFSETFROM:-0600
TZOFFSETTO:-0500
TZNAME:CDT
DTSTART:20200308T080000
END:DAYLIGHT
BEGIN:STANDARD
TZOFFSETFROM:-0500
TZOFFSETTO:-0600
TZNAME:CST
DTSTART:20201101T070000
END:STANDARD
END:VTIMEZONE
BEGIN:VEVENT
DTSTART;TZID=America/Chicago:20190414T090000
DTEND;TZID=America/Chicago:20190414T110000
DTSTAMP:20260424T012416
CREATED:20180208T211456Z
LAST-MODIFIED:20190414T171334Z
UID:10001739-1555232400-1555239600@www.racetime.info
SUMMARY:Young Hearts For Life 5K Run/Walk
DESCRIPTION:Young Hearts For Life 5K Age Group Results\n\nYoung Hearts For Life 5K Overall Results
URL:https://www.racetime.info/event/copy-of-young-hearts-for-life-5k-run-walk/
LOCATION:Benedictine University\, 5700 College Road\, Lisle\, IL\, 60532\, United States
CATEGORIES:2019-04 Results (April)
ORGANIZER;CN="Kathy Marek":MAILTO:yh4ljuniorboard@gmail.com
GEO:41.7788628;-88.0948979
X-APPLE-STRUCTURED-LOCATION;VALUE=URI;X-ADDRESS=Benedictine University 5700 College Road Lisle IL 60532 United States;X-APPLE-RADIUS=500;X-TITLE=5700 College Road:geo:-88.0948979,41.7788628
END:VEVENT
BEGIN:VEVENT
DTSTART;TZID=America/Chicago:20180408T090000
DTEND;TZID=America/Chicago:20180408T110000
DTSTAMP:20260424T012416
CREATED:20180208T211456Z
LAST-MODIFIED:20180408T160901Z
UID:10001738-1523178000-1523185200@www.racetime.info
SUMMARY:Young Hearts For Life 5K Run/Walk
DESCRIPTION:Young Hearts 4 Life 5K Age Group Results\n\nYoung Hearts 4 Life 5K Overall Results
URL:https://www.racetime.info/event/young-hearts-4-life-5k-run-walk/
LOCATION:Benedictine University\, 5700 College Road\, Lisle\, IL\, 60532\, United States
CATEGORIES:2018-04 Results (April)
ORGANIZER;CN="Kathy Marek":MAILTO:yh4ljuniorboard@gmail.com
GEO:41.7788628;-88.0948979
X-APPLE-STRUCTURED-LOCATION;VALUE=URI;X-ADDRESS=Benedictine University 5700 College Road Lisle IL 60532 United States;X-APPLE-RADIUS=500;X-TITLE=5700 College Road:geo:-88.0948979,41.7788628
END:VEVENT
END:VCALENDAR