BEGIN:VCALENDAR
VERSION:2.0
PRODID:-//Race Time - ECPv6.15.13//NONSGML v1.0//EN
CALSCALE:GREGORIAN
METHOD:PUBLISH
X-ORIGINAL-URL:https://www.racetime.info
X-WR-CALDESC:Events for Race Time
REFRESH-INTERVAL;VALUE=DURATION:PT1H
X-Robots-Tag:noindex
X-PUBLISHED-TTL:PT1H
BEGIN:VTIMEZONE
TZID:America/Chicago
BEGIN:DAYLIGHT
TZOFFSETFROM:-0600
TZOFFSETTO:-0500
TZNAME:CDT
DTSTART:20230312T080000
END:DAYLIGHT
BEGIN:STANDARD
TZOFFSETFROM:-0500
TZOFFSETTO:-0600
TZNAME:CST
DTSTART:20231105T070000
END:STANDARD
BEGIN:DAYLIGHT
TZOFFSETFROM:-0600
TZOFFSETTO:-0500
TZNAME:CDT
DTSTART:20240310T080000
END:DAYLIGHT
BEGIN:STANDARD
TZOFFSETFROM:-0500
TZOFFSETTO:-0600
TZNAME:CST
DTSTART:20241103T070000
END:STANDARD
BEGIN:DAYLIGHT
TZOFFSETFROM:-0600
TZOFFSETTO:-0500
TZNAME:CDT
DTSTART:20250309T080000
END:DAYLIGHT
BEGIN:STANDARD
TZOFFSETFROM:-0500
TZOFFSETTO:-0600
TZNAME:CST
DTSTART:20251102T070000
END:STANDARD
BEGIN:DAYLIGHT
TZOFFSETFROM:-0600
TZOFFSETTO:-0500
TZNAME:CDT
DTSTART:20260308T080000
END:DAYLIGHT
BEGIN:STANDARD
TZOFFSETFROM:-0500
TZOFFSETTO:-0600
TZNAME:CST
DTSTART:20261101T070000
END:STANDARD
BEGIN:DAYLIGHT
TZOFFSETFROM:-0600
TZOFFSETTO:-0500
TZNAME:CDT
DTSTART:20270314T080000
END:DAYLIGHT
BEGIN:STANDARD
TZOFFSETFROM:-0500
TZOFFSETTO:-0600
TZNAME:CST
DTSTART:20271107T070000
END:STANDARD
END:VTIMEZONE
BEGIN:VEVENT
DTSTART;TZID=America/Chicago:20260222T130000
DTEND;TZID=America/Chicago:20260222T143000
DTSTAMP:20260424T012515
CREATED:20260127T130803Z
LAST-MODIFIED:20260222T221346Z
UID:10002477-1771765200-1771770600@www.racetime.info
SUMMARY:Hug An Athlete 5K Run*Walk*Roll
DESCRIPTION:Hug An Athlete 5K Age Group Results\n\nHug An Athlete 5K Overall Results
URL:https://www.racetime.info/event/hug-an-athlete-5k-runwalkroll-2/
LOCATION:Doty Park\, 365 W. Locust Street\, Belvidere\, IL\, 61008\, United States
CATEGORIES:2026-02 Results (February)
ORGANIZER;CN="Katie Humphrey":MAILTO:khumphrey@belviderepark.org
GEO:42.256882;-88.844297
X-APPLE-STRUCTURED-LOCATION;VALUE=URI;X-ADDRESS=Doty Park 365 W. Locust Street Belvidere IL 61008 United States;X-APPLE-RADIUS=500;X-TITLE=365 W. Locust Street:geo:-88.844297,42.256882
END:VEVENT
BEGIN:VEVENT
DTSTART;TZID=America/Chicago:20250223T130000
DTEND;TZID=America/Chicago:20250223T143000
DTSTAMP:20260424T012515
CREATED:20231101T124243Z
LAST-MODIFIED:20250223T225350Z
UID:10002204-1740315600-1740321000@www.racetime.info
SUMMARY:Hug An Athlete 5K Run*Walk*Roll
DESCRIPTION:Hug An Athlete Age Group Results\n\nHug An Athlete Overall Results
URL:https://www.racetime.info/event/copy-of-hug-an-athlete-5k-runwalkroll/
LOCATION:Doty Park\, 365 W. Locust Street\, Belvidere\, IL\, 61008\, United States
CATEGORIES:2025-02 Results (February)
ORGANIZER;CN="Katie Humphrey":MAILTO:khumphrey@belviderepark.org
GEO:42.256882;-88.844297
X-APPLE-STRUCTURED-LOCATION;VALUE=URI;X-ADDRESS=Doty Park 365 W. Locust Street Belvidere IL 61008 United States;X-APPLE-RADIUS=500;X-TITLE=365 W. Locust Street:geo:-88.844297,42.256882
END:VEVENT
BEGIN:VEVENT
DTSTART;TZID=America/Chicago:20240225T130000
DTEND;TZID=America/Chicago:20240225T150000
DTSTAMP:20260424T012515
CREATED:20231101T124243Z
LAST-MODIFIED:20240225T211941Z
UID:10002203-1708866000-1708873200@www.racetime.info
SUMMARY:Hug An Athlete 5K Run*Walk*Roll
DESCRIPTION:Hug An Athlete 5K Age Group Results\n\nHug An Athlete 5K Overall Results
URL:https://www.racetime.info/event/hug-an-athlete-5k-runwalkroll/
LOCATION:Doty Park\, 365 W. Locust Street\, Belvidere\, IL\, 61008\, United States
CATEGORIES:2024-02 Results (February)
ORGANIZER;CN="Katie Humphrey":MAILTO:khumphrey@belviderepark.org
GEO:42.256882;-88.844297
X-APPLE-STRUCTURED-LOCATION;VALUE=URI;X-ADDRESS=Doty Park 365 W. Locust Street Belvidere IL 61008 United States;X-APPLE-RADIUS=500;X-TITLE=365 W. Locust Street:geo:-88.844297,42.256882
END:VEVENT
END:VCALENDAR