BEGIN:VCALENDAR
VERSION:2.0
PRODID:-//Race Time - ECPv6.15.13//NONSGML v1.0//EN
CALSCALE:GREGORIAN
METHOD:PUBLISH
X-ORIGINAL-URL:https://www.racetime.info
X-WR-CALDESC:Events for Race Time
REFRESH-INTERVAL;VALUE=DURATION:PT1H
X-Robots-Tag:noindex
X-PUBLISHED-TTL:PT1H
BEGIN:VTIMEZONE
TZID:America/Chicago
BEGIN:DAYLIGHT
TZOFFSETFROM:-0600
TZOFFSETTO:-0500
TZNAME:CDT
DTSTART:20140309T080000
END:DAYLIGHT
BEGIN:STANDARD
TZOFFSETFROM:-0500
TZOFFSETTO:-0600
TZNAME:CST
DTSTART:20141102T070000
END:STANDARD
BEGIN:DAYLIGHT
TZOFFSETFROM:-0600
TZOFFSETTO:-0500
TZNAME:CDT
DTSTART:20150308T080000
END:DAYLIGHT
BEGIN:STANDARD
TZOFFSETFROM:-0500
TZOFFSETTO:-0600
TZNAME:CST
DTSTART:20151101T070000
END:STANDARD
BEGIN:DAYLIGHT
TZOFFSETFROM:-0600
TZOFFSETTO:-0500
TZNAME:CDT
DTSTART:20160313T080000
END:DAYLIGHT
BEGIN:STANDARD
TZOFFSETFROM:-0500
TZOFFSETTO:-0600
TZNAME:CST
DTSTART:20161106T070000
END:STANDARD
END:VTIMEZONE
BEGIN:VEVENT
DTSTART;TZID=America/Chicago:20151107T083000
DTEND;TZID=America/Chicago:20151107T103000
DTSTAMP:20260424T010551
CREATED:20150924T115636Z
LAST-MODIFIED:20151108T160517Z
UID:10000432-1446885000-1446892200@www.racetime.info
SUMMARY:St. Francis Falcon 5K Run/Walk
DESCRIPTION:Falcon 5K Age Group Results\n\nFalcon 5K Overall Results
URL:https://www.racetime.info/event/st-francis-falcon-5k-runwalk/
LOCATION:St. Francis Xavier School\, 145 N. Waiola \, LaGrange\, IL\, 60525\, United States
CATEGORIES:2015-11 Results (November)
ORGANIZER;CN="Katie Mulcahy":MAILTO:ktom@sbcglobal.net
GEO:41.817968;-87.876853
X-APPLE-STRUCTURED-LOCATION;VALUE=URI;X-ADDRESS=St. Francis Xavier School 145 N. Waiola  LaGrange IL 60525 United States;X-APPLE-RADIUS=500;X-TITLE=145 N. Waiola:geo:-87.876853,41.817968
END:VEVENT
END:VCALENDAR