BEGIN:VCALENDAR
VERSION:2.0
PRODID:-//Race Time - ECPv6.15.13//NONSGML v1.0//EN
CALSCALE:GREGORIAN
METHOD:PUBLISH
X-ORIGINAL-URL:https://www.racetime.info
X-WR-CALDESC:Events for Race Time
REFRESH-INTERVAL;VALUE=DURATION:PT1H
X-Robots-Tag:noindex
X-PUBLISHED-TTL:PT1H
BEGIN:VTIMEZONE
TZID:America/Chicago
BEGIN:DAYLIGHT
TZOFFSETFROM:-0600
TZOFFSETTO:-0500
TZNAME:CDT
DTSTART:20150308T080000
END:DAYLIGHT
BEGIN:STANDARD
TZOFFSETFROM:-0500
TZOFFSETTO:-0600
TZNAME:CST
DTSTART:20151101T070000
END:STANDARD
BEGIN:DAYLIGHT
TZOFFSETFROM:-0600
TZOFFSETTO:-0500
TZNAME:CDT
DTSTART:20160313T080000
END:DAYLIGHT
BEGIN:STANDARD
TZOFFSETFROM:-0500
TZOFFSETTO:-0600
TZNAME:CST
DTSTART:20161106T070000
END:STANDARD
BEGIN:DAYLIGHT
TZOFFSETFROM:-0600
TZOFFSETTO:-0500
TZNAME:CDT
DTSTART:20170312T080000
END:DAYLIGHT
BEGIN:STANDARD
TZOFFSETFROM:-0500
TZOFFSETTO:-0600
TZNAME:CST
DTSTART:20171105T070000
END:STANDARD
BEGIN:DAYLIGHT
TZOFFSETFROM:-0600
TZOFFSETTO:-0500
TZNAME:CDT
DTSTART:20180311T080000
END:DAYLIGHT
BEGIN:STANDARD
TZOFFSETFROM:-0500
TZOFFSETTO:-0600
TZNAME:CST
DTSTART:20181104T070000
END:STANDARD
BEGIN:DAYLIGHT
TZOFFSETFROM:-0600
TZOFFSETTO:-0500
TZNAME:CDT
DTSTART:20190310T080000
END:DAYLIGHT
BEGIN:STANDARD
TZOFFSETFROM:-0500
TZOFFSETTO:-0600
TZNAME:CST
DTSTART:20191103T070000
END:STANDARD
END:VTIMEZONE
BEGIN:VEVENT
DTSTART;TZID=America/Chicago:20181122T080000
DTEND;TZID=America/Chicago:20181122T100000
DTSTAMP:20260424T011734
CREATED:20171103T165916Z
LAST-MODIFIED:20181122T191223Z
UID:10001692-1542873600-1542880800@www.racetime.info
SUMMARY:Mount Prospect Jaycees Turkey Tot 1 Mile & 5K Run/Walk
DESCRIPTION:Mount Prospect Turkey Trot Youth 1 Mile Run\n\nMount Prospect Turkey Trot 5K Age Group Results\n\nMount Prospect Turkey Trot 5K Overall Results
URL:https://www.racetime.info/event/mount-prospect-jaycees-turkey-tot-1-mile-5k-run-walk/
LOCATION:Melas Park\, 1500 W. Central Road\, Mount Prospect\, IL\, 60056\, United States
CATEGORIES:2018-11 Results (November)
GEO:42.066494;-87.9646978
X-APPLE-STRUCTURED-LOCATION;VALUE=URI;X-ADDRESS=Melas Park 1500 W. Central Road Mount Prospect IL 60056 United States;X-APPLE-RADIUS=500;X-TITLE=1500 W. Central Road:geo:-87.9646978,42.066494
END:VEVENT
BEGIN:VEVENT
DTSTART;TZID=America/Chicago:20171123T080000
DTEND;TZID=America/Chicago:20171123T100000
DTSTAMP:20260424T011734
CREATED:20171103T165916Z
LAST-MODIFIED:20171123T194857Z
UID:10001691-1511424000-1511431200@www.racetime.info
SUMMARY:Mount Prospect Jaycees Turkey Tot 1 Mile & 5K Run/Walk
DESCRIPTION:Mount Prospect 1 Mile Youth Run\n\nMount Prospect Turkey Trot 5K Age Group Results\n\nMount Prospect Turkey Trot 5K Overall Results
URL:https://www.racetime.info/event/mount-prospect-jaycees-turkey-tot-1-mile-5k-runwalk/
LOCATION:Melas Park\, 1500 W. Central Road\, Mount Prospect\, IL\, 60056\, United States
CATEGORIES:2017-11 Results (November)
GEO:42.066494;-87.9646978
X-APPLE-STRUCTURED-LOCATION;VALUE=URI;X-ADDRESS=Melas Park 1500 W. Central Road Mount Prospect IL 60056 United States;X-APPLE-RADIUS=500;X-TITLE=1500 W. Central Road:geo:-87.9646978,42.066494
END:VEVENT
BEGIN:VEVENT
DTSTART;TZID=America/Chicago:20161124T080000
DTEND;TZID=America/Chicago:20161124T100000
DTSTAMP:20260424T011734
CREATED:20161025T114604Z
LAST-MODIFIED:20161124T192642Z
UID:10000869-1479974400-1479981600@www.racetime.info
SUMMARY:Mount Prospect Jaycees 53rd Annual Turkey Trot 5K & 1 Mile Run
DESCRIPTION:Mt. Prospect Turkey Trot 1 Mile Youth Results\n\nMt. Prospect Turkey Trot 5K Age Group Results\n\nMt. Prospect Turkey Trot 5K Overall Results
URL:https://www.racetime.info/event/mt-prospect-jaycees-53rd-annual-turkey-trot-5k-1-mile-run/
LOCATION:Melas Park\, 1500 W. Central Road\, Mount Prospect\, IL\, 60056\, United States
CATEGORIES:2016-11 Results (November)
GEO:42.066494;-87.9646978
X-APPLE-STRUCTURED-LOCATION;VALUE=URI;X-ADDRESS=Melas Park 1500 W. Central Road Mount Prospect IL 60056 United States;X-APPLE-RADIUS=500;X-TITLE=1500 W. Central Road:geo:-87.9646978,42.066494
END:VEVENT
END:VCALENDAR