BEGIN:VCALENDAR
VERSION:2.0
PRODID:-//Race Time - ECPv6.15.13//NONSGML v1.0//EN
CALSCALE:GREGORIAN
METHOD:PUBLISH
X-ORIGINAL-URL:https://www.racetime.info
X-WR-CALDESC:Events for Race Time
REFRESH-INTERVAL;VALUE=DURATION:PT1H
X-Robots-Tag:noindex
X-PUBLISHED-TTL:PT1H
BEGIN:VTIMEZONE
TZID:America/Chicago
BEGIN:DAYLIGHT
TZOFFSETFROM:-0600
TZOFFSETTO:-0500
TZNAME:CDT
DTSTART:20140309T080000
END:DAYLIGHT
BEGIN:STANDARD
TZOFFSETFROM:-0500
TZOFFSETTO:-0600
TZNAME:CST
DTSTART:20141102T070000
END:STANDARD
BEGIN:DAYLIGHT
TZOFFSETFROM:-0600
TZOFFSETTO:-0500
TZNAME:CDT
DTSTART:20150308T080000
END:DAYLIGHT
BEGIN:STANDARD
TZOFFSETFROM:-0500
TZOFFSETTO:-0600
TZNAME:CST
DTSTART:20151101T070000
END:STANDARD
BEGIN:DAYLIGHT
TZOFFSETFROM:-0600
TZOFFSETTO:-0500
TZNAME:CDT
DTSTART:20160313T080000
END:DAYLIGHT
BEGIN:STANDARD
TZOFFSETFROM:-0500
TZOFFSETTO:-0600
TZNAME:CST
DTSTART:20161106T070000
END:STANDARD
BEGIN:DAYLIGHT
TZOFFSETFROM:-0600
TZOFFSETTO:-0500
TZNAME:CDT
DTSTART:20170312T080000
END:DAYLIGHT
BEGIN:STANDARD
TZOFFSETFROM:-0500
TZOFFSETTO:-0600
TZNAME:CST
DTSTART:20171105T070000
END:STANDARD
END:VTIMEZONE
BEGIN:VEVENT
DTSTART;TZID=America/Chicago:20160507T090000
DTEND;TZID=America/Chicago:20160507T110000
DTSTAMP:20260424T040144
CREATED:20160127T133229Z
LAST-MODIFIED:20160507T185946Z
UID:10000517-1462611600-1462618800@www.racetime.info
SUMMARY:Run For The Kids: Superhero Hustle 5K Run & 2 Mile Walk
DESCRIPTION:Easter Seals 5K Age Group Results\n\nEaster Seals 5K Overall Results
URL:https://www.racetime.info/event/run-for-the-kids-superhero-hustle-5k-run-2-mile-walk/
LOCATION:Easter Seals Of Dupage and the Fox Valley Region\, 830 S. Addison Ave.\, Villa Park\, IL\, 60181\, United States
CATEGORIES:2016-05 Results (May)
ORGANIZER;CN="Kelly Moreland":MAILTO:kmoreland@eastersealsdfvr.org
GEO:41.874404;-87.9889298
X-APPLE-STRUCTURED-LOCATION;VALUE=URI;X-ADDRESS=Easter Seals Of Dupage and the Fox Valley Region 830 S. Addison Ave. Villa Park IL 60181 United States;X-APPLE-RADIUS=500;X-TITLE=830 S. Addison Ave.:geo:-87.9889298,41.874404
END:VEVENT
BEGIN:VEVENT
DTSTART;TZID=America/Chicago:20150502T090000
DTEND;TZID=America/Chicago:20150502T110000
DTSTAMP:20260424T040144
CREATED:20150409T034459Z
LAST-MODIFIED:20150829T200722Z
UID:10000013-1430557200-1430564400@www.racetime.info
SUMMARY:Run For The Kids
DESCRIPTION:Run For The Kids 5K Age Group Results\n\nRun For The Kids 5K Overall Results
URL:https://www.racetime.info/event/run-for-the-kids-2/
LOCATION:Easter Seals Of Dupage and the Fox Valley Region\, 830 S. Addison Ave.\, Villa Park\, IL\, 60181\, United States
CATEGORIES:2015-05 Results (May)
ORGANIZER;CN="Kelly Moreland":MAILTO:kmoreland@eastersealsdfvr.org
GEO:41.874404;-87.9889298
X-APPLE-STRUCTURED-LOCATION;VALUE=URI;X-ADDRESS=Easter Seals Of Dupage and the Fox Valley Region 830 S. Addison Ave. Villa Park IL 60181 United States;X-APPLE-RADIUS=500;X-TITLE=830 S. Addison Ave.:geo:-87.9889298,41.874404
END:VEVENT
END:VCALENDAR