BEGIN:VCALENDAR
VERSION:2.0
PRODID:-//Race Time - ECPv6.15.13//NONSGML v1.0//EN
CALSCALE:GREGORIAN
METHOD:PUBLISH
X-WR-CALNAME:Race Time
X-ORIGINAL-URL:https://www.racetime.info
X-WR-CALDESC:Events for Race Time
REFRESH-INTERVAL;VALUE=DURATION:PT1H
X-Robots-Tag:noindex
X-PUBLISHED-TTL:PT1H
BEGIN:VTIMEZONE
TZID:America/Chicago
BEGIN:DAYLIGHT
TZOFFSETFROM:-0600
TZOFFSETTO:-0500
TZNAME:CDT
DTSTART:20170312T080000
END:DAYLIGHT
BEGIN:STANDARD
TZOFFSETFROM:-0500
TZOFFSETTO:-0600
TZNAME:CST
DTSTART:20171105T070000
END:STANDARD
BEGIN:DAYLIGHT
TZOFFSETFROM:-0600
TZOFFSETTO:-0500
TZNAME:CDT
DTSTART:20180311T080000
END:DAYLIGHT
BEGIN:STANDARD
TZOFFSETFROM:-0500
TZOFFSETTO:-0600
TZNAME:CST
DTSTART:20181104T070000
END:STANDARD
BEGIN:DAYLIGHT
TZOFFSETFROM:-0600
TZOFFSETTO:-0500
TZNAME:CDT
DTSTART:20190310T080000
END:DAYLIGHT
BEGIN:STANDARD
TZOFFSETFROM:-0500
TZOFFSETTO:-0600
TZNAME:CST
DTSTART:20191103T070000
END:STANDARD
BEGIN:DAYLIGHT
TZOFFSETFROM:-0600
TZOFFSETTO:-0500
TZNAME:CDT
DTSTART:20200308T080000
END:DAYLIGHT
BEGIN:STANDARD
TZOFFSETFROM:-0500
TZOFFSETTO:-0600
TZNAME:CST
DTSTART:20201101T070000
END:STANDARD
BEGIN:DAYLIGHT
TZOFFSETFROM:-0600
TZOFFSETTO:-0500
TZNAME:CDT
DTSTART:20210314T080000
END:DAYLIGHT
BEGIN:STANDARD
TZOFFSETFROM:-0500
TZOFFSETTO:-0600
TZNAME:CST
DTSTART:20211107T070000
END:STANDARD
BEGIN:DAYLIGHT
TZOFFSETFROM:-0600
TZOFFSETTO:-0500
TZNAME:CDT
DTSTART:20220313T080000
END:DAYLIGHT
BEGIN:STANDARD
TZOFFSETFROM:-0500
TZOFFSETTO:-0600
TZNAME:CST
DTSTART:20221106T070000
END:STANDARD
BEGIN:DAYLIGHT
TZOFFSETFROM:-0600
TZOFFSETTO:-0500
TZNAME:CDT
DTSTART:20230312T080000
END:DAYLIGHT
BEGIN:STANDARD
TZOFFSETFROM:-0500
TZOFFSETTO:-0600
TZNAME:CST
DTSTART:20231105T070000
END:STANDARD
BEGIN:DAYLIGHT
TZOFFSETFROM:-0600
TZOFFSETTO:-0500
TZNAME:CDT
DTSTART:20240310T080000
END:DAYLIGHT
BEGIN:STANDARD
TZOFFSETFROM:-0500
TZOFFSETTO:-0600
TZNAME:CST
DTSTART:20241103T070000
END:STANDARD
BEGIN:DAYLIGHT
TZOFFSETFROM:-0600
TZOFFSETTO:-0500
TZNAME:CDT
DTSTART:20250309T080000
END:DAYLIGHT
BEGIN:STANDARD
TZOFFSETFROM:-0500
TZOFFSETTO:-0600
TZNAME:CST
DTSTART:20251102T070000
END:STANDARD
BEGIN:DAYLIGHT
TZOFFSETFROM:-0600
TZOFFSETTO:-0500
TZNAME:CDT
DTSTART:20260308T080000
END:DAYLIGHT
BEGIN:STANDARD
TZOFFSETFROM:-0500
TZOFFSETTO:-0600
TZNAME:CST
DTSTART:20261101T070000
END:STANDARD
END:VTIMEZONE
BEGIN:VEVENT
DTSTART;TZID=America/Chicago:20250913T083000
DTEND;TZID=America/Chicago:20250913T113000
DTSTAMP:20260423T224842
CREATED:20250819T112902Z
LAST-MODIFIED:20250914T001139Z
UID:10002419-1757752200-1757763000@www.racetime.info
SUMMARY:Salt Creek Youth Obstacle 1M Race
DESCRIPTION:Salt Creek Youth Obstacle
URL:https://www.racetime.info/event/salt-creek-youth-color-2k-race/
LOCATION:Salt Creek Park District\, 3350 Salt Creek Lane\, Arlington Heights\, IL\, 60004\, United States
CATEGORIES:2025-09 Results (September)
ORGANIZER;CN="Jody Dodson":MAILTO:jdodson@saltcreekpd.com
END:VEVENT
BEGIN:VEVENT
DTSTART;TZID=America/Chicago:20240914T090000
DTEND;TZID=America/Chicago:20240914T103000
DTSTAMP:20260423T224842
CREATED:20180830T190607Z
LAST-MODIFIED:20240914T153320Z
UID:10001840-1726304400-1726309800@www.racetime.info
SUMMARY:Salt Creek Kids Obstacle Race
DESCRIPTION:Salt Creek Youth Obstacle Results
URL:https://www.racetime.info/event/copy-of-salt-creek-kids-obstacle-race-3/
LOCATION:Twin Lakes Golf Course & Recreation Center\, 1200 E. Twin Lakes Drive\, Palatine\, IL\, 60074\, United States
CATEGORIES:2024-09 Results (September)
ORGANIZER;CN="Jody Dodson":MAILTO:jdodson@saltcreekpd.com
GEO:42.1048792;-88.0145113
X-APPLE-STRUCTURED-LOCATION;VALUE=URI;X-ADDRESS=Twin Lakes Golf Course & Recreation Center 1200 E. Twin Lakes Drive Palatine IL 60074 United States;X-APPLE-RADIUS=500;X-TITLE=1200 E. Twin Lakes Drive:geo:-88.0145113,42.1048792
END:VEVENT
BEGIN:VEVENT
DTSTART;TZID=America/Chicago:20240511T083000
DTEND;TZID=America/Chicago:20240511T113000
DTSTAMP:20260423T224842
CREATED:20200629T120424Z
LAST-MODIFIED:20240509T190517Z
UID:10001122-1715416200-1715427000@www.racetime.info
SUMMARY:Salt Creek Youth Color 2K Race CANCELLED
DESCRIPTION:
URL:https://www.racetime.info/event/copy-of-salt-creek-youth-color-2k-race-3/
LOCATION:Salt Creek Park District\, 3350 Salt Creek Lane\, Arlington Heights\, IL\, 60004\, United States
ORGANIZER;CN="Jody Dodson":MAILTO:jdodson@saltcreekpd.com
END:VEVENT
BEGIN:VEVENT
DTSTART;TZID=America/Chicago:20230916T090000
DTEND;TZID=America/Chicago:20230916T103000
DTSTAMP:20260423T224842
CREATED:20180830T190607Z
LAST-MODIFIED:20230916T172855Z
UID:10001839-1694854800-1694860200@www.racetime.info
SUMMARY:Salt Creek Kids Obstacle Race
DESCRIPTION:Salt Creek Youth Obstacle Results
URL:https://www.racetime.info/event/copy-of-salt-creek-kids-obstacle-race-2/
LOCATION:Twin Lakes Golf Course & Recreation Center\, 1200 E. Twin Lakes Drive\, Palatine\, IL\, 60074\, United States
CATEGORIES:2023-09 Results (September)
ORGANIZER;CN="Jody Dodson":MAILTO:jdodson@saltcreekpd.com
GEO:42.1048792;-88.0145113
X-APPLE-STRUCTURED-LOCATION;VALUE=URI;X-ADDRESS=Twin Lakes Golf Course & Recreation Center 1200 E. Twin Lakes Drive Palatine IL 60074 United States;X-APPLE-RADIUS=500;X-TITLE=1200 E. Twin Lakes Drive:geo:-88.0145113,42.1048792
END:VEVENT
BEGIN:VEVENT
DTSTART;TZID=America/Chicago:20230708T083000
DTEND;TZID=America/Chicago:20230708T100000
DTSTAMP:20260423T224842
CREATED:20230528T124134Z
LAST-MODIFIED:20230708T161945Z
UID:10001363-1688805000-1688810400@www.racetime.info
SUMMARY:Pizza Pursuit 5K
DESCRIPTION:Pizza Pursuit 5K Age Group Results\n\nPizza Pursuit 5K Overall Results
URL:https://www.racetime.info/event/pizza-pursuit-5k/
LOCATION:Twin Lakes Golf Course & Recreation Center\, 1200 E. Twin Lakes Drive\, Palatine\, IL\, 60074\, United States
CATEGORIES:2023-07 Results (July)
ORGANIZER;CN="Jody Dodson":MAILTO:jdodson@saltcreekpd.com
GEO:42.1048792;-88.0145113
X-APPLE-STRUCTURED-LOCATION;VALUE=URI;X-ADDRESS=Twin Lakes Golf Course & Recreation Center 1200 E. Twin Lakes Drive Palatine IL 60074 United States;X-APPLE-RADIUS=500;X-TITLE=1200 E. Twin Lakes Drive:geo:-88.0145113,42.1048792
END:VEVENT
BEGIN:VEVENT
DTSTART;TZID=America/Chicago:20230513T083000
DTEND;TZID=America/Chicago:20230513T100000
DTSTAMP:20260423T224842
CREATED:20200629T120424Z
LAST-MODIFIED:20230513T193857Z
UID:10001137-1683966600-1683972000@www.racetime.info
SUMMARY:Salt Creek Youth Color 2K Race
DESCRIPTION:Salt Creek Color Run Results
URL:https://www.racetime.info/event/copy-of-salt-creek-youth-color-2k-race-2/
LOCATION:Salt Creek Park District\, 3350 Salt Creek Lane\, Arlington Heights\, IL\, 60004\, United States
CATEGORIES:2023-05 Results (May)
ORGANIZER;CN="Jody Dodson":MAILTO:jdodson@saltcreekpd.com
END:VEVENT
BEGIN:VEVENT
DTSTART;TZID=America/Chicago:20220917T090000
DTEND;TZID=America/Chicago:20220917T110000
DTSTAMP:20260423T224842
CREATED:20180830T190607Z
LAST-MODIFIED:20220919T101002Z
UID:10001838-1663405200-1663412400@www.racetime.info
SUMMARY:Salt Creek Kids Obstacle Race
DESCRIPTION:Salt Creek Youth Obstacle Age Group Results\n\nSalt Creek Youth Obstacle Family Results
URL:https://www.racetime.info/event/copy-of-salt-creek-kids-obstacle-race/
LOCATION:Twin Lakes Golf Course & Recreation Center\, 1200 E. Twin Lakes Drive\, Palatine\, IL\, 60074\, United States
CATEGORIES:2022-09 Results (September)
ORGANIZER;CN="Jody Dodson":MAILTO:jdodson@saltcreekpd.com
GEO:42.1048792;-88.0145113
X-APPLE-STRUCTURED-LOCATION;VALUE=URI;X-ADDRESS=Twin Lakes Golf Course & Recreation Center 1200 E. Twin Lakes Drive Palatine IL 60074 United States;X-APPLE-RADIUS=500;X-TITLE=1200 E. Twin Lakes Drive:geo:-88.0145113,42.1048792
END:VEVENT
BEGIN:VEVENT
DTSTART;TZID=America/Chicago:20220514T080000
DTEND;TZID=America/Chicago:20220514T100000
DTSTAMP:20260423T224842
CREATED:20200629T120424Z
LAST-MODIFIED:20220514T171425Z
UID:10001135-1652515200-1652522400@www.racetime.info
SUMMARY:Salt Creek Youth Color 2K Race
DESCRIPTION:Salt Creek Color Run Overall Results
URL:https://www.racetime.info/event/copy-of-salt-creek-youth-color-2k-race/
LOCATION:Salt Creek Park District\, 3350 Salt Creek Lane\, Arlington Heights\, IL\, 60004\, United States
CATEGORIES:2022-05 Results (May)
ORGANIZER;CN="Jody Dodson":MAILTO:jdodson@saltcreekpd.com
END:VEVENT
BEGIN:VEVENT
DTSTART;TZID=America/Chicago:20210918T093000
DTEND;TZID=America/Chicago:20210918T120000
DTSTAMP:20260423T224842
CREATED:20180830T190607Z
LAST-MODIFIED:20210918T185433Z
UID:10001837-1631957400-1631966400@www.racetime.info
SUMMARY:Salt Creek Kids Obstacle Race
DESCRIPTION:Salt Creek Kids Obstacle Run
URL:https://www.racetime.info/event/salt-creek-kids-obstacle-race-4/
LOCATION:Twin Lakes Golf Course & Recreation Center\, 1200 E. Twin Lakes Drive\, Palatine\, IL\, 60074\, United States
CATEGORIES:2021-09 Results (September)
ORGANIZER;CN="Jody Dodson":MAILTO:jdodson@saltcreekpd.com
GEO:42.1048792;-88.0145113
X-APPLE-STRUCTURED-LOCATION;VALUE=URI;X-ADDRESS=Twin Lakes Golf Course & Recreation Center 1200 E. Twin Lakes Drive Palatine IL 60074 United States;X-APPLE-RADIUS=500;X-TITLE=1200 E. Twin Lakes Drive:geo:-88.0145113,42.1048792
END:VEVENT
BEGIN:VEVENT
DTSTART;TZID=America/Chicago:20210515T080000
DTEND;TZID=America/Chicago:20210515T100000
DTSTAMP:20260423T224842
CREATED:20200629T120424Z
LAST-MODIFIED:20210515T172023Z
UID:10001134-1621065600-1621072800@www.racetime.info
SUMMARY:Salt Creek Youth Color 2K Race
DESCRIPTION:Salt Creek Color Run Overall Results
URL:https://www.racetime.info/event/salt-creek-youth-color-2k-race-cancelled/
LOCATION:Salt Creek Park District\, 3350 Salt Creek Lane\, Arlington Heights\, IL\, 60004\, United States
CATEGORIES:2021-05 Results (May)
ORGANIZER;CN="Jody Dodson":MAILTO:jdodson@saltcreekpd.com
END:VEVENT
BEGIN:VEVENT
DTSTART;TZID=America/Chicago:20200919T093000
DTEND;TZID=America/Chicago:20200919T120000
DTSTAMP:20260423T224842
CREATED:20180830T190607Z
LAST-MODIFIED:20200919T184457Z
UID:10001836-1600507800-1600516800@www.racetime.info
SUMMARY:Salt Creek Kids Obstacle Race
DESCRIPTION:Salt Creek Youth Obstacle Results\n\nSalt Creek Youth Obstacle Overall Results
URL:https://www.racetime.info/event/salt-creek-kids-obstacle-race-3/
LOCATION:Twin Lakes Golf Course & Recreation Center\, 1200 E. Twin Lakes Drive\, Palatine\, IL\, 60074\, United States
CATEGORIES:2020-09 Results (September)
ORGANIZER;CN="Jody Dodson":MAILTO:jdodson@saltcreekpd.com
GEO:42.1048792;-88.0145113
X-APPLE-STRUCTURED-LOCATION;VALUE=URI;X-ADDRESS=Twin Lakes Golf Course & Recreation Center 1200 E. Twin Lakes Drive Palatine IL 60074 United States;X-APPLE-RADIUS=500;X-TITLE=1200 E. Twin Lakes Drive:geo:-88.0145113,42.1048792
END:VEVENT
BEGIN:VEVENT
DTSTART;TZID=America/Chicago:20200725T080000
DTEND;TZID=America/Chicago:20200725T100000
DTSTAMP:20260423T224842
CREATED:20200629T120424Z
LAST-MODIFIED:20200711T122607Z
UID:10001132-1595664000-1595671200@www.racetime.info
SUMMARY:Salt Creek Youth Color 2K Race:  CANCELLED
DESCRIPTION:
URL:https://www.racetime.info/event/youth-color-run-1-25-race/
LOCATION:Salt Creek Park District\, 3350 Salt Creek Lane\, Arlington Heights\, IL\, 60004\, United States
ORGANIZER;CN="Jody Dodson":MAILTO:jdodson@saltcreekpd.com
END:VEVENT
BEGIN:VEVENT
DTSTART;TZID=America/Chicago:20190921T093000
DTEND;TZID=America/Chicago:20190921T120000
DTSTAMP:20260423T224842
CREATED:20180830T190607Z
LAST-MODIFIED:20190921T185251Z
UID:10001835-1569058200-1569067200@www.racetime.info
SUMMARY:Salt Creek Kids Obstacle Race
DESCRIPTION:Salt Creek Youth Obstacle Age Group Results\n\nSalt Creek Youth Obstacle Overall Results
URL:https://www.racetime.info/event/salt-creek-kids-obstacle-race-2/
LOCATION:Twin Lakes Golf Course & Recreation Center\, 1200 E. Twin Lakes Drive\, Palatine\, IL\, 60074\, United States
CATEGORIES:2019-09 Results (September)
ORGANIZER;CN="Jody Dodson":MAILTO:jdodson@saltcreekpd.com
GEO:42.1048792;-88.0145113
X-APPLE-STRUCTURED-LOCATION;VALUE=URI;X-ADDRESS=Twin Lakes Golf Course & Recreation Center 1200 E. Twin Lakes Drive Palatine IL 60074 United States;X-APPLE-RADIUS=500;X-TITLE=1200 E. Twin Lakes Drive:geo:-88.0145113,42.1048792
END:VEVENT
BEGIN:VEVENT
DTSTART;TZID=America/Chicago:20180922T093000
DTEND;TZID=America/Chicago:20180922T120000
DTSTAMP:20260423T224842
CREATED:20180830T190607Z
LAST-MODIFIED:20180922T185140Z
UID:10001834-1537608600-1537617600@www.racetime.info
SUMMARY:Salt Creek Kids Obstacle Race
DESCRIPTION:Salt Creek’s Kids’ Obstacle Age Group Results\n\nSalt Creek’s Kids’ Obstacle Overall Results
URL:https://www.racetime.info/event/salt-creek-kids-obstacle-race/
LOCATION:Twin Lakes Golf Course & Recreation Center\, 1200 E. Twin Lakes Drive\, Palatine\, IL\, 60074\, United States
CATEGORIES:2018-09 Results (September)
ORGANIZER;CN="Jody Dodson":MAILTO:jdodson@saltcreekpd.com
GEO:42.1048792;-88.0145113
X-APPLE-STRUCTURED-LOCATION;VALUE=URI;X-ADDRESS=Twin Lakes Golf Course & Recreation Center 1200 E. Twin Lakes Drive Palatine IL 60074 United States;X-APPLE-RADIUS=500;X-TITLE=1200 E. Twin Lakes Drive:geo:-88.0145113,42.1048792
END:VEVENT
END:VCALENDAR