BEGIN:VCALENDAR
VERSION:2.0
PRODID:-//Race Time - ECPv6.15.13//NONSGML v1.0//EN
CALSCALE:GREGORIAN
METHOD:PUBLISH
X-ORIGINAL-URL:https://www.racetime.info
X-WR-CALDESC:Events for Race Time
REFRESH-INTERVAL;VALUE=DURATION:PT1H
X-Robots-Tag:noindex
X-PUBLISHED-TTL:PT1H
BEGIN:VTIMEZONE
TZID:America/Chicago
BEGIN:DAYLIGHT
TZOFFSETFROM:-0600
TZOFFSETTO:-0500
TZNAME:CDT
DTSTART:20220313T080000
END:DAYLIGHT
BEGIN:STANDARD
TZOFFSETFROM:-0500
TZOFFSETTO:-0600
TZNAME:CST
DTSTART:20221106T070000
END:STANDARD
BEGIN:DAYLIGHT
TZOFFSETFROM:-0600
TZOFFSETTO:-0500
TZNAME:CDT
DTSTART:20230312T080000
END:DAYLIGHT
BEGIN:STANDARD
TZOFFSETFROM:-0500
TZOFFSETTO:-0600
TZNAME:CST
DTSTART:20231105T070000
END:STANDARD
BEGIN:DAYLIGHT
TZOFFSETFROM:-0600
TZOFFSETTO:-0500
TZNAME:CDT
DTSTART:20240310T080000
END:DAYLIGHT
BEGIN:STANDARD
TZOFFSETFROM:-0500
TZOFFSETTO:-0600
TZNAME:CST
DTSTART:20241103T070000
END:STANDARD
BEGIN:DAYLIGHT
TZOFFSETFROM:-0600
TZOFFSETTO:-0500
TZNAME:CDT
DTSTART:20250309T080000
END:DAYLIGHT
BEGIN:STANDARD
TZOFFSETFROM:-0500
TZOFFSETTO:-0600
TZNAME:CST
DTSTART:20251102T070000
END:STANDARD
BEGIN:DAYLIGHT
TZOFFSETFROM:-0600
TZOFFSETTO:-0500
TZNAME:CDT
DTSTART:20260308T080000
END:DAYLIGHT
BEGIN:STANDARD
TZOFFSETFROM:-0500
TZOFFSETTO:-0600
TZNAME:CST
DTSTART:20261101T070000
END:STANDARD
END:VTIMEZONE
BEGIN:VEVENT
DTSTART;TZID=America/Chicago:20250913T090000
DTEND;TZID=America/Chicago:20250913T103000
DTSTAMP:20260423T235352
CREATED:20250819T112140Z
LAST-MODIFIED:20250914T001042Z
UID:10002417-1757754000-1757759400@www.racetime.info
SUMMARY:The Superhero Sprint 5K Run/Walk
DESCRIPTION:Superhero Sprint 5K Overall Results
URL:https://www.racetime.info/event/the-superhero-sprint-5k-run-walk-6/
LOCATION:Doty Park\, 365 W. Locust Street\, Belvidere\, IL\, 61008\, United States
CATEGORIES:2025-09 Results (September)
ORGANIZER;CN="Dayton Bennett":MAILTO:Daytonb@superherocenter.org
GEO:42.256882;-88.844297
X-APPLE-STRUCTURED-LOCATION;VALUE=URI;X-ADDRESS=Doty Park 365 W. Locust Street Belvidere IL 61008 United States;X-APPLE-RADIUS=500;X-TITLE=365 W. Locust Street:geo:-88.844297,42.256882
END:VEVENT
BEGIN:VEVENT
DTSTART;TZID=America/Chicago:20230429T100000
DTEND;TZID=America/Chicago:20230429T120000
DTSTAMP:20260423T235352
CREATED:20220220T130643Z
LAST-MODIFIED:20230430T035015Z
UID:10002089-1682762400-1682769600@www.racetime.info
SUMMARY:The Superhero Sprint 5K Run/Walk
DESCRIPTION:Superhero Sprint 5K Age Group Results\n\nSuperhero Sprint 5K Overall Results
URL:https://www.racetime.info/event/copy-of-the-superhero-sprint-5k-run-walk/
LOCATION:Doty Park\, 365 W. Locust Street\, Belvidere\, IL\, 61008\, United States
CATEGORIES:2023-04 Results (April)
ORGANIZER;CN="Dayton Bennett":MAILTO:Daytonb@superherocenter.org
GEO:42.256882;-88.844297
X-APPLE-STRUCTURED-LOCATION;VALUE=URI;X-ADDRESS=Doty Park 365 W. Locust Street Belvidere IL 61008 United States;X-APPLE-RADIUS=500;X-TITLE=365 W. Locust Street:geo:-88.844297,42.256882
END:VEVENT
END:VCALENDAR