BEGIN:VCALENDAR
VERSION:2.0
PRODID:-//Race Time - ECPv6.15.13//NONSGML v1.0//EN
CALSCALE:GREGORIAN
METHOD:PUBLISH
X-ORIGINAL-URL:https://www.racetime.info
X-WR-CALDESC:Events for Race Time
REFRESH-INTERVAL;VALUE=DURATION:PT1H
X-Robots-Tag:noindex
X-PUBLISHED-TTL:PT1H
BEGIN:VTIMEZONE
TZID:America/Chicago
BEGIN:DAYLIGHT
TZOFFSETFROM:-0600
TZOFFSETTO:-0500
TZNAME:CDT
DTSTART:20220313T080000
END:DAYLIGHT
BEGIN:STANDARD
TZOFFSETFROM:-0500
TZOFFSETTO:-0600
TZNAME:CST
DTSTART:20221106T070000
END:STANDARD
BEGIN:DAYLIGHT
TZOFFSETFROM:-0600
TZOFFSETTO:-0500
TZNAME:CDT
DTSTART:20230312T080000
END:DAYLIGHT
BEGIN:STANDARD
TZOFFSETFROM:-0500
TZOFFSETTO:-0600
TZNAME:CST
DTSTART:20231105T070000
END:STANDARD
BEGIN:DAYLIGHT
TZOFFSETFROM:-0600
TZOFFSETTO:-0500
TZNAME:CDT
DTSTART:20240310T080000
END:DAYLIGHT
BEGIN:STANDARD
TZOFFSETFROM:-0500
TZOFFSETTO:-0600
TZNAME:CST
DTSTART:20241103T070000
END:STANDARD
BEGIN:DAYLIGHT
TZOFFSETFROM:-0600
TZOFFSETTO:-0500
TZNAME:CDT
DTSTART:20250309T080000
END:DAYLIGHT
BEGIN:STANDARD
TZOFFSETFROM:-0500
TZOFFSETTO:-0600
TZNAME:CST
DTSTART:20251102T070000
END:STANDARD
BEGIN:DAYLIGHT
TZOFFSETFROM:-0600
TZOFFSETTO:-0500
TZNAME:CDT
DTSTART:20260308T080000
END:DAYLIGHT
BEGIN:STANDARD
TZOFFSETFROM:-0500
TZOFFSETTO:-0600
TZNAME:CST
DTSTART:20261101T070000
END:STANDARD
END:VTIMEZONE
BEGIN:VEVENT
DTSTART;TZID=America/Chicago:20251127T080000
DTEND;TZID=America/Chicago:20251127T093000
DTSTAMP:20260424T012423
CREATED:20251014T121236Z
LAST-MODIFIED:20251127T172406Z
UID:10002446-1764230400-1764235800@www.racetime.info
SUMMARY:Henry's Thanksgiving Day Hustle 5K and Kids Dash
DESCRIPTION:Henry Thanksgiving Hustle 5K Age Group Results\n\nHenry Thanksgiving Hustle 5K Overall Results
URL:https://www.racetime.info/event/henrys-thanksgiving-day-hustle-5k-and-kids-dash/
LOCATION:Marlowe Middle School\, 9625 Haligus Road\, Lake In The Hills\, IL\, 60156\, United States
CATEGORIES:2025-11 Results (November)
ORGANIZER;CN="Kopf Running":MAILTO:karen@henryshustle.com
END:VEVENT
BEGIN:VEVENT
DTSTART;TZID=America/Chicago:20241128T080000
DTEND;TZID=America/Chicago:20241128T093000
DTSTAMP:20260424T012423
CREATED:20231005T114932Z
LAST-MODIFIED:20241202T144346Z
UID:10001372-1732780800-1732786200@www.racetime.info
SUMMARY:Henry's Thanksgiving Day Hustle 5K and Kids Dash
DESCRIPTION:Henry’s Thanksgiving Day Hustle 5K Age Group Results\n\nHenry’s Thanksgiving Day Hustle 5K Overall Results
URL:https://www.racetime.info/event/copy-of-henrys-hustle-5k-and-kids-dash/
LOCATION:Marlowe Middle School\, 9625 Haligus Road\, Lake In The Hills\, IL\, 60156\, United States
CATEGORIES:2024-11 Results (November)
ORGANIZER;CN="Kopf Running":MAILTO:karen@henryshustle.com
END:VEVENT
BEGIN:VEVENT
DTSTART;TZID=America/Chicago:20231123T080000
DTEND;TZID=America/Chicago:20231123T100000
DTSTAMP:20260424T012423
CREATED:20231005T114932Z
LAST-MODIFIED:20231123T201943Z
UID:10001387-1700726400-1700733600@www.racetime.info
SUMMARY:Henry's Hustle 5K and Kids Dash
DESCRIPTION:Henry’s Thanksgiving Day Hustle 5K Age Groups Results\n\nHenry’s Thanksgiving Day Hustle 5K Overall Results
URL:https://www.racetime.info/event/henrys-hustle-5k-and-kids-dash/
LOCATION:Marlowe Middle School\, 9625 Haligus Road\, Lake In The Hills\, IL\, 60156\, United States
CATEGORIES:2023-11 Results (November)
ORGANIZER;CN="Kopf Running":MAILTO:karen@henryshustle.com
END:VEVENT
END:VCALENDAR