BEGIN:VCALENDAR
VERSION:2.0
PRODID:-//Race Time - ECPv6.15.13//NONSGML v1.0//EN
CALSCALE:GREGORIAN
METHOD:PUBLISH
X-WR-CALNAME:Race Time
X-ORIGINAL-URL:https://www.racetime.info
X-WR-CALDESC:Events for Race Time
REFRESH-INTERVAL;VALUE=DURATION:PT1H
X-Robots-Tag:noindex
X-PUBLISHED-TTL:PT1H
BEGIN:VTIMEZONE
TZID:America/Chicago
BEGIN:DAYLIGHT
TZOFFSETFROM:-0600
TZOFFSETTO:-0500
TZNAME:CDT
DTSTART:20210314T080000
END:DAYLIGHT
BEGIN:STANDARD
TZOFFSETFROM:-0500
TZOFFSETTO:-0600
TZNAME:CST
DTSTART:20211107T070000
END:STANDARD
BEGIN:DAYLIGHT
TZOFFSETFROM:-0600
TZOFFSETTO:-0500
TZNAME:CDT
DTSTART:20220313T080000
END:DAYLIGHT
BEGIN:STANDARD
TZOFFSETFROM:-0500
TZOFFSETTO:-0600
TZNAME:CST
DTSTART:20221106T070000
END:STANDARD
BEGIN:DAYLIGHT
TZOFFSETFROM:-0600
TZOFFSETTO:-0500
TZNAME:CDT
DTSTART:20230312T080000
END:DAYLIGHT
BEGIN:STANDARD
TZOFFSETFROM:-0500
TZOFFSETTO:-0600
TZNAME:CST
DTSTART:20231105T070000
END:STANDARD
BEGIN:DAYLIGHT
TZOFFSETFROM:-0600
TZOFFSETTO:-0500
TZNAME:CDT
DTSTART:20240310T080000
END:DAYLIGHT
BEGIN:STANDARD
TZOFFSETFROM:-0500
TZOFFSETTO:-0600
TZNAME:CST
DTSTART:20241103T070000
END:STANDARD
BEGIN:DAYLIGHT
TZOFFSETFROM:-0600
TZOFFSETTO:-0500
TZNAME:CDT
DTSTART:20250309T080000
END:DAYLIGHT
BEGIN:STANDARD
TZOFFSETFROM:-0500
TZOFFSETTO:-0600
TZNAME:CST
DTSTART:20251102T070000
END:STANDARD
BEGIN:DAYLIGHT
TZOFFSETFROM:-0600
TZOFFSETTO:-0500
TZNAME:CDT
DTSTART:20260308T080000
END:DAYLIGHT
BEGIN:STANDARD
TZOFFSETFROM:-0500
TZOFFSETTO:-0600
TZNAME:CST
DTSTART:20261101T070000
END:STANDARD
END:VTIMEZONE
BEGIN:VEVENT
DTSTART;TZID=America/Chicago:20250920T080000
DTEND;TZID=America/Chicago:20250921T093000
DTSTAMP:20260423T213010
CREATED:20250708T105702Z
LAST-MODIFIED:20250920T162148Z
UID:10002373-1758355200-1758447000@www.racetime.info
SUMMARY:Run For The Stars 5K & Kids Dash
DESCRIPTION:Run for the Stars 5K Age Group Results\n\nRun for the Stars 5K Overall Results
URL:https://www.racetime.info/event/run-for-the-stars-5k-kids-dash-2/
LOCATION:College Church Commons\, 332 East Seminary\, Wheaton\, 60187\, United States
CATEGORIES:2025-09 Results (September)
ORGANIZER;CN="Ben Colling":MAILTO:benjamin.e.colling@gmail.com
END:VEVENT
BEGIN:VEVENT
DTSTART;TZID=America/Chicago:20240921T080000
DTEND;TZID=America/Chicago:20240922T093000
DTSTAMP:20260423T213010
CREATED:20220330T204312Z
LAST-MODIFIED:20240921T225438Z
UID:10002105-1726905600-1726997400@www.racetime.info
SUMMARY:Run For The Stars 5K & Kids Dash
DESCRIPTION:Run For The Stars 5K Age Group Results\n\nRun For The Stars 5K Overall Results
URL:https://www.racetime.info/event/copy-of-run-for-the-stars-5k-kids-dash-2/
LOCATION:College Church Commons\, 332 East Seminary\, Wheaton\, 60187\, United States
CATEGORIES:2024-09 Results (September)
ORGANIZER;CN="Ben Colling":MAILTO:benjamin.e.colling@gmail.com
END:VEVENT
BEGIN:VEVENT
DTSTART;TZID=America/Chicago:20230520T080000
DTEND;TZID=America/Chicago:20230520T220000
DTSTAMP:20260423T213010
CREATED:20220330T204312Z
LAST-MODIFIED:20230521T210011Z
UID:10002104-1684569600-1684620000@www.racetime.info
SUMMARY:Run For The Stars 5K & Kids Dash
DESCRIPTION:Run For The Stars 5K Age Group Results\n\nRun For The Stars 5K Overall Results\n\nRun For The Stars 5K Wheel Division
URL:https://www.racetime.info/event/copy-of-run-for-the-stars-5k-kids-dash/
LOCATION:College Church Commons\, 332 East Seminary\, Wheaton\, 60187\, United States
CATEGORIES:2023-05 Results (May)
ORGANIZER;CN="Ben Colling":MAILTO:benjamin.e.colling@gmail.com
END:VEVENT
BEGIN:VEVENT
DTSTART;TZID=America/Chicago:20220611T080000
DTEND;TZID=America/Chicago:20220611T170000
DTSTAMP:20260423T213010
CREATED:20220330T204312Z
LAST-MODIFIED:20220611T165528Z
UID:10002103-1654934400-1654966800@www.racetime.info
SUMMARY:Run For The Stars 5K & Kids Dash
DESCRIPTION:Run For The Stars 5K Age Group Results\n\nRun For The Stars 5K Overall Results\n\nRun For The Stars 5K Wheel Division
URL:https://www.racetime.info/event/run-for-the-stars-5k-kids-dash/
LOCATION:College Church Commons\, 332 East Seminary\, Wheaton\, 60187\, United States
CATEGORIES:2022-06 Results (June)
ORGANIZER;CN="Ben Colling":MAILTO:benjamin.e.colling@gmail.com
END:VEVENT
END:VCALENDAR