BEGIN:VCALENDAR
VERSION:2.0
PRODID:-//Race Time - ECPv6.15.13//NONSGML v1.0//EN
CALSCALE:GREGORIAN
METHOD:PUBLISH
X-ORIGINAL-URL:https://www.racetime.info
X-WR-CALDESC:Events for Race Time
REFRESH-INTERVAL;VALUE=DURATION:PT1H
X-Robots-Tag:noindex
X-PUBLISHED-TTL:PT1H
BEGIN:VTIMEZONE
TZID:America/Chicago
BEGIN:DAYLIGHT
TZOFFSETFROM:-0600
TZOFFSETTO:-0500
TZNAME:CDT
DTSTART:20240310T080000
END:DAYLIGHT
BEGIN:STANDARD
TZOFFSETFROM:-0500
TZOFFSETTO:-0600
TZNAME:CST
DTSTART:20241103T070000
END:STANDARD
BEGIN:DAYLIGHT
TZOFFSETFROM:-0600
TZOFFSETTO:-0500
TZNAME:CDT
DTSTART:20250309T080000
END:DAYLIGHT
BEGIN:STANDARD
TZOFFSETFROM:-0500
TZOFFSETTO:-0600
TZNAME:CST
DTSTART:20251102T070000
END:STANDARD
BEGIN:DAYLIGHT
TZOFFSETFROM:-0600
TZOFFSETTO:-0500
TZNAME:CDT
DTSTART:20260308T080000
END:DAYLIGHT
BEGIN:STANDARD
TZOFFSETFROM:-0500
TZOFFSETTO:-0600
TZNAME:CST
DTSTART:20261101T070000
END:STANDARD
END:VTIMEZONE
BEGIN:VEVENT
DTSTART;TZID=America/Chicago:20250412T090000
DTEND;TZID=America/Chicago:20250412T110000
DTSTAMP:20260423T210909
CREATED:20250321T103600Z
LAST-MODIFIED:20250412T175025Z
UID:10002284-1744448400-1744455600@www.racetime.info
SUMMARY:The Germazing Race 5K Run/Walk & Kids' Dash
DESCRIPTION:Germazing Race 5K Age and Grade Results\n\nGermazing Race 5K Overall Results
URL:https://www.racetime.info/event/the-germazing-race-5k-run-walk-kids-dash-3/
LOCATION:St. Germaine Parish\, 9711 S. Kolin\, Oak Lawn\, IL\, 60453\, United States
CATEGORIES:2025-04 Results (April)
ORGANIZER;CN="Kate Paluszek":MAILTO:germazingrace@hotmail.com
GEO:41.7151965;-87.7292777
X-APPLE-STRUCTURED-LOCATION;VALUE=URI;X-ADDRESS=St. Germaine Parish 9711 S. Kolin Oak Lawn IL 60453 United States;X-APPLE-RADIUS=500;X-TITLE=9711 S. Kolin:geo:-87.7292777,41.7151965
END:VEVENT
END:VCALENDAR