BEGIN:VCALENDAR
VERSION:2.0
PRODID:-//Race Time - ECPv6.15.13//NONSGML v1.0//EN
CALSCALE:GREGORIAN
METHOD:PUBLISH
X-ORIGINAL-URL:https://www.racetime.info
X-WR-CALDESC:Events for Race Time
REFRESH-INTERVAL;VALUE=DURATION:PT1H
X-Robots-Tag:noindex
X-PUBLISHED-TTL:PT1H
BEGIN:VTIMEZONE
TZID:America/Chicago
BEGIN:DAYLIGHT
TZOFFSETFROM:-0600
TZOFFSETTO:-0500
TZNAME:CDT
DTSTART:20140309T080000
END:DAYLIGHT
BEGIN:STANDARD
TZOFFSETFROM:-0500
TZOFFSETTO:-0600
TZNAME:CST
DTSTART:20141102T070000
END:STANDARD
BEGIN:DAYLIGHT
TZOFFSETFROM:-0600
TZOFFSETTO:-0500
TZNAME:CDT
DTSTART:20150308T080000
END:DAYLIGHT
BEGIN:STANDARD
TZOFFSETFROM:-0500
TZOFFSETTO:-0600
TZNAME:CST
DTSTART:20151101T070000
END:STANDARD
BEGIN:DAYLIGHT
TZOFFSETFROM:-0600
TZOFFSETTO:-0500
TZNAME:CDT
DTSTART:20160313T080000
END:DAYLIGHT
BEGIN:STANDARD
TZOFFSETFROM:-0500
TZOFFSETTO:-0600
TZNAME:CST
DTSTART:20161106T070000
END:STANDARD
BEGIN:DAYLIGHT
TZOFFSETFROM:-0600
TZOFFSETTO:-0500
TZNAME:CDT
DTSTART:20170312T080000
END:DAYLIGHT
BEGIN:STANDARD
TZOFFSETFROM:-0500
TZOFFSETTO:-0600
TZNAME:CST
DTSTART:20171105T070000
END:STANDARD
BEGIN:DAYLIGHT
TZOFFSETFROM:-0600
TZOFFSETTO:-0500
TZNAME:CDT
DTSTART:20180311T080000
END:DAYLIGHT
BEGIN:STANDARD
TZOFFSETFROM:-0500
TZOFFSETTO:-0600
TZNAME:CST
DTSTART:20181104T070000
END:STANDARD
BEGIN:DAYLIGHT
TZOFFSETFROM:-0600
TZOFFSETTO:-0500
TZNAME:CDT
DTSTART:20190310T080000
END:DAYLIGHT
BEGIN:STANDARD
TZOFFSETFROM:-0500
TZOFFSETTO:-0600
TZNAME:CST
DTSTART:20191103T070000
END:STANDARD
BEGIN:DAYLIGHT
TZOFFSETFROM:-0600
TZOFFSETTO:-0500
TZNAME:CDT
DTSTART:20200308T080000
END:DAYLIGHT
BEGIN:STANDARD
TZOFFSETFROM:-0500
TZOFFSETTO:-0600
TZNAME:CST
DTSTART:20201101T070000
END:STANDARD
BEGIN:DAYLIGHT
TZOFFSETFROM:-0600
TZOFFSETTO:-0500
TZNAME:CDT
DTSTART:20210314T080000
END:DAYLIGHT
BEGIN:STANDARD
TZOFFSETFROM:-0500
TZOFFSETTO:-0600
TZNAME:CST
DTSTART:20211107T070000
END:STANDARD
BEGIN:DAYLIGHT
TZOFFSETFROM:-0600
TZOFFSETTO:-0500
TZNAME:CDT
DTSTART:20220313T080000
END:DAYLIGHT
BEGIN:STANDARD
TZOFFSETFROM:-0500
TZOFFSETTO:-0600
TZNAME:CST
DTSTART:20221106T070000
END:STANDARD
BEGIN:DAYLIGHT
TZOFFSETFROM:-0600
TZOFFSETTO:-0500
TZNAME:CDT
DTSTART:20230312T080000
END:DAYLIGHT
BEGIN:STANDARD
TZOFFSETFROM:-0500
TZOFFSETTO:-0600
TZNAME:CST
DTSTART:20231105T070000
END:STANDARD
BEGIN:DAYLIGHT
TZOFFSETFROM:-0600
TZOFFSETTO:-0500
TZNAME:CDT
DTSTART:20240310T080000
END:DAYLIGHT
BEGIN:STANDARD
TZOFFSETFROM:-0500
TZOFFSETTO:-0600
TZNAME:CST
DTSTART:20241103T070000
END:STANDARD
BEGIN:DAYLIGHT
TZOFFSETFROM:-0600
TZOFFSETTO:-0500
TZNAME:CDT
DTSTART:20250309T080000
END:DAYLIGHT
BEGIN:STANDARD
TZOFFSETFROM:-0500
TZOFFSETTO:-0600
TZNAME:CST
DTSTART:20251102T070000
END:STANDARD
BEGIN:DAYLIGHT
TZOFFSETFROM:-0600
TZOFFSETTO:-0500
TZNAME:CDT
DTSTART:20260308T080000
END:DAYLIGHT
BEGIN:STANDARD
TZOFFSETFROM:-0500
TZOFFSETTO:-0600
TZNAME:CST
DTSTART:20261101T070000
END:STANDARD
END:VTIMEZONE
BEGIN:VEVENT
DTSTART;TZID=America/Chicago:20251109T090000
DTEND;TZID=America/Chicago:20251109T103000
DTSTAMP:20260424T000441
CREATED:20250718T114028Z
LAST-MODIFIED:20251109T181856Z
UID:10002379-1762678800-1762684200@www.racetime.info
SUMMARY:Veteran's 5K Run and 1 Mile Fitness Walk
DESCRIPTION:Veterans 5K Age Group Results\n\nVeterans 5K Overall Results
URL:https://www.racetime.info/event/veterans-5k-run-and-1-mile-fitness-walk-2/
LOCATION:Mayfair Park\, 10835 Wakefield\, Westchester\, IL\, 60154\, United States
CATEGORIES:2025-11 Results (November)
ORGANIZER;CN="Lianne Robinette":MAILTO:liannerobinette@comcast.net
END:VEVENT
BEGIN:VEVENT
DTSTART;TZID=America/Chicago:20241110T090000
DTEND;TZID=America/Chicago:20241110T103000
DTSTAMP:20260424T000441
CREATED:20230817T125824Z
LAST-MODIFIED:20241110T182759Z
UID:10002201-1731229200-1731234600@www.racetime.info
SUMMARY:Veteran's 5K Run and 1 Mile Fitness Walk
DESCRIPTION:Veterans 1 Mile Overall Results\n\nVeterans 5K Overall Results
URL:https://www.racetime.info/event/copy-of-veterans-5k-run-and-1-mile-fitness-walk/
LOCATION:Mayfair Park\, 10835 Wakefield\, Westchester\, IL\, 60154\, United States
CATEGORIES:2024-11 Results (November)
ORGANIZER;CN="Lianne Robinette":MAILTO:liannerobinette@comcast.net
END:VEVENT
BEGIN:VEVENT
DTSTART;TZID=America/Chicago:20231112T090000
DTEND;TZID=America/Chicago:20231112T103000
DTSTAMP:20260424T000441
CREATED:20230817T125824Z
LAST-MODIFIED:20231112T213203Z
UID:10002199-1699779600-1699785000@www.racetime.info
SUMMARY:Veteran's 5K Run and 1 Mile Fitness Walk
DESCRIPTION:Veterans 5K Overall Results
URL:https://www.racetime.info/event/veterans-5k-run-and-1-mile-fitness-walk/
LOCATION:Mayfair Park\, 10835 Wakefield\, Westchester\, IL\, 60154\, United States
CATEGORIES:2023-11 Results (November)
ORGANIZER;CN="Lianne Robinette":MAILTO:liannerobinette@comcast.net
END:VEVENT
BEGIN:VEVENT
DTSTART;TZID=America/Chicago:20150913T090000
DTEND;TZID=America/Chicago:20150913T110000
DTSTAMP:20260424T000441
CREATED:20150901T172714Z
LAST-MODIFIED:20150913T201902Z
UID:10000391-1442134800-1442142000@www.racetime.info
SUMMARY:Westchester Patriot Day Color Run 5K\, 1 Mile Walk & Kids Run
DESCRIPTION:Patriots Color 5K Run Overall Results
URL:https://www.racetime.info/event/westchester-patriot-day-color-run-5k-1-mile-walk-kids-run/
LOCATION:Westchester Park District\, 10835 Wakefield Avenue\, Westchester\, IL\, 60154\, United States
CATEGORIES:2015-09 Results (September)
ORGANIZER;CN="Lianne Robinette":MAILTO:liannerobinette@comcast.net
GEO:41.8389059;-87.8924797
X-APPLE-STRUCTURED-LOCATION;VALUE=URI;X-ADDRESS=Westchester Park District 10835 Wakefield Avenue Westchester IL 60154 United States;X-APPLE-RADIUS=500;X-TITLE=10835 Wakefield Avenue:geo:-87.8924797,41.8389059
END:VEVENT
END:VCALENDAR