BEGIN:VCALENDAR
VERSION:2.0
PRODID:-//Race Time - ECPv6.15.13//NONSGML v1.0//EN
CALSCALE:GREGORIAN
METHOD:PUBLISH
X-ORIGINAL-URL:https://www.racetime.info
X-WR-CALDESC:Events for Race Time
REFRESH-INTERVAL;VALUE=DURATION:PT1H
X-Robots-Tag:noindex
X-PUBLISHED-TTL:PT1H
BEGIN:VTIMEZONE
TZID:America/Chicago
BEGIN:DAYLIGHT
TZOFFSETFROM:-0600
TZOFFSETTO:-0500
TZNAME:CDT
DTSTART:20150308T080000
END:DAYLIGHT
BEGIN:STANDARD
TZOFFSETFROM:-0500
TZOFFSETTO:-0600
TZNAME:CST
DTSTART:20151101T070000
END:STANDARD
BEGIN:DAYLIGHT
TZOFFSETFROM:-0600
TZOFFSETTO:-0500
TZNAME:CDT
DTSTART:20160313T080000
END:DAYLIGHT
BEGIN:STANDARD
TZOFFSETFROM:-0500
TZOFFSETTO:-0600
TZNAME:CST
DTSTART:20161106T070000
END:STANDARD
BEGIN:DAYLIGHT
TZOFFSETFROM:-0600
TZOFFSETTO:-0500
TZNAME:CDT
DTSTART:20170312T080000
END:DAYLIGHT
BEGIN:STANDARD
TZOFFSETFROM:-0500
TZOFFSETTO:-0600
TZNAME:CST
DTSTART:20171105T070000
END:STANDARD
END:VTIMEZONE
BEGIN:VEVENT
DTSTART;TZID=America/Chicago:20161203T100000
DTEND;TZID=America/Chicago:20161203T110000
DTSTAMP:20260424T012521
CREATED:20160712T172822Z
LAST-MODIFIED:20161206T125347Z
UID:10000710-1480759200-1480762800@www.racetime.info
SUMMARY:Rotary Santa 5K Run/1 Mile Walk & Youth Reindeer Romp
DESCRIPTION:Rotary Santa 5K Age Group Results\n\nRotary Santa 5K Overall Results
URL:https://www.racetime.info/event/rotary-santa-5k-run1-mile-walk-youth-reindeer-romp/
LOCATION:Metropolis Performing Arts Centre\, 111 West Campbell Street\, Arlington Heights\, IL\, 60004\, United States
CATEGORIES:2016-12 Results (December)
ORGANIZER;CN="Linda Borton":MAILTO:bortonsobon@att.net
GEO:42.0826171;-87.9847672
X-APPLE-STRUCTURED-LOCATION;VALUE=URI;X-ADDRESS=Metropolis Performing Arts Centre 111 West Campbell Street Arlington Heights IL 60004 United States;X-APPLE-RADIUS=500;X-TITLE=111 West Campbell Street:geo:-87.9847672,42.0826171
END:VEVENT
END:VCALENDAR