BEGIN:VCALENDAR
VERSION:2.0
PRODID:-//Race Time - ECPv6.15.13//NONSGML v1.0//EN
CALSCALE:GREGORIAN
METHOD:PUBLISH
X-WR-CALNAME:Race Time
X-ORIGINAL-URL:https://www.racetime.info
X-WR-CALDESC:Events for Race Time
REFRESH-INTERVAL;VALUE=DURATION:PT1H
X-Robots-Tag:noindex
X-PUBLISHED-TTL:PT1H
BEGIN:VTIMEZONE
TZID:America/Chicago
BEGIN:DAYLIGHT
TZOFFSETFROM:-0600
TZOFFSETTO:-0500
TZNAME:CDT
DTSTART:20180311T080000
END:DAYLIGHT
BEGIN:STANDARD
TZOFFSETFROM:-0500
TZOFFSETTO:-0600
TZNAME:CST
DTSTART:20181104T070000
END:STANDARD
BEGIN:DAYLIGHT
TZOFFSETFROM:-0600
TZOFFSETTO:-0500
TZNAME:CDT
DTSTART:20190310T080000
END:DAYLIGHT
BEGIN:STANDARD
TZOFFSETFROM:-0500
TZOFFSETTO:-0600
TZNAME:CST
DTSTART:20191103T070000
END:STANDARD
BEGIN:DAYLIGHT
TZOFFSETFROM:-0600
TZOFFSETTO:-0500
TZNAME:CDT
DTSTART:20200308T080000
END:DAYLIGHT
BEGIN:STANDARD
TZOFFSETFROM:-0500
TZOFFSETTO:-0600
TZNAME:CST
DTSTART:20201101T070000
END:STANDARD
BEGIN:DAYLIGHT
TZOFFSETFROM:-0600
TZOFFSETTO:-0500
TZNAME:CDT
DTSTART:20210314T080000
END:DAYLIGHT
BEGIN:STANDARD
TZOFFSETFROM:-0500
TZOFFSETTO:-0600
TZNAME:CST
DTSTART:20211107T070000
END:STANDARD
BEGIN:DAYLIGHT
TZOFFSETFROM:-0600
TZOFFSETTO:-0500
TZNAME:CDT
DTSTART:20220313T080000
END:DAYLIGHT
BEGIN:STANDARD
TZOFFSETFROM:-0500
TZOFFSETTO:-0600
TZNAME:CST
DTSTART:20221106T070000
END:STANDARD
BEGIN:DAYLIGHT
TZOFFSETFROM:-0600
TZOFFSETTO:-0500
TZNAME:CDT
DTSTART:20230312T080000
END:DAYLIGHT
BEGIN:STANDARD
TZOFFSETFROM:-0500
TZOFFSETTO:-0600
TZNAME:CST
DTSTART:20231105T070000
END:STANDARD
BEGIN:DAYLIGHT
TZOFFSETFROM:-0600
TZOFFSETTO:-0500
TZNAME:CDT
DTSTART:20240310T080000
END:DAYLIGHT
BEGIN:STANDARD
TZOFFSETFROM:-0500
TZOFFSETTO:-0600
TZNAME:CST
DTSTART:20241103T070000
END:STANDARD
BEGIN:DAYLIGHT
TZOFFSETFROM:-0600
TZOFFSETTO:-0500
TZNAME:CDT
DTSTART:20250309T080000
END:DAYLIGHT
BEGIN:STANDARD
TZOFFSETFROM:-0500
TZOFFSETTO:-0600
TZNAME:CST
DTSTART:20251102T070000
END:STANDARD
BEGIN:DAYLIGHT
TZOFFSETFROM:-0600
TZOFFSETTO:-0500
TZNAME:CDT
DTSTART:20260308T080000
END:DAYLIGHT
BEGIN:STANDARD
TZOFFSETFROM:-0500
TZOFFSETTO:-0600
TZNAME:CST
DTSTART:20261101T070000
END:STANDARD
END:VTIMEZONE
BEGIN:VEVENT
DTSTART;TZID=America/Chicago:20251127T090000
DTEND;TZID=America/Chicago:20251127T103000
DTSTAMP:20260423T225513
CREATED:20251123T124251Z
LAST-MODIFIED:20251127T175736Z
UID:10002451-1764234000-1764239400@www.racetime.info
SUMMARY:Wauconda Turkey Trot 4 Mile Run and 2 Mile Walk
DESCRIPTION:Wauconda Turkey Trot 4 Mile Age Group Results\n\nWauconda Turkey Trot 4 Mile Overall Results
URL:https://www.racetime.info/event/wauconda-turkey-trot-4-mile-run-and-2-mile-walk-3/
LOCATION:Wauconda Bangs Lake\, 118 South Main Street\, Wauconda\, IL\, 60084\, United States
CATEGORIES:2025-11 Results (November)
ORGANIZER;CN="Linda Starkey":MAILTO:lindakaystarkey@gmail.com
END:VEVENT
BEGIN:VEVENT
DTSTART;TZID=America/Chicago:20241128T090000
DTEND;TZID=America/Chicago:20241128T103000
DTSTAMP:20260423T225513
CREATED:20191112T131829Z
LAST-MODIFIED:20241128T190610Z
UID:10001933-1732784400-1732789800@www.racetime.info
SUMMARY:Wauconda Turkey Trot 4 Mile Run and 2 Mile Walk
DESCRIPTION:Wauconda Turkey Trot 4 Mile Age Group Results\n\nWauconda Turkey Trot 4 Mile Overall Results
URL:https://www.racetime.info/event/copy-of-wauconda-turkey-trot-4-mile-run-and-2-mile-walk-3/
LOCATION:Wauconda Bangs Lake\, 118 South Main Street\, Wauconda\, IL\, 60084\, United States
CATEGORIES:2024-11 Results (November)
ORGANIZER;CN="Linda Starkey":MAILTO:lindakaystarkey@gmail.com
END:VEVENT
BEGIN:VEVENT
DTSTART;TZID=America/Chicago:20231123T090000
DTEND;TZID=America/Chicago:20231123T103000
DTSTAMP:20260423T225513
CREATED:20191112T131829Z
LAST-MODIFIED:20231123T193730Z
UID:10001932-1700730000-1700735400@www.racetime.info
SUMMARY:Wauconda Turkey Trot 4 Mile Run and 2 Mile Walk
DESCRIPTION:Wauconda Turkey Trot 4 Mile Age Group Results\n\nWauconda Turkey Trot 4 Mile Overall Results
URL:https://www.racetime.info/event/copy-of-wauconda-turkey-trot-4-mile-run-and-2-mile-walk-2/
LOCATION:Wauconda Bangs Lake\, 118 South Main Street\, Wauconda\, IL\, 60084\, United States
CATEGORIES:2023-11 Results (November)
ORGANIZER;CN="Linda Starkey":MAILTO:lindakaystarkey@gmail.com
END:VEVENT
BEGIN:VEVENT
DTSTART;TZID=America/Chicago:20221124T090000
DTEND;TZID=America/Chicago:20221124T103000
DTSTAMP:20260423T225513
CREATED:20191112T131829Z
LAST-MODIFIED:20221124T184930Z
UID:10001931-1669280400-1669285800@www.racetime.info
SUMMARY:Wauconda Turkey Trot 4 Mile Run and 2 Mile Walk
DESCRIPTION:Wauconda Turkey Trot 4 Mile Age Group Results\n\nWauconda Turkey Trot 4 Mile Overall Results
URL:https://www.racetime.info/event/copy-of-wauconda-turkey-trot-4-mile-run-and-2-mile-walk/
LOCATION:Wauconda Bangs Lake\, 118 South Main Street\, Wauconda\, IL\, 60084\, United States
CATEGORIES:2022-11 Results (November)
ORGANIZER;CN="Linda Starkey":MAILTO:lindakaystarkey@gmail.com
END:VEVENT
BEGIN:VEVENT
DTSTART;TZID=America/Chicago:20211125T091500
DTEND;TZID=America/Chicago:20211125T110000
DTSTAMP:20260423T225513
CREATED:20191112T131829Z
LAST-MODIFIED:20211125T192443Z
UID:10001930-1637831700-1637838000@www.racetime.info
SUMMARY:Wauconda Turkey Trot 4 Mile Run and 2 Mile Walk
DESCRIPTION:Wauconda Turkey Trot 4 Mile Age Group Results\n\nWauconda Turkey Trot 4 Mile Overall Results
URL:https://www.racetime.info/event/wauconda-turkey-trot-4-mile-run-and-2-mile-walk-2/
LOCATION:Wauconda Bangs Lake\, 118 South Main Street\, Wauconda\, IL\, 60084\, United States
CATEGORIES:2021-11 Results (November)
ORGANIZER;CN="Linda Starkey":MAILTO:lindakaystarkey@gmail.com
END:VEVENT
BEGIN:VEVENT
DTSTART;TZID=America/Chicago:20191128T091500
DTEND;TZID=America/Chicago:20191128T110000
DTSTAMP:20260423T225513
CREATED:20191112T131829Z
LAST-MODIFIED:20191130T114719Z
UID:10001929-1574932500-1574938800@www.racetime.info
SUMMARY:Wauconda Turkey Trot 4 Mile Run and 2 Mile Walk
DESCRIPTION:Wauconda Turkey Trot 4 Mile Age Group Results 1\n\nWauconda Turkey Trot 4 Mile Overall Results 1
URL:https://www.racetime.info/event/wauconda-turkey-trot-4-mile-run-and-2-mile-walk/
LOCATION:Wauconda Bangs Lake\, 118 South Main Street\, Wauconda\, IL\, 60084\, United States
CATEGORIES:2019-11 Results (November)
ORGANIZER;CN="Linda Starkey":MAILTO:lindakaystarkey@gmail.com
END:VEVENT
END:VCALENDAR